BEGIN:VCALENDAR
VERSION:2.0
PRODID:-//Waverly Presbyterian Church - ECPv6.15.20//NONSGML v1.0//EN
CALSCALE:GREGORIAN
METHOD:PUBLISH
X-ORIGINAL-URL:https://waverlychurch.org
X-WR-CALDESC:Events for Waverly Presbyterian Church
REFRESH-INTERVAL;VALUE=DURATION:PT1H
X-Robots-Tag:noindex
X-PUBLISHED-TTL:PT1H
BEGIN:VTIMEZONE
TZID:America/New_York
BEGIN:DAYLIGHT
TZOFFSETFROM:-0500
TZOFFSETTO:-0400
TZNAME:EDT
DTSTART:20270314T070000
END:DAYLIGHT
BEGIN:STANDARD
TZOFFSETFROM:-0400
TZOFFSETTO:-0500
TZNAME:EST
DTSTART:20271107T060000
END:STANDARD
BEGIN:DAYLIGHT
TZOFFSETFROM:-0500
TZOFFSETTO:-0400
TZNAME:EDT
DTSTART:20280312T070000
END:DAYLIGHT
BEGIN:STANDARD
TZOFFSETFROM:-0400
TZOFFSETTO:-0500
TZNAME:EST
DTSTART:20281105T060000
END:STANDARD
BEGIN:DAYLIGHT
TZOFFSETFROM:-0500
TZOFFSETTO:-0400
TZNAME:EDT
DTSTART:20290311T070000
END:DAYLIGHT
BEGIN:STANDARD
TZOFFSETFROM:-0400
TZOFFSETTO:-0500
TZNAME:EST
DTSTART:20291104T060000
END:STANDARD
END:VTIMEZONE
BEGIN:VEVENT
DTSTART;TZID=America/New_York:20280330T190000
DTEND;TZID=America/New_York:20280330T203000
DTSTAMP:20260421T162643
CREATED:20251125T183555Z
LAST-MODIFIED:20251125T183747Z
UID:10132455-1838055600-1838061000@waverlychurch.org
SUMMARY:Choir Rehearsal in Lounge
DESCRIPTION:
URL:https://waverlychurch.org/event/choir-rehearsal-in-lounge/2028-03-30/
LOCATION:Lounge
END:VEVENT
BEGIN:VEVENT
DTSTART;TZID=America/New_York:20280401T110000
DTEND;TZID=America/New_York:20280401T143000
DTSTAMP:20260421T162643
CREATED:20251125T184526Z
LAST-MODIFIED:20251125T184526Z
UID:10132883-1838199600-1838212200@waverlychurch.org
SUMMARY:East End N.A. Business Meeting/Social Hall
DESCRIPTION:
URL:https://waverlychurch.org/event/east-end-n-a-business-meeting-social-hall/2028-04-01/
END:VEVENT
BEGIN:VEVENT
DTSTART;TZID=America/New_York:20280402T093000
DTEND;TZID=America/New_York:20280402T100000
DTSTAMP:20260421T162643
CREATED:20251125T184126Z
LAST-MODIFIED:20251125T184126Z
UID:10132716-1838280600-1838282400@waverlychurch.org
SUMMARY:Choir Rehearsal in Sanctuary
DESCRIPTION:
URL:https://waverlychurch.org/event/choir-rehearsal-in-sanctuary/2028-04-02/
END:VEVENT
BEGIN:VEVENT
DTSTART;TZID=America/New_York:20280402T100000
DTEND;TZID=America/New_York:20280402T105500
DTSTAMP:20260421T162643
CREATED:20260305T170350Z
LAST-MODIFIED:20260305T170351Z
UID:10007279-1838282400-1838285700@waverlychurch.org
SUMMARY:Sunday School
DESCRIPTION:All ages are welcome to join us each week for Sunday School in the following locations: \nChildren up through 1st grade: nursery (downstairs\, right side of front entrance – ring bell to enter) \nChildren and Youth 2nd grade through 12th grade in the “Wonka Room” – room off of our lower floor Social Hall. \nAdults: lounge (upstairs in back of church)
URL:https://waverlychurch.org/event/sunday-school-3-2-2-2-2-2-2-2/2028-04-02/
END:VEVENT
BEGIN:VEVENT
DTSTART;TZID=America/New_York:20280402T110000
DTEND;TZID=America/New_York:20280402T121500
DTSTAMP:20260421T162643
CREATED:20250923T171614Z
LAST-MODIFIED:20250923T171615Z
UID:10007847-1838286000-1838290500@waverlychurch.org
SUMMARY:Worship Service
DESCRIPTION:We meet on Sundays in our Sanctuary at 11am during the school year and stream services online. \nSunday’s worship service will be live-streamed over our Facebook page on Sunday mornings. \n \nhttps://www.facebook.com/pg/WaverlyChurch/videos/
URL:https://waverlychurch.org/event/worship-service-5-2-2/2028-04-02/
END:VEVENT
BEGIN:VEVENT
DTSTART;TZID=America/New_York:20280402T121500
DTEND;TZID=America/New_York:20280402T133000
DTSTAMP:20260421T162643
CREATED:20260305T165302Z
LAST-MODIFIED:20260305T170242Z
UID:10006763-1838290500-1838295000@waverlychurch.org
SUMMARY:Coffee Hour
DESCRIPTION:Join us after service weekly for a chance to share fellowship over coffee and snacks
URL:https://waverlychurch.org/event/coffee-hour-3-2-2-2-2-2/2028-04-02/
LOCATION:Lounge
END:VEVENT
BEGIN:VEVENT
DTSTART;TZID=America/New_York:20280403T090000
DTEND;TZID=America/New_York:20280403T200000
DTSTAMP:20260421T162643
CREATED:20251030T152456Z
LAST-MODIFIED:20251030T152456Z
UID:10131976-1838365200-1838404800@waverlychurch.org
SUMMARY:Guitar Lessons
DESCRIPTION:ian@cainsmusiclessons.com
URL:https://waverlychurch.org/event/guitar-lessons/2028-04-03/
LOCATION:Frog Room
END:VEVENT
BEGIN:VEVENT
DTSTART;TZID=America/New_York:20280405T090000
DTEND;TZID=America/New_York:20280405T200000
DTSTAMP:20260421T162643
CREATED:20251030T152456Z
LAST-MODIFIED:20251030T152456Z
UID:10131977-1838538000-1838577600@waverlychurch.org
SUMMARY:Guitar Lessons
DESCRIPTION:ian@cainsmusiclessons.com
URL:https://waverlychurch.org/event/guitar-lessons/2028-04-05/
LOCATION:Frog Room
END:VEVENT
BEGIN:VEVENT
DTSTART;TZID=America/New_York:20280406T190000
DTEND;TZID=America/New_York:20280406T203000
DTSTAMP:20260421T162643
CREATED:20251125T183555Z
LAST-MODIFIED:20251125T183747Z
UID:10132456-1838660400-1838665800@waverlychurch.org
SUMMARY:Choir Rehearsal in Lounge
DESCRIPTION:
URL:https://waverlychurch.org/event/choir-rehearsal-in-lounge/2028-04-06/
LOCATION:Lounge
END:VEVENT
BEGIN:VEVENT
DTSTART;TZID=America/New_York:20280409T093000
DTEND;TZID=America/New_York:20280409T100000
DTSTAMP:20260421T162643
CREATED:20251125T184126Z
LAST-MODIFIED:20251125T184126Z
UID:10132717-1838885400-1838887200@waverlychurch.org
SUMMARY:Choir Rehearsal in Sanctuary
DESCRIPTION:
URL:https://waverlychurch.org/event/choir-rehearsal-in-sanctuary/2028-04-09/
END:VEVENT
BEGIN:VEVENT
DTSTART;TZID=America/New_York:20280409T100000
DTEND;TZID=America/New_York:20280409T105500
DTSTAMP:20260421T162643
CREATED:20260305T170350Z
LAST-MODIFIED:20260305T170351Z
UID:10007280-1838887200-1838890500@waverlychurch.org
SUMMARY:Sunday School
DESCRIPTION:All ages are welcome to join us each week for Sunday School in the following locations: \nChildren up through 1st grade: nursery (downstairs\, right side of front entrance – ring bell to enter) \nChildren and Youth 2nd grade through 12th grade in the “Wonka Room” – room off of our lower floor Social Hall. \nAdults: lounge (upstairs in back of church)
URL:https://waverlychurch.org/event/sunday-school-3-2-2-2-2-2-2-2/2028-04-09/
END:VEVENT
BEGIN:VEVENT
DTSTART;TZID=America/New_York:20280409T110000
DTEND;TZID=America/New_York:20280409T121500
DTSTAMP:20260421T162643
CREATED:20250923T171614Z
LAST-MODIFIED:20250923T171615Z
UID:10007848-1838890800-1838895300@waverlychurch.org
SUMMARY:Worship Service
DESCRIPTION:We meet on Sundays in our Sanctuary at 11am during the school year and stream services online. \nSunday’s worship service will be live-streamed over our Facebook page on Sunday mornings. \n \nhttps://www.facebook.com/pg/WaverlyChurch/videos/
URL:https://waverlychurch.org/event/worship-service-5-2-2/2028-04-09/
END:VEVENT
BEGIN:VEVENT
DTSTART;TZID=America/New_York:20280409T121500
DTEND;TZID=America/New_York:20280409T133000
DTSTAMP:20260421T162643
CREATED:20260305T165302Z
LAST-MODIFIED:20260305T170242Z
UID:10006764-1838895300-1838899800@waverlychurch.org
SUMMARY:Coffee Hour
DESCRIPTION:Join us after service weekly for a chance to share fellowship over coffee and snacks
URL:https://waverlychurch.org/event/coffee-hour-3-2-2-2-2-2/2028-04-09/
LOCATION:Lounge
END:VEVENT
BEGIN:VEVENT
DTSTART;TZID=America/New_York:20280410T090000
DTEND;TZID=America/New_York:20280410T200000
DTSTAMP:20260421T162643
CREATED:20251030T152456Z
LAST-MODIFIED:20251030T152456Z
UID:10131978-1838970000-1839009600@waverlychurch.org
SUMMARY:Guitar Lessons
DESCRIPTION:ian@cainsmusiclessons.com
URL:https://waverlychurch.org/event/guitar-lessons/2028-04-10/
LOCATION:Frog Room
END:VEVENT
BEGIN:VEVENT
DTSTART;TZID=America/New_York:20280410T190000
DTEND;TZID=America/New_York:20280410T203000
DTSTAMP:20260421T162643
CREATED:20251125T185647Z
LAST-MODIFIED:20251125T185647Z
UID:10132943-1839006000-1839011400@waverlychurch.org
SUMMARY:Amnesty Meeting-Social Hall
DESCRIPTION:
URL:https://waverlychurch.org/event/amnesty-meeting-social-hall/2028-04-10/
END:VEVENT
BEGIN:VEVENT
DTSTART;TZID=America/New_York:20280412T090000
DTEND;TZID=America/New_York:20280412T200000
DTSTAMP:20260421T162643
CREATED:20251030T152456Z
LAST-MODIFIED:20251030T152456Z
UID:10131979-1839142800-1839182400@waverlychurch.org
SUMMARY:Guitar Lessons
DESCRIPTION:ian@cainsmusiclessons.com
URL:https://waverlychurch.org/event/guitar-lessons/2028-04-12/
LOCATION:Frog Room
END:VEVENT
BEGIN:VEVENT
DTSTART;TZID=America/New_York:20280413T190000
DTEND;TZID=America/New_York:20280413T203000
DTSTAMP:20260421T162643
CREATED:20251125T183555Z
LAST-MODIFIED:20251125T183747Z
UID:10132457-1839265200-1839270600@waverlychurch.org
SUMMARY:Choir Rehearsal in Lounge
DESCRIPTION:
URL:https://waverlychurch.org/event/choir-rehearsal-in-lounge/2028-04-13/
LOCATION:Lounge
END:VEVENT
BEGIN:VEVENT
DTSTART;TZID=America/New_York:20280416T093000
DTEND;TZID=America/New_York:20280416T100000
DTSTAMP:20260421T162643
CREATED:20251125T184126Z
LAST-MODIFIED:20251125T184126Z
UID:10132718-1839490200-1839492000@waverlychurch.org
SUMMARY:Choir Rehearsal in Sanctuary
DESCRIPTION:
URL:https://waverlychurch.org/event/choir-rehearsal-in-sanctuary/2028-04-16/
END:VEVENT
BEGIN:VEVENT
DTSTART;TZID=America/New_York:20280416T100000
DTEND;TZID=America/New_York:20280416T105500
DTSTAMP:20260421T162643
CREATED:20260305T170350Z
LAST-MODIFIED:20260305T170351Z
UID:10007281-1839492000-1839495300@waverlychurch.org
SUMMARY:Sunday School
DESCRIPTION:All ages are welcome to join us each week for Sunday School in the following locations: \nChildren up through 1st grade: nursery (downstairs\, right side of front entrance – ring bell to enter) \nChildren and Youth 2nd grade through 12th grade in the “Wonka Room” – room off of our lower floor Social Hall. \nAdults: lounge (upstairs in back of church)
URL:https://waverlychurch.org/event/sunday-school-3-2-2-2-2-2-2-2/2028-04-16/
END:VEVENT
BEGIN:VEVENT
DTSTART;TZID=America/New_York:20280416T110000
DTEND;TZID=America/New_York:20280416T121500
DTSTAMP:20260421T162643
CREATED:20250923T171614Z
LAST-MODIFIED:20250923T171615Z
UID:10007849-1839495600-1839500100@waverlychurch.org
SUMMARY:Worship Service
DESCRIPTION:We meet on Sundays in our Sanctuary at 11am during the school year and stream services online. \nSunday’s worship service will be live-streamed over our Facebook page on Sunday mornings. \n \nhttps://www.facebook.com/pg/WaverlyChurch/videos/
URL:https://waverlychurch.org/event/worship-service-5-2-2/2028-04-16/
END:VEVENT
BEGIN:VEVENT
DTSTART;TZID=America/New_York:20280416T121500
DTEND;TZID=America/New_York:20280416T133000
DTSTAMP:20260421T162643
CREATED:20260305T165302Z
LAST-MODIFIED:20260305T170242Z
UID:10006765-1839500100-1839504600@waverlychurch.org
SUMMARY:Coffee Hour
DESCRIPTION:Join us after service weekly for a chance to share fellowship over coffee and snacks
URL:https://waverlychurch.org/event/coffee-hour-3-2-2-2-2-2/2028-04-16/
LOCATION:Lounge
END:VEVENT
BEGIN:VEVENT
DTSTART;TZID=America/New_York:20280417T090000
DTEND;TZID=America/New_York:20280417T200000
DTSTAMP:20260421T162643
CREATED:20251030T152456Z
LAST-MODIFIED:20251030T152456Z
UID:10131980-1839574800-1839614400@waverlychurch.org
SUMMARY:Guitar Lessons
DESCRIPTION:ian@cainsmusiclessons.com
URL:https://waverlychurch.org/event/guitar-lessons/2028-04-17/
LOCATION:Frog Room
END:VEVENT
BEGIN:VEVENT
DTSTART;TZID=America/New_York:20280419T090000
DTEND;TZID=America/New_York:20280419T200000
DTSTAMP:20260421T162643
CREATED:20251030T152456Z
LAST-MODIFIED:20251030T152456Z
UID:10131981-1839747600-1839787200@waverlychurch.org
SUMMARY:Guitar Lessons
DESCRIPTION:ian@cainsmusiclessons.com
URL:https://waverlychurch.org/event/guitar-lessons/2028-04-19/
LOCATION:Frog Room
END:VEVENT
BEGIN:VEVENT
DTSTART;TZID=America/New_York:20280420T190000
DTEND;TZID=America/New_York:20280420T203000
DTSTAMP:20260421T162643
CREATED:20251125T183555Z
LAST-MODIFIED:20251125T183747Z
UID:10132458-1839870000-1839875400@waverlychurch.org
SUMMARY:Choir Rehearsal in Lounge
DESCRIPTION:
URL:https://waverlychurch.org/event/choir-rehearsal-in-lounge/2028-04-20/
LOCATION:Lounge
END:VEVENT
BEGIN:VEVENT
DTSTART;TZID=America/New_York:20280423T093000
DTEND;TZID=America/New_York:20280423T100000
DTSTAMP:20260421T162643
CREATED:20251125T184126Z
LAST-MODIFIED:20251125T184126Z
UID:10132719-1840095000-1840096800@waverlychurch.org
SUMMARY:Choir Rehearsal in Sanctuary
DESCRIPTION:
URL:https://waverlychurch.org/event/choir-rehearsal-in-sanctuary/2028-04-23/
END:VEVENT
BEGIN:VEVENT
DTSTART;TZID=America/New_York:20280423T100000
DTEND;TZID=America/New_York:20280423T105500
DTSTAMP:20260421T162643
CREATED:20260305T170350Z
LAST-MODIFIED:20260305T170351Z
UID:10007282-1840096800-1840100100@waverlychurch.org
SUMMARY:Sunday School
DESCRIPTION:All ages are welcome to join us each week for Sunday School in the following locations: \nChildren up through 1st grade: nursery (downstairs\, right side of front entrance – ring bell to enter) \nChildren and Youth 2nd grade through 12th grade in the “Wonka Room” – room off of our lower floor Social Hall. \nAdults: lounge (upstairs in back of church)
URL:https://waverlychurch.org/event/sunday-school-3-2-2-2-2-2-2-2/2028-04-23/
END:VEVENT
BEGIN:VEVENT
DTSTART;TZID=America/New_York:20280423T110000
DTEND;TZID=America/New_York:20280423T121500
DTSTAMP:20260421T162643
CREATED:20250923T171614Z
LAST-MODIFIED:20250923T171615Z
UID:10007850-1840100400-1840104900@waverlychurch.org
SUMMARY:Worship Service
DESCRIPTION:We meet on Sundays in our Sanctuary at 11am during the school year and stream services online. \nSunday’s worship service will be live-streamed over our Facebook page on Sunday mornings. \n \nhttps://www.facebook.com/pg/WaverlyChurch/videos/
URL:https://waverlychurch.org/event/worship-service-5-2-2/2028-04-23/
END:VEVENT
BEGIN:VEVENT
DTSTART;TZID=America/New_York:20280423T121500
DTEND;TZID=America/New_York:20280423T133000
DTSTAMP:20260421T162643
CREATED:20260305T165302Z
LAST-MODIFIED:20260305T170242Z
UID:10006766-1840104900-1840109400@waverlychurch.org
SUMMARY:Coffee Hour
DESCRIPTION:Join us after service weekly for a chance to share fellowship over coffee and snacks
URL:https://waverlychurch.org/event/coffee-hour-3-2-2-2-2-2/2028-04-23/
LOCATION:Lounge
END:VEVENT
BEGIN:VEVENT
DTSTART;TZID=America/New_York:20280424T090000
DTEND;TZID=America/New_York:20280424T200000
DTSTAMP:20260421T162643
CREATED:20251030T152456Z
LAST-MODIFIED:20251030T152456Z
UID:10131982-1840179600-1840219200@waverlychurch.org
SUMMARY:Guitar Lessons
DESCRIPTION:ian@cainsmusiclessons.com
URL:https://waverlychurch.org/event/guitar-lessons/2028-04-24/
LOCATION:Frog Room
END:VEVENT
BEGIN:VEVENT
DTSTART;TZID=America/New_York:20280426T090000
DTEND;TZID=America/New_York:20280426T200000
DTSTAMP:20260421T162643
CREATED:20251030T152456Z
LAST-MODIFIED:20251030T152456Z
UID:10131983-1840352400-1840392000@waverlychurch.org
SUMMARY:Guitar Lessons
DESCRIPTION:ian@cainsmusiclessons.com
URL:https://waverlychurch.org/event/guitar-lessons/2028-04-26/
LOCATION:Frog Room
END:VEVENT
END:VCALENDAR