BEGIN:VCALENDAR
VERSION:2.0
PRODID:-//Waverly Presbyterian Church - ECPv6.15.20//NONSGML v1.0//EN
CALSCALE:GREGORIAN
METHOD:PUBLISH
X-ORIGINAL-URL:https://waverlychurch.org
X-WR-CALDESC:Events for Waverly Presbyterian Church
REFRESH-INTERVAL;VALUE=DURATION:PT1H
X-Robots-Tag:noindex
X-PUBLISHED-TTL:PT1H
BEGIN:VTIMEZONE
TZID:America/New_York
BEGIN:DAYLIGHT
TZOFFSETFROM:-0500
TZOFFSETTO:-0400
TZNAME:EDT
DTSTART:20270314T070000
END:DAYLIGHT
BEGIN:STANDARD
TZOFFSETFROM:-0400
TZOFFSETTO:-0500
TZNAME:EST
DTSTART:20271107T060000
END:STANDARD
BEGIN:DAYLIGHT
TZOFFSETFROM:-0500
TZOFFSETTO:-0400
TZNAME:EDT
DTSTART:20280312T070000
END:DAYLIGHT
BEGIN:STANDARD
TZOFFSETFROM:-0400
TZOFFSETTO:-0500
TZNAME:EST
DTSTART:20281105T060000
END:STANDARD
BEGIN:DAYLIGHT
TZOFFSETFROM:-0500
TZOFFSETTO:-0400
TZNAME:EDT
DTSTART:20290311T070000
END:DAYLIGHT
BEGIN:STANDARD
TZOFFSETFROM:-0400
TZOFFSETTO:-0500
TZNAME:EST
DTSTART:20291104T060000
END:STANDARD
BEGIN:DAYLIGHT
TZOFFSETFROM:-0500
TZOFFSETTO:-0400
TZNAME:EDT
DTSTART:20300310T070000
END:DAYLIGHT
BEGIN:STANDARD
TZOFFSETFROM:-0400
TZOFFSETTO:-0500
TZNAME:EST
DTSTART:20301103T060000
END:STANDARD
END:VTIMEZONE
BEGIN:VEVENT
DTSTART;TZID=America/New_York:20281220T090000
DTEND;TZID=America/New_York:20281220T200000
DTSTAMP:20260422T180644
CREATED:20251030T152456Z
LAST-MODIFIED:20251030T152456Z
UID:10132051-1860915600-1860955200@waverlychurch.org
SUMMARY:Guitar Lessons
DESCRIPTION:ian@cainsmusiclessons.com
URL:https://waverlychurch.org/event/guitar-lessons/2028-12-20/
LOCATION:Frog Room
END:VEVENT
BEGIN:VEVENT
DTSTART;TZID=America/New_York:20281221T190000
DTEND;TZID=America/New_York:20281221T203000
DTSTAMP:20260422T180644
CREATED:20251125T183555Z
LAST-MODIFIED:20251125T183747Z
UID:10132493-1861038000-1861043400@waverlychurch.org
SUMMARY:Choir Rehearsal in Lounge
DESCRIPTION:
URL:https://waverlychurch.org/event/choir-rehearsal-in-lounge/2028-12-21/
LOCATION:Lounge
END:VEVENT
BEGIN:VEVENT
DTSTART;TZID=America/New_York:20281224T093000
DTEND;TZID=America/New_York:20281224T100000
DTSTAMP:20260422T180644
CREATED:20251125T184126Z
LAST-MODIFIED:20251125T184126Z
UID:10132754-1861263000-1861264800@waverlychurch.org
SUMMARY:Choir Rehearsal in Sanctuary
DESCRIPTION:
URL:https://waverlychurch.org/event/choir-rehearsal-in-sanctuary/2028-12-24/
END:VEVENT
BEGIN:VEVENT
DTSTART;TZID=America/New_York:20281224T100000
DTEND;TZID=America/New_York:20281224T105500
DTSTAMP:20260422T180644
CREATED:20260305T170350Z
LAST-MODIFIED:20260305T170351Z
UID:10007317-1861264800-1861268100@waverlychurch.org
SUMMARY:Sunday School
DESCRIPTION:All ages are welcome to join us each week for Sunday School in the following locations: \nChildren up through 1st grade: nursery (downstairs\, right side of front entrance – ring bell to enter) \nChildren and Youth 2nd grade through 12th grade in the “Wonka Room” – room off of our lower floor Social Hall. \nAdults: lounge (upstairs in back of church)
URL:https://waverlychurch.org/event/sunday-school-3-2-2-2-2-2-2-2/2028-12-24/
END:VEVENT
BEGIN:VEVENT
DTSTART;TZID=America/New_York:20281224T110000
DTEND;TZID=America/New_York:20281224T121500
DTSTAMP:20260422T180644
CREATED:20250923T171614Z
LAST-MODIFIED:20250923T171615Z
UID:10007885-1861268400-1861272900@waverlychurch.org
SUMMARY:Worship Service
DESCRIPTION:We meet on Sundays in our Sanctuary at 11am during the school year and stream services online. \nSunday’s worship service will be live-streamed over our Facebook page on Sunday mornings. \n \nhttps://www.facebook.com/pg/WaverlyChurch/videos/
URL:https://waverlychurch.org/event/worship-service-5-2-2/2028-12-24/
END:VEVENT
BEGIN:VEVENT
DTSTART;TZID=America/New_York:20281224T121500
DTEND;TZID=America/New_York:20281224T133000
DTSTAMP:20260422T180644
CREATED:20260305T165302Z
LAST-MODIFIED:20260305T170242Z
UID:10007910-1861272900-1861277400@waverlychurch.org
SUMMARY:Coffee Hour
DESCRIPTION:Join us after service weekly for a chance to share fellowship over coffee and snacks
URL:https://waverlychurch.org/event/coffee-hour-3-2-2-2-2-2/2028-12-24/
LOCATION:Lounge
END:VEVENT
BEGIN:VEVENT
DTSTART;TZID=America/New_York:20281225T090000
DTEND;TZID=America/New_York:20281225T200000
DTSTAMP:20260422T180644
CREATED:20251030T152456Z
LAST-MODIFIED:20251030T152456Z
UID:10132052-1861347600-1861387200@waverlychurch.org
SUMMARY:Guitar Lessons
DESCRIPTION:ian@cainsmusiclessons.com
URL:https://waverlychurch.org/event/guitar-lessons/2028-12-25/
LOCATION:Frog Room
END:VEVENT
BEGIN:VEVENT
DTSTART;TZID=America/New_York:20281227T090000
DTEND;TZID=America/New_York:20281227T200000
DTSTAMP:20260422T180644
CREATED:20251030T152456Z
LAST-MODIFIED:20251030T152456Z
UID:10132053-1861520400-1861560000@waverlychurch.org
SUMMARY:Guitar Lessons
DESCRIPTION:ian@cainsmusiclessons.com
URL:https://waverlychurch.org/event/guitar-lessons/2028-12-27/
LOCATION:Frog Room
END:VEVENT
BEGIN:VEVENT
DTSTART;TZID=America/New_York:20281228T103000
DTEND;TZID=America/New_York:20281228T140000
DTSTAMP:20260422T180644
CREATED:20260324T153601Z
LAST-MODIFIED:20260324T153603Z
UID:10133099-1861612200-1861624800@waverlychurch.org
SUMMARY:Reiki with Bob Dove and Ross Marshall
DESCRIPTION:
URL:https://waverlychurch.org/event/reiki-with-bob-dove-and-ross-marshall-2-2/2028-12-28/
LOCATION:Social Hall
END:VEVENT
BEGIN:VEVENT
DTSTART;TZID=America/New_York:20281228T190000
DTEND;TZID=America/New_York:20281228T203000
DTSTAMP:20260422T180644
CREATED:20251125T183555Z
LAST-MODIFIED:20251125T183747Z
UID:10132494-1861642800-1861648200@waverlychurch.org
SUMMARY:Choir Rehearsal in Lounge
DESCRIPTION:
URL:https://waverlychurch.org/event/choir-rehearsal-in-lounge/2028-12-28/
LOCATION:Lounge
END:VEVENT
BEGIN:VEVENT
DTSTART;TZID=America/New_York:20281231T093000
DTEND;TZID=America/New_York:20281231T100000
DTSTAMP:20260422T180644
CREATED:20251125T184126Z
LAST-MODIFIED:20251125T184126Z
UID:10132755-1861867800-1861869600@waverlychurch.org
SUMMARY:Choir Rehearsal in Sanctuary
DESCRIPTION:
URL:https://waverlychurch.org/event/choir-rehearsal-in-sanctuary/2028-12-31/
END:VEVENT
BEGIN:VEVENT
DTSTART;TZID=America/New_York:20281231T100000
DTEND;TZID=America/New_York:20281231T105500
DTSTAMP:20260422T180644
CREATED:20260305T170350Z
LAST-MODIFIED:20260305T170351Z
UID:10007318-1861869600-1861872900@waverlychurch.org
SUMMARY:Sunday School
DESCRIPTION:All ages are welcome to join us each week for Sunday School in the following locations: \nChildren up through 1st grade: nursery (downstairs\, right side of front entrance – ring bell to enter) \nChildren and Youth 2nd grade through 12th grade in the “Wonka Room” – room off of our lower floor Social Hall. \nAdults: lounge (upstairs in back of church)
URL:https://waverlychurch.org/event/sunday-school-3-2-2-2-2-2-2-2/2028-12-31/
END:VEVENT
BEGIN:VEVENT
DTSTART;TZID=America/New_York:20281231T110000
DTEND;TZID=America/New_York:20281231T121500
DTSTAMP:20260422T180644
CREATED:20250923T171614Z
LAST-MODIFIED:20250923T171615Z
UID:10007886-1861873200-1861877700@waverlychurch.org
SUMMARY:Worship Service
DESCRIPTION:We meet on Sundays in our Sanctuary at 11am during the school year and stream services online. \nSunday’s worship service will be live-streamed over our Facebook page on Sunday mornings. \n \nhttps://www.facebook.com/pg/WaverlyChurch/videos/
URL:https://waverlychurch.org/event/worship-service-5-2-2/2028-12-31/
END:VEVENT
BEGIN:VEVENT
DTSTART;TZID=America/New_York:20281231T121500
DTEND;TZID=America/New_York:20281231T133000
DTSTAMP:20260422T180644
CREATED:20260305T165302Z
LAST-MODIFIED:20260305T170242Z
UID:10007911-1861877700-1861882200@waverlychurch.org
SUMMARY:Coffee Hour
DESCRIPTION:Join us after service weekly for a chance to share fellowship over coffee and snacks
URL:https://waverlychurch.org/event/coffee-hour-3-2-2-2-2-2/2028-12-31/
LOCATION:Lounge
END:VEVENT
BEGIN:VEVENT
DTSTART;TZID=America/New_York:20290101T090000
DTEND;TZID=America/New_York:20290101T200000
DTSTAMP:20260422T180644
CREATED:20251030T152456Z
LAST-MODIFIED:20251030T152456Z
UID:10132054-1861952400-1861992000@waverlychurch.org
SUMMARY:Guitar Lessons
DESCRIPTION:ian@cainsmusiclessons.com
URL:https://waverlychurch.org/event/guitar-lessons/2029-01-01/
LOCATION:Frog Room
END:VEVENT
BEGIN:VEVENT
DTSTART;TZID=America/New_York:20290103T090000
DTEND;TZID=America/New_York:20290103T200000
DTSTAMP:20260422T180644
CREATED:20251030T152456Z
LAST-MODIFIED:20251030T152456Z
UID:10132055-1862125200-1862164800@waverlychurch.org
SUMMARY:Guitar Lessons
DESCRIPTION:ian@cainsmusiclessons.com
URL:https://waverlychurch.org/event/guitar-lessons/2029-01-03/
LOCATION:Frog Room
END:VEVENT
BEGIN:VEVENT
DTSTART;TZID=America/New_York:20290104T190000
DTEND;TZID=America/New_York:20290104T203000
DTSTAMP:20260422T180644
CREATED:20251125T183555Z
LAST-MODIFIED:20251125T183747Z
UID:10132495-1862247600-1862253000@waverlychurch.org
SUMMARY:Choir Rehearsal in Lounge
DESCRIPTION:
URL:https://waverlychurch.org/event/choir-rehearsal-in-lounge/2029-01-04/
LOCATION:Lounge
END:VEVENT
BEGIN:VEVENT
DTSTART;TZID=America/New_York:20290106T110000
DTEND;TZID=America/New_York:20290106T143000
DTSTAMP:20260422T180644
CREATED:20251125T184526Z
LAST-MODIFIED:20251125T184526Z
UID:10132892-1862391600-1862404200@waverlychurch.org
SUMMARY:East End N.A. Business Meeting/Social Hall
DESCRIPTION:
URL:https://waverlychurch.org/event/east-end-n-a-business-meeting-social-hall/2029-01-06/
END:VEVENT
BEGIN:VEVENT
DTSTART;TZID=America/New_York:20290107T093000
DTEND;TZID=America/New_York:20290107T100000
DTSTAMP:20260422T180644
CREATED:20251125T184126Z
LAST-MODIFIED:20251125T184126Z
UID:10132756-1862472600-1862474400@waverlychurch.org
SUMMARY:Choir Rehearsal in Sanctuary
DESCRIPTION:
URL:https://waverlychurch.org/event/choir-rehearsal-in-sanctuary/2029-01-07/
END:VEVENT
BEGIN:VEVENT
DTSTART;TZID=America/New_York:20290107T100000
DTEND;TZID=America/New_York:20290107T105500
DTSTAMP:20260422T180644
CREATED:20260305T170350Z
LAST-MODIFIED:20260305T170351Z
UID:10007319-1862474400-1862477700@waverlychurch.org
SUMMARY:Sunday School
DESCRIPTION:All ages are welcome to join us each week for Sunday School in the following locations: \nChildren up through 1st grade: nursery (downstairs\, right side of front entrance – ring bell to enter) \nChildren and Youth 2nd grade through 12th grade in the “Wonka Room” – room off of our lower floor Social Hall. \nAdults: lounge (upstairs in back of church)
URL:https://waverlychurch.org/event/sunday-school-3-2-2-2-2-2-2-2/2029-01-07/
END:VEVENT
BEGIN:VEVENT
DTSTART;TZID=America/New_York:20290107T110000
DTEND;TZID=America/New_York:20290107T121500
DTSTAMP:20260422T180644
CREATED:20250923T171614Z
LAST-MODIFIED:20250923T171615Z
UID:10007887-1862478000-1862482500@waverlychurch.org
SUMMARY:Worship Service
DESCRIPTION:We meet on Sundays in our Sanctuary at 11am during the school year and stream services online. \nSunday’s worship service will be live-streamed over our Facebook page on Sunday mornings. \n \nhttps://www.facebook.com/pg/WaverlyChurch/videos/
URL:https://waverlychurch.org/event/worship-service-5-2-2/2029-01-07/
END:VEVENT
BEGIN:VEVENT
DTSTART;TZID=America/New_York:20290107T121500
DTEND;TZID=America/New_York:20290107T133000
DTSTAMP:20260422T180644
CREATED:20260305T165302Z
LAST-MODIFIED:20260305T170242Z
UID:10007912-1862482500-1862487000@waverlychurch.org
SUMMARY:Coffee Hour
DESCRIPTION:Join us after service weekly for a chance to share fellowship over coffee and snacks
URL:https://waverlychurch.org/event/coffee-hour-3-2-2-2-2-2/2029-01-07/
LOCATION:Lounge
END:VEVENT
BEGIN:VEVENT
DTSTART;TZID=America/New_York:20290108T090000
DTEND;TZID=America/New_York:20290108T200000
DTSTAMP:20260422T180644
CREATED:20251030T152456Z
LAST-MODIFIED:20251030T152456Z
UID:10132056-1862557200-1862596800@waverlychurch.org
SUMMARY:Guitar Lessons
DESCRIPTION:ian@cainsmusiclessons.com
URL:https://waverlychurch.org/event/guitar-lessons/2029-01-08/
LOCATION:Frog Room
END:VEVENT
BEGIN:VEVENT
DTSTART;TZID=America/New_York:20290108T190000
DTEND;TZID=America/New_York:20290108T203000
DTSTAMP:20260422T180644
CREATED:20251125T185647Z
LAST-MODIFIED:20251125T185647Z
UID:10132952-1862593200-1862598600@waverlychurch.org
SUMMARY:Amnesty Meeting-Social Hall
DESCRIPTION:
URL:https://waverlychurch.org/event/amnesty-meeting-social-hall/2029-01-08/
END:VEVENT
BEGIN:VEVENT
DTSTART;TZID=America/New_York:20290110T090000
DTEND;TZID=America/New_York:20290110T200000
DTSTAMP:20260422T180644
CREATED:20251030T152456Z
LAST-MODIFIED:20251030T152456Z
UID:10132057-1862730000-1862769600@waverlychurch.org
SUMMARY:Guitar Lessons
DESCRIPTION:ian@cainsmusiclessons.com
URL:https://waverlychurch.org/event/guitar-lessons/2029-01-10/
LOCATION:Frog Room
END:VEVENT
BEGIN:VEVENT
DTSTART;TZID=America/New_York:20290111T190000
DTEND;TZID=America/New_York:20290111T203000
DTSTAMP:20260422T180644
CREATED:20251125T183555Z
LAST-MODIFIED:20251125T183747Z
UID:10132496-1862852400-1862857800@waverlychurch.org
SUMMARY:Choir Rehearsal in Lounge
DESCRIPTION:
URL:https://waverlychurch.org/event/choir-rehearsal-in-lounge/2029-01-11/
LOCATION:Lounge
END:VEVENT
BEGIN:VEVENT
DTSTART;TZID=America/New_York:20290114T093000
DTEND;TZID=America/New_York:20290114T100000
DTSTAMP:20260422T180644
CREATED:20251125T184126Z
LAST-MODIFIED:20251125T184126Z
UID:10132757-1863077400-1863079200@waverlychurch.org
SUMMARY:Choir Rehearsal in Sanctuary
DESCRIPTION:
URL:https://waverlychurch.org/event/choir-rehearsal-in-sanctuary/2029-01-14/
END:VEVENT
BEGIN:VEVENT
DTSTART;TZID=America/New_York:20290114T100000
DTEND;TZID=America/New_York:20290114T105500
DTSTAMP:20260422T180644
CREATED:20260305T170350Z
LAST-MODIFIED:20260305T170351Z
UID:10007320-1863079200-1863082500@waverlychurch.org
SUMMARY:Sunday School
DESCRIPTION:All ages are welcome to join us each week for Sunday School in the following locations: \nChildren up through 1st grade: nursery (downstairs\, right side of front entrance – ring bell to enter) \nChildren and Youth 2nd grade through 12th grade in the “Wonka Room” – room off of our lower floor Social Hall. \nAdults: lounge (upstairs in back of church)
URL:https://waverlychurch.org/event/sunday-school-3-2-2-2-2-2-2-2/2029-01-14/
END:VEVENT
BEGIN:VEVENT
DTSTART;TZID=America/New_York:20290114T110000
DTEND;TZID=America/New_York:20290114T121500
DTSTAMP:20260422T180644
CREATED:20250923T171614Z
LAST-MODIFIED:20250923T171615Z
UID:10007888-1863082800-1863087300@waverlychurch.org
SUMMARY:Worship Service
DESCRIPTION:We meet on Sundays in our Sanctuary at 11am during the school year and stream services online. \nSunday’s worship service will be live-streamed over our Facebook page on Sunday mornings. \n \nhttps://www.facebook.com/pg/WaverlyChurch/videos/
URL:https://waverlychurch.org/event/worship-service-5-2-2/2029-01-14/
END:VEVENT
BEGIN:VEVENT
DTSTART;TZID=America/New_York:20290114T121500
DTEND;TZID=America/New_York:20290114T133000
DTSTAMP:20260422T180644
CREATED:20260305T165302Z
LAST-MODIFIED:20260305T170242Z
UID:10007913-1863087300-1863091800@waverlychurch.org
SUMMARY:Coffee Hour
DESCRIPTION:Join us after service weekly for a chance to share fellowship over coffee and snacks
URL:https://waverlychurch.org/event/coffee-hour-3-2-2-2-2-2/2029-01-14/
LOCATION:Lounge
END:VEVENT
END:VCALENDAR