BEGIN:VCALENDAR
VERSION:2.0
PRODID:-//Waverly Presbyterian Church - ECPv6.15.20//NONSGML v1.0//EN
CALSCALE:GREGORIAN
METHOD:PUBLISH
X-WR-CALNAME:Waverly Presbyterian Church
X-ORIGINAL-URL:https://waverlychurch.org
X-WR-CALDESC:Events for Waverly Presbyterian Church
REFRESH-INTERVAL;VALUE=DURATION:PT1H
X-Robots-Tag:noindex
X-PUBLISHED-TTL:PT1H
BEGIN:VTIMEZONE
TZID:UTC
BEGIN:STANDARD
TZOFFSETFROM:+0000
TZOFFSETTO:+0000
TZNAME:UTC
DTSTART:20180101T000000
END:STANDARD
END:VTIMEZONE
BEGIN:VEVENT
DTSTART;TZID=UTC:20190905T193000
DTEND;TZID=UTC:20190905T210000
DTSTAMP:20260421T122849
CREATED:20170902T012643Z
LAST-MODIFIED:20190901T183231Z
UID:10002185-1567711800-1567717200@waverlychurch.org
SUMMARY:Choir rehearsal
DESCRIPTION:
URL:https://waverlychurch.org/event/choir-rehearsal/
LOCATION:Lounge
END:VEVENT
BEGIN:VEVENT
DTSTART;TZID=UTC:20190908T100000
DTEND;TZID=UTC:20190908T110000
DTSTAMP:20260421T122849
CREATED:20170902T042325Z
LAST-MODIFIED:20190901T183932Z
UID:10002080-1567936800-1567940400@waverlychurch.org
SUMMARY:Sunday School
DESCRIPTION:For all ages.  Adults meet in the lounge; youth in various classrooms throughout the church.
URL:https://waverlychurch.org/event/sunday-school/2019-09-08/
END:VEVENT
BEGIN:VEVENT
DTSTART;TZID=UTC:20190908T110000
DTEND;TZID=UTC:20190908T120000
DTSTAMP:20260421T122849
CREATED:20190602T191159Z
LAST-MODIFIED:20190901T184517Z
UID:10002158-1567940400-1567944000@waverlychurch.org
SUMMARY:Worship Service
DESCRIPTION:Please come for Worship in the sanctuary at 11:00 AM and consider joining us for Sunday School (all ages) at 10:00 AM.
URL:https://waverlychurch.org/event/worship-service-2/2019-09-08/
LOCATION:Sanctuary
END:VEVENT
BEGIN:VEVENT
DTSTART;TZID=UTC:20190915T100000
DTEND;TZID=UTC:20190915T110000
DTSTAMP:20260421T122849
CREATED:20170902T042325Z
LAST-MODIFIED:20190901T183932Z
UID:10002081-1568541600-1568545200@waverlychurch.org
SUMMARY:Sunday School
DESCRIPTION:For all ages.  Adults meet in the lounge; youth in various classrooms throughout the church.
URL:https://waverlychurch.org/event/sunday-school/2019-09-15/
END:VEVENT
BEGIN:VEVENT
DTSTART;TZID=UTC:20190915T110000
DTEND;TZID=UTC:20190915T120000
DTSTAMP:20260421T122849
CREATED:20190602T191159Z
LAST-MODIFIED:20190901T184517Z
UID:10002159-1568545200-1568548800@waverlychurch.org
SUMMARY:Worship Service
DESCRIPTION:Please come for Worship in the sanctuary at 11:00 AM and consider joining us for Sunday School (all ages) at 10:00 AM.
URL:https://waverlychurch.org/event/worship-service-2/2019-09-15/
LOCATION:Sanctuary
END:VEVENT
BEGIN:VEVENT
DTSTART;TZID=UTC:20190922T100000
DTEND;TZID=UTC:20190922T110000
DTSTAMP:20260421T122849
CREATED:20170902T042325Z
LAST-MODIFIED:20190901T183932Z
UID:10002082-1569146400-1569150000@waverlychurch.org
SUMMARY:Sunday School
DESCRIPTION:For all ages.  Adults meet in the lounge; youth in various classrooms throughout the church.
URL:https://waverlychurch.org/event/sunday-school/2019-09-22/
END:VEVENT
BEGIN:VEVENT
DTSTART;TZID=UTC:20190922T110000
DTEND;TZID=UTC:20190922T120000
DTSTAMP:20260421T122849
CREATED:20190602T191159Z
LAST-MODIFIED:20190901T184517Z
UID:10002160-1569150000-1569153600@waverlychurch.org
SUMMARY:Worship Service
DESCRIPTION:Please come for Worship in the sanctuary at 11:00 AM and consider joining us for Sunday School (all ages) at 10:00 AM.
URL:https://waverlychurch.org/event/worship-service-2/2019-09-22/
LOCATION:Sanctuary
END:VEVENT
BEGIN:VEVENT
DTSTART;TZID=UTC:20190922T140000
DTEND;TZID=UTC:20190922T150000
DTSTAMP:20260421T122849
CREATED:20190911T235538Z
LAST-MODIFIED:20190911T235538Z
UID:10000010-1569160800-1569164400@waverlychurch.org
SUMMARY:Blessing of the Animals
DESCRIPTION:Our Pets are a blessing to us. \nJoin us in blessing them. \n  \n2:00 PM\, Sunday\, September 22\, 2019 \nMusic and blessings\, treats for pets and humans\, rain or shine! \n  \nAll are welcome!
URL:https://waverlychurch.org/event/blessing-of-the-animals/
END:VEVENT
BEGIN:VEVENT
DTSTART;TZID=UTC:20190929T100000
DTEND;TZID=UTC:20190929T110000
DTSTAMP:20260421T122849
CREATED:20170902T042325Z
LAST-MODIFIED:20190901T183932Z
UID:10002083-1569751200-1569754800@waverlychurch.org
SUMMARY:Sunday School
DESCRIPTION:For all ages.  Adults meet in the lounge; youth in various classrooms throughout the church.
URL:https://waverlychurch.org/event/sunday-school/2019-09-29/
END:VEVENT
BEGIN:VEVENT
DTSTART;TZID=UTC:20190929T110000
DTEND;TZID=UTC:20190929T120000
DTSTAMP:20260421T122849
CREATED:20190602T191159Z
LAST-MODIFIED:20190901T184517Z
UID:10002161-1569754800-1569758400@waverlychurch.org
SUMMARY:Worship Service
DESCRIPTION:Please come for Worship in the sanctuary at 11:00 AM and consider joining us for Sunday School (all ages) at 10:00 AM.
URL:https://waverlychurch.org/event/worship-service-2/2019-09-29/
LOCATION:Sanctuary
END:VEVENT
BEGIN:VEVENT
DTSTART;TZID=UTC:20191006T100000
DTEND;TZID=UTC:20191006T110000
DTSTAMP:20260421T122849
CREATED:20170902T042325Z
LAST-MODIFIED:20190901T183932Z
UID:10002084-1570356000-1570359600@waverlychurch.org
SUMMARY:Sunday School
DESCRIPTION:For all ages.  Adults meet in the lounge; youth in various classrooms throughout the church.
URL:https://waverlychurch.org/event/sunday-school/2019-10-06/
END:VEVENT
BEGIN:VEVENT
DTSTART;TZID=UTC:20191006T110000
DTEND;TZID=UTC:20191006T120000
DTSTAMP:20260421T122849
CREATED:20190602T191159Z
LAST-MODIFIED:20190901T184517Z
UID:10002162-1570359600-1570363200@waverlychurch.org
SUMMARY:Worship Service
DESCRIPTION:Please come for Worship in the sanctuary at 11:00 AM and consider joining us for Sunday School (all ages) at 10:00 AM.
URL:https://waverlychurch.org/event/worship-service-2/2019-10-06/
LOCATION:Sanctuary
END:VEVENT
BEGIN:VEVENT
DTSTART;TZID=UTC:20191013T100000
DTEND;TZID=UTC:20191013T110000
DTSTAMP:20260421T122849
CREATED:20170902T042325Z
LAST-MODIFIED:20190901T183932Z
UID:10002085-1570960800-1570964400@waverlychurch.org
SUMMARY:Sunday School
DESCRIPTION:For all ages.  Adults meet in the lounge; youth in various classrooms throughout the church.
URL:https://waverlychurch.org/event/sunday-school/2019-10-13/
END:VEVENT
BEGIN:VEVENT
DTSTART;TZID=UTC:20191013T110000
DTEND;TZID=UTC:20191013T120000
DTSTAMP:20260421T122849
CREATED:20190602T191159Z
LAST-MODIFIED:20190901T184517Z
UID:10002163-1570964400-1570968000@waverlychurch.org
SUMMARY:Worship Service
DESCRIPTION:Please come for Worship in the sanctuary at 11:00 AM and consider joining us for Sunday School (all ages) at 10:00 AM.
URL:https://waverlychurch.org/event/worship-service-2/2019-10-13/
LOCATION:Sanctuary
END:VEVENT
BEGIN:VEVENT
DTSTART;TZID=UTC:20191020T100000
DTEND;TZID=UTC:20191020T110000
DTSTAMP:20260421T122849
CREATED:20170902T042325Z
LAST-MODIFIED:20190901T183932Z
UID:10002086-1571565600-1571569200@waverlychurch.org
SUMMARY:Sunday School
DESCRIPTION:For all ages.  Adults meet in the lounge; youth in various classrooms throughout the church.
URL:https://waverlychurch.org/event/sunday-school/2019-10-20/
END:VEVENT
BEGIN:VEVENT
DTSTART;TZID=UTC:20191020T110000
DTEND;TZID=UTC:20191020T120000
DTSTAMP:20260421T122849
CREATED:20190602T191159Z
LAST-MODIFIED:20190901T184517Z
UID:10002164-1571569200-1571572800@waverlychurch.org
SUMMARY:Worship Service
DESCRIPTION:Please come for Worship in the sanctuary at 11:00 AM and consider joining us for Sunday School (all ages) at 10:00 AM.
URL:https://waverlychurch.org/event/worship-service-2/2019-10-20/
LOCATION:Sanctuary
END:VEVENT
BEGIN:VEVENT
DTSTART;TZID=UTC:20191027T100000
DTEND;TZID=UTC:20191027T110000
DTSTAMP:20260421T122849
CREATED:20170902T042325Z
LAST-MODIFIED:20190901T183932Z
UID:10002087-1572170400-1572174000@waverlychurch.org
SUMMARY:Sunday School
DESCRIPTION:For all ages.  Adults meet in the lounge; youth in various classrooms throughout the church.
URL:https://waverlychurch.org/event/sunday-school/2019-10-27/
END:VEVENT
BEGIN:VEVENT
DTSTART;TZID=UTC:20191027T110000
DTEND;TZID=UTC:20191027T120000
DTSTAMP:20260421T122849
CREATED:20190602T191159Z
LAST-MODIFIED:20190901T184517Z
UID:10002165-1572174000-1572177600@waverlychurch.org
SUMMARY:Worship Service
DESCRIPTION:Please come for Worship in the sanctuary at 11:00 AM and consider joining us for Sunday School (all ages) at 10:00 AM.
URL:https://waverlychurch.org/event/worship-service-2/2019-10-27/
LOCATION:Sanctuary
END:VEVENT
BEGIN:VEVENT
DTSTART;TZID=UTC:20191103T100000
DTEND;TZID=UTC:20191103T110000
DTSTAMP:20260421T122849
CREATED:20170902T042325Z
LAST-MODIFIED:20190901T183932Z
UID:10002088-1572775200-1572778800@waverlychurch.org
SUMMARY:Sunday School
DESCRIPTION:For all ages.  Adults meet in the lounge; youth in various classrooms throughout the church.
URL:https://waverlychurch.org/event/sunday-school/2019-11-03/
END:VEVENT
BEGIN:VEVENT
DTSTART;TZID=UTC:20191103T110000
DTEND;TZID=UTC:20191103T120000
DTSTAMP:20260421T122849
CREATED:20190602T191159Z
LAST-MODIFIED:20190901T184517Z
UID:10002166-1572778800-1572782400@waverlychurch.org
SUMMARY:Worship Service
DESCRIPTION:Please come for Worship in the sanctuary at 11:00 AM and consider joining us for Sunday School (all ages) at 10:00 AM.
URL:https://waverlychurch.org/event/worship-service-2/2019-11-03/
LOCATION:Sanctuary
END:VEVENT
BEGIN:VEVENT
DTSTART;TZID=UTC:20191109T190000
DTEND;TZID=UTC:20191109T220000
DTSTAMP:20260421T122849
CREATED:20191103T213455Z
LAST-MODIFIED:20191103T213636Z
UID:10000011-1573326000-1573336800@waverlychurch.org
SUMMARY:2019 Holiday Fest
DESCRIPTION:  \n\nThe Waverly Holiday Festival is a festive evening of food\, fun\, fellowship and fundraising. Enjoy sweets and savories; buy gifts from nine vendors; try to win a raffle basket or bid in the silent and live auctions. Tickets for the annual event\, which begins at 7 p.m. Saturday\, Nov. 9 in the church social hall\, are $25 per person. Free childcare. RSVP at admin@waverlychurch.org
URL:https://waverlychurch.org/event/2019-holiday-fest/
LOCATION:Social Hall
END:VEVENT
BEGIN:VEVENT
DTSTART;TZID=UTC:20191110T100000
DTEND;TZID=UTC:20191110T110000
DTSTAMP:20260421T122849
CREATED:20170902T042325Z
LAST-MODIFIED:20190901T183932Z
UID:10002089-1573380000-1573383600@waverlychurch.org
SUMMARY:Sunday School
DESCRIPTION:For all ages.  Adults meet in the lounge; youth in various classrooms throughout the church.
URL:https://waverlychurch.org/event/sunday-school/2019-11-10/
END:VEVENT
BEGIN:VEVENT
DTSTART;TZID=UTC:20191110T110000
DTEND;TZID=UTC:20191110T120000
DTSTAMP:20260421T122849
CREATED:20190602T191159Z
LAST-MODIFIED:20190901T184517Z
UID:10002167-1573383600-1573387200@waverlychurch.org
SUMMARY:Worship Service
DESCRIPTION:Please come for Worship in the sanctuary at 11:00 AM and consider joining us for Sunday School (all ages) at 10:00 AM.
URL:https://waverlychurch.org/event/worship-service-2/2019-11-10/
LOCATION:Sanctuary
END:VEVENT
BEGIN:VEVENT
DTSTART;TZID=UTC:20191117T100000
DTEND;TZID=UTC:20191117T110000
DTSTAMP:20260421T122849
CREATED:20170902T042325Z
LAST-MODIFIED:20190901T183932Z
UID:10002090-1573984800-1573988400@waverlychurch.org
SUMMARY:Sunday School
DESCRIPTION:For all ages.  Adults meet in the lounge; youth in various classrooms throughout the church.
URL:https://waverlychurch.org/event/sunday-school/2019-11-17/
END:VEVENT
BEGIN:VEVENT
DTSTART;TZID=UTC:20191117T110000
DTEND;TZID=UTC:20191117T120000
DTSTAMP:20260421T122849
CREATED:20190602T191159Z
LAST-MODIFIED:20190901T184517Z
UID:10002168-1573988400-1573992000@waverlychurch.org
SUMMARY:Worship Service
DESCRIPTION:Please come for Worship in the sanctuary at 11:00 AM and consider joining us for Sunday School (all ages) at 10:00 AM.
URL:https://waverlychurch.org/event/worship-service-2/2019-11-17/
LOCATION:Sanctuary
END:VEVENT
BEGIN:VEVENT
DTSTART;TZID=UTC:20191124T100000
DTEND;TZID=UTC:20191124T110000
DTSTAMP:20260421T122849
CREATED:20170902T042325Z
LAST-MODIFIED:20190901T183932Z
UID:10002091-1574589600-1574593200@waverlychurch.org
SUMMARY:Sunday School
DESCRIPTION:For all ages.  Adults meet in the lounge; youth in various classrooms throughout the church.
URL:https://waverlychurch.org/event/sunday-school/2019-11-24/
END:VEVENT
BEGIN:VEVENT
DTSTART;TZID=UTC:20191124T110000
DTEND;TZID=UTC:20191124T120000
DTSTAMP:20260421T122849
CREATED:20190602T191159Z
LAST-MODIFIED:20190901T184517Z
UID:10002169-1574593200-1574596800@waverlychurch.org
SUMMARY:Worship Service
DESCRIPTION:Please come for Worship in the sanctuary at 11:00 AM and consider joining us for Sunday School (all ages) at 10:00 AM.
URL:https://waverlychurch.org/event/worship-service-2/2019-11-24/
LOCATION:Sanctuary
END:VEVENT
BEGIN:VEVENT
DTSTART;TZID=UTC:20191201T100000
DTEND;TZID=UTC:20191201T110000
DTSTAMP:20260421T122849
CREATED:20170902T042325Z
LAST-MODIFIED:20190901T183932Z
UID:10002092-1575194400-1575198000@waverlychurch.org
SUMMARY:Sunday School
DESCRIPTION:For all ages.  Adults meet in the lounge; youth in various classrooms throughout the church.
URL:https://waverlychurch.org/event/sunday-school/2019-12-01/
END:VEVENT
BEGIN:VEVENT
DTSTART;TZID=UTC:20191201T110000
DTEND;TZID=UTC:20191201T120000
DTSTAMP:20260421T122849
CREATED:20190602T191159Z
LAST-MODIFIED:20190901T184517Z
UID:10002170-1575198000-1575201600@waverlychurch.org
SUMMARY:Worship Service
DESCRIPTION:Please come for Worship in the sanctuary at 11:00 AM and consider joining us for Sunday School (all ages) at 10:00 AM.
URL:https://waverlychurch.org/event/worship-service-2/2019-12-01/
LOCATION:Sanctuary
END:VEVENT
BEGIN:VEVENT
DTSTART;TZID=UTC:20191208T100000
DTEND;TZID=UTC:20191208T110000
DTSTAMP:20260421T122849
CREATED:20170902T042325Z
LAST-MODIFIED:20190901T183932Z
UID:10002093-1575799200-1575802800@waverlychurch.org
SUMMARY:Sunday School
DESCRIPTION:For all ages.  Adults meet in the lounge; youth in various classrooms throughout the church.
URL:https://waverlychurch.org/event/sunday-school/2019-12-08/
END:VEVENT
END:VCALENDAR