BEGIN:VCALENDAR
VERSION:2.0
PRODID:-//Waverly Presbyterian Church - ECPv6.15.20//NONSGML v1.0//EN
CALSCALE:GREGORIAN
METHOD:PUBLISH
X-WR-CALNAME:Waverly Presbyterian Church
X-ORIGINAL-URL:https://waverlychurch.org
X-WR-CALDESC:Events for Waverly Presbyterian Church
REFRESH-INTERVAL;VALUE=DURATION:PT1H
X-Robots-Tag:noindex
X-PUBLISHED-TTL:PT1H
BEGIN:VTIMEZONE
TZID:UTC
BEGIN:STANDARD
TZOFFSETFROM:+0000
TZOFFSETTO:+0000
TZNAME:UTC
DTSTART:20180101T000000
END:STANDARD
END:VTIMEZONE
BEGIN:VEVENT
DTSTART;TZID=UTC:20191117T110000
DTEND;TZID=UTC:20191117T120000
DTSTAMP:20260421T181019
CREATED:20190602T191159Z
LAST-MODIFIED:20190901T184517Z
UID:10002168-1573988400-1573992000@waverlychurch.org
SUMMARY:Worship Service
DESCRIPTION:Please come for Worship in the sanctuary at 11:00 AM and consider joining us for Sunday School (all ages) at 10:00 AM.
URL:https://waverlychurch.org/event/worship-service-2/2019-11-17/
LOCATION:Sanctuary
END:VEVENT
BEGIN:VEVENT
DTSTART;TZID=UTC:20191124T100000
DTEND;TZID=UTC:20191124T110000
DTSTAMP:20260421T181019
CREATED:20170902T042325Z
LAST-MODIFIED:20190901T183932Z
UID:10002091-1574589600-1574593200@waverlychurch.org
SUMMARY:Sunday School
DESCRIPTION:For all ages.  Adults meet in the lounge; youth in various classrooms throughout the church.
URL:https://waverlychurch.org/event/sunday-school/2019-11-24/
END:VEVENT
BEGIN:VEVENT
DTSTART;TZID=UTC:20191124T110000
DTEND;TZID=UTC:20191124T120000
DTSTAMP:20260421T181019
CREATED:20190602T191159Z
LAST-MODIFIED:20190901T184517Z
UID:10002169-1574593200-1574596800@waverlychurch.org
SUMMARY:Worship Service
DESCRIPTION:Please come for Worship in the sanctuary at 11:00 AM and consider joining us for Sunday School (all ages) at 10:00 AM.
URL:https://waverlychurch.org/event/worship-service-2/2019-11-24/
LOCATION:Sanctuary
END:VEVENT
BEGIN:VEVENT
DTSTART;TZID=UTC:20191201T100000
DTEND;TZID=UTC:20191201T110000
DTSTAMP:20260421T181019
CREATED:20170902T042325Z
LAST-MODIFIED:20190901T183932Z
UID:10002092-1575194400-1575198000@waverlychurch.org
SUMMARY:Sunday School
DESCRIPTION:For all ages.  Adults meet in the lounge; youth in various classrooms throughout the church.
URL:https://waverlychurch.org/event/sunday-school/2019-12-01/
END:VEVENT
BEGIN:VEVENT
DTSTART;TZID=UTC:20191201T110000
DTEND;TZID=UTC:20191201T120000
DTSTAMP:20260421T181019
CREATED:20190602T191159Z
LAST-MODIFIED:20190901T184517Z
UID:10002170-1575198000-1575201600@waverlychurch.org
SUMMARY:Worship Service
DESCRIPTION:Please come for Worship in the sanctuary at 11:00 AM and consider joining us for Sunday School (all ages) at 10:00 AM.
URL:https://waverlychurch.org/event/worship-service-2/2019-12-01/
LOCATION:Sanctuary
END:VEVENT
BEGIN:VEVENT
DTSTART;TZID=UTC:20191208T100000
DTEND;TZID=UTC:20191208T110000
DTSTAMP:20260421T181019
CREATED:20170902T042325Z
LAST-MODIFIED:20190901T183932Z
UID:10002093-1575799200-1575802800@waverlychurch.org
SUMMARY:Sunday School
DESCRIPTION:For all ages.  Adults meet in the lounge; youth in various classrooms throughout the church.
URL:https://waverlychurch.org/event/sunday-school/2019-12-08/
END:VEVENT
BEGIN:VEVENT
DTSTART;TZID=UTC:20191208T110000
DTEND;TZID=UTC:20191208T120000
DTSTAMP:20260421T181019
CREATED:20190602T191159Z
LAST-MODIFIED:20190901T184517Z
UID:10002171-1575802800-1575806400@waverlychurch.org
SUMMARY:Worship Service
DESCRIPTION:Please come for Worship in the sanctuary at 11:00 AM and consider joining us for Sunday School (all ages) at 10:00 AM.
URL:https://waverlychurch.org/event/worship-service-2/2019-12-08/
LOCATION:Sanctuary
END:VEVENT
BEGIN:VEVENT
DTSTART;TZID=UTC:20191215T100000
DTEND;TZID=UTC:20191215T110000
DTSTAMP:20260421T181019
CREATED:20170902T042325Z
LAST-MODIFIED:20190901T183932Z
UID:10002094-1576404000-1576407600@waverlychurch.org
SUMMARY:Sunday School
DESCRIPTION:For all ages.  Adults meet in the lounge; youth in various classrooms throughout the church.
URL:https://waverlychurch.org/event/sunday-school/2019-12-15/
END:VEVENT
BEGIN:VEVENT
DTSTART;TZID=UTC:20191215T110000
DTEND;TZID=UTC:20191215T120000
DTSTAMP:20260421T181019
CREATED:20190602T191159Z
LAST-MODIFIED:20191208T213027Z
UID:10002266-1576407600-1576411200@waverlychurch.org
SUMMARY:Advent Service
DESCRIPTION:Please come for Worship in the sanctuary at 11:00 AM and consider joining us for Sunday School (all ages) at 10:00 AM.
URL:https://waverlychurch.org/event/worship-service-2-2019-12-15/
LOCATION:Sanctuary
END:VEVENT
BEGIN:VEVENT
DTSTART;TZID=UTC:20191217T193000
DTEND;TZID=UTC:20191217T203000
DTSTAMP:20260421T181019
CREATED:20191208T212204Z
LAST-MODIFIED:20191208T212205Z
UID:10000002-1576611000-1576614600@waverlychurch.org
SUMMARY:Blue Christmas
DESCRIPTION:A quiet contemplative service  \nof music and meditation \nTuesday\, December 17 \n7:30 PM
URL:https://waverlychurch.org/event/blue-christmas/
END:VEVENT
BEGIN:VEVENT
DTSTART;TZID=UTC:20191222T100000
DTEND;TZID=UTC:20191222T110000
DTSTAMP:20260421T181019
CREATED:20170902T042325Z
LAST-MODIFIED:20190901T183932Z
UID:10002095-1577008800-1577012400@waverlychurch.org
SUMMARY:Sunday School
DESCRIPTION:For all ages.  Adults meet in the lounge; youth in various classrooms throughout the church.
URL:https://waverlychurch.org/event/sunday-school/2019-12-22/
END:VEVENT
BEGIN:VEVENT
DTSTART;TZID=UTC:20191222T110000
DTEND;TZID=UTC:20191222T120000
DTSTAMP:20260421T181019
CREATED:20190602T191159Z
LAST-MODIFIED:20191208T212932Z
UID:10002270-1577012400-1577016000@waverlychurch.org
SUMMARY:Advent Service
DESCRIPTION:Please come for Worship in the sanctuary at 11:00 AM and consider joining us for Sunday School (all ages) at 10:00 AM.
URL:https://waverlychurch.org/event/worship-service-2-2019-12-22/
LOCATION:Sanctuary
END:VEVENT
BEGIN:VEVENT
DTSTART;TZID=UTC:20191224T193000
DTEND;TZID=UTC:20191224T203000
DTSTAMP:20260421T181019
CREATED:20191208T212308Z
LAST-MODIFIED:20191208T212309Z
UID:10000001-1577215800-1577219400@waverlychurch.org
SUMMARY:Christmas Eve
DESCRIPTION:Carols\, Candlelight\, Communion \nTuesday\, December 24 \n7:30 PM
URL:https://waverlychurch.org/event/christmas-eve/
END:VEVENT
BEGIN:VEVENT
DTSTART;TZID=UTC:20191229T100000
DTEND;TZID=UTC:20191229T110000
DTSTAMP:20260421T181019
CREATED:20170902T042325Z
LAST-MODIFIED:20190901T183932Z
UID:10002096-1577613600-1577617200@waverlychurch.org
SUMMARY:Sunday School
DESCRIPTION:For all ages.  Adults meet in the lounge; youth in various classrooms throughout the church.
URL:https://waverlychurch.org/event/sunday-school/2019-12-29/
END:VEVENT
BEGIN:VEVENT
DTSTART;TZID=UTC:20191229T110000
DTEND;TZID=UTC:20191229T120000
DTSTAMP:20260421T181019
CREATED:20190602T191159Z
LAST-MODIFIED:20191208T212654Z
UID:10003151-1577617200-1577620800@waverlychurch.org
SUMMARY:Lessons and Carols Service
DESCRIPTION:Lessons and Carols \nSunday\, December 29 \n11:00 AM
URL:https://waverlychurch.org/event/worship-service-2-2019-12-29/
LOCATION:Sanctuary
END:VEVENT
BEGIN:VEVENT
DTSTART;TZID=UTC:20200105T100000
DTEND;TZID=UTC:20200105T110000
DTSTAMP:20260421T181019
CREATED:20170902T042325Z
LAST-MODIFIED:20190901T183932Z
UID:10002097-1578218400-1578222000@waverlychurch.org
SUMMARY:Sunday School
DESCRIPTION:For all ages.  Adults meet in the lounge; youth in various classrooms throughout the church.
URL:https://waverlychurch.org/event/sunday-school/2020-01-05/
END:VEVENT
BEGIN:VEVENT
DTSTART;TZID=UTC:20200105T110000
DTEND;TZID=UTC:20200105T120000
DTSTAMP:20260421T181019
CREATED:20190602T191159Z
LAST-MODIFIED:20191208T212841Z
UID:10002662-1578222000-1578225600@waverlychurch.org
SUMMARY:Epiphany of the Lord – Worship Service
DESCRIPTION:Please come for Worship in the sanctuary at 11:00 AM and consider joining us for Sunday School (all ages) at 10:00 AM.
URL:https://waverlychurch.org/event/worship-service-2-2020-01-05/
LOCATION:Sanctuary
END:VEVENT
BEGIN:VEVENT
DTSTART;TZID=UTC:20200112T100000
DTEND;TZID=UTC:20200112T110000
DTSTAMP:20260421T181019
CREATED:20170902T042325Z
LAST-MODIFIED:20190901T183932Z
UID:10002098-1578823200-1578826800@waverlychurch.org
SUMMARY:Sunday School
DESCRIPTION:For all ages.  Adults meet in the lounge; youth in various classrooms throughout the church.
URL:https://waverlychurch.org/event/sunday-school/2020-01-12/
END:VEVENT
BEGIN:VEVENT
DTSTART;TZID=UTC:20200112T110000
DTEND;TZID=UTC:20200112T120000
DTSTAMP:20260421T181019
CREATED:20190602T191159Z
LAST-MODIFIED:20190901T184517Z
UID:10002172-1578826800-1578830400@waverlychurch.org
SUMMARY:Worship Service
DESCRIPTION:Please come for Worship in the sanctuary at 11:00 AM and consider joining us for Sunday School (all ages) at 10:00 AM.
URL:https://waverlychurch.org/event/worship-service-2/2020-01-12/
LOCATION:Sanctuary
END:VEVENT
BEGIN:VEVENT
DTSTART;TZID=UTC:20200119T100000
DTEND;TZID=UTC:20200119T110000
DTSTAMP:20260421T181019
CREATED:20170902T042325Z
LAST-MODIFIED:20190901T183932Z
UID:10002099-1579428000-1579431600@waverlychurch.org
SUMMARY:Sunday School
DESCRIPTION:For all ages.  Adults meet in the lounge; youth in various classrooms throughout the church.
URL:https://waverlychurch.org/event/sunday-school/2020-01-19/
END:VEVENT
BEGIN:VEVENT
DTSTART;TZID=UTC:20200119T110000
DTEND;TZID=UTC:20200119T120000
DTSTAMP:20260421T181019
CREATED:20190602T191159Z
LAST-MODIFIED:20190901T184517Z
UID:10002173-1579431600-1579435200@waverlychurch.org
SUMMARY:Worship Service
DESCRIPTION:Please come for Worship in the sanctuary at 11:00 AM and consider joining us for Sunday School (all ages) at 10:00 AM.
URL:https://waverlychurch.org/event/worship-service-2/2020-01-19/
LOCATION:Sanctuary
END:VEVENT
BEGIN:VEVENT
DTSTART;TZID=UTC:20200126T100000
DTEND;TZID=UTC:20200126T110000
DTSTAMP:20260421T181019
CREATED:20170902T042325Z
LAST-MODIFIED:20190901T183932Z
UID:10002100-1580032800-1580036400@waverlychurch.org
SUMMARY:Sunday School
DESCRIPTION:For all ages.  Adults meet in the lounge; youth in various classrooms throughout the church.
URL:https://waverlychurch.org/event/sunday-school/2020-01-26/
END:VEVENT
BEGIN:VEVENT
DTSTART;TZID=UTC:20200126T110000
DTEND;TZID=UTC:20200126T120000
DTSTAMP:20260421T181019
CREATED:20190602T191159Z
LAST-MODIFIED:20190901T184517Z
UID:10002174-1580036400-1580040000@waverlychurch.org
SUMMARY:Worship Service
DESCRIPTION:Please come for Worship in the sanctuary at 11:00 AM and consider joining us for Sunday School (all ages) at 10:00 AM.
URL:https://waverlychurch.org/event/worship-service-2/2020-01-26/
LOCATION:Sanctuary
END:VEVENT
BEGIN:VEVENT
DTSTART;TZID=UTC:20200202T100000
DTEND;TZID=UTC:20200202T110000
DTSTAMP:20260421T181019
CREATED:20170902T042325Z
LAST-MODIFIED:20190901T183932Z
UID:10002101-1580637600-1580641200@waverlychurch.org
SUMMARY:Sunday School
DESCRIPTION:For all ages.  Adults meet in the lounge; youth in various classrooms throughout the church.
URL:https://waverlychurch.org/event/sunday-school/2020-02-02/
END:VEVENT
BEGIN:VEVENT
DTSTART;TZID=UTC:20200202T110000
DTEND;TZID=UTC:20200202T120000
DTSTAMP:20260421T181019
CREATED:20190602T191159Z
LAST-MODIFIED:20190901T184517Z
UID:10002175-1580641200-1580644800@waverlychurch.org
SUMMARY:Worship Service
DESCRIPTION:Please come for Worship in the sanctuary at 11:00 AM and consider joining us for Sunday School (all ages) at 10:00 AM.
URL:https://waverlychurch.org/event/worship-service-2/2020-02-02/
LOCATION:Sanctuary
END:VEVENT
BEGIN:VEVENT
DTSTART;TZID=UTC:20200209T100000
DTEND;TZID=UTC:20200209T110000
DTSTAMP:20260421T181019
CREATED:20170902T042325Z
LAST-MODIFIED:20190901T183932Z
UID:10002102-1581242400-1581246000@waverlychurch.org
SUMMARY:Sunday School
DESCRIPTION:For all ages.  Adults meet in the lounge; youth in various classrooms throughout the church.
URL:https://waverlychurch.org/event/sunday-school/2020-02-09/
END:VEVENT
BEGIN:VEVENT
DTSTART;TZID=UTC:20200209T110000
DTEND;TZID=UTC:20200209T120000
DTSTAMP:20260421T181019
CREATED:20190602T191159Z
LAST-MODIFIED:20190901T184517Z
UID:10002176-1581246000-1581249600@waverlychurch.org
SUMMARY:Worship Service
DESCRIPTION:Please come for Worship in the sanctuary at 11:00 AM and consider joining us for Sunday School (all ages) at 10:00 AM.
URL:https://waverlychurch.org/event/worship-service-2/2020-02-09/
LOCATION:Sanctuary
END:VEVENT
BEGIN:VEVENT
DTSTART;TZID=UTC:20200216T100000
DTEND;TZID=UTC:20200216T110000
DTSTAMP:20260421T181019
CREATED:20170902T042325Z
LAST-MODIFIED:20190901T183932Z
UID:10002103-1581847200-1581850800@waverlychurch.org
SUMMARY:Sunday School
DESCRIPTION:For all ages.  Adults meet in the lounge; youth in various classrooms throughout the church.
URL:https://waverlychurch.org/event/sunday-school/2020-02-16/
END:VEVENT
BEGIN:VEVENT
DTSTART;TZID=UTC:20200216T110000
DTEND;TZID=UTC:20200216T120000
DTSTAMP:20260421T181019
CREATED:20190602T191159Z
LAST-MODIFIED:20190901T184517Z
UID:10002177-1581850800-1581854400@waverlychurch.org
SUMMARY:Worship Service
DESCRIPTION:Please come for Worship in the sanctuary at 11:00 AM and consider joining us for Sunday School (all ages) at 10:00 AM.
URL:https://waverlychurch.org/event/worship-service-2/2020-02-16/
LOCATION:Sanctuary
END:VEVENT
BEGIN:VEVENT
DTSTART;TZID=UTC:20200223T100000
DTEND;TZID=UTC:20200223T110000
DTSTAMP:20260421T181019
CREATED:20170902T042325Z
LAST-MODIFIED:20190901T183932Z
UID:10002104-1582452000-1582455600@waverlychurch.org
SUMMARY:Sunday School
DESCRIPTION:For all ages.  Adults meet in the lounge; youth in various classrooms throughout the church.
URL:https://waverlychurch.org/event/sunday-school/2020-02-23/
END:VEVENT
END:VCALENDAR