BEGIN:VCALENDAR
VERSION:2.0
PRODID:-//Waverly Presbyterian Church - ECPv6.15.20//NONSGML v1.0//EN
CALSCALE:GREGORIAN
METHOD:PUBLISH
X-WR-CALNAME:Waverly Presbyterian Church
X-ORIGINAL-URL:https://waverlychurch.org
X-WR-CALDESC:Events for Waverly Presbyterian Church
REFRESH-INTERVAL;VALUE=DURATION:PT1H
X-Robots-Tag:noindex
X-PUBLISHED-TTL:PT1H
BEGIN:VTIMEZONE
TZID:UTC
BEGIN:STANDARD
TZOFFSETFROM:+0000
TZOFFSETTO:+0000
TZNAME:UTC
DTSTART:20190101T000000
END:STANDARD
END:VTIMEZONE
BEGIN:VEVENT
DTSTART;TZID=UTC:20200315T110000
DTEND;TZID=UTC:20200315T120000
DTSTAMP:20260422T190019
CREATED:20190602T191159Z
LAST-MODIFIED:20190901T184517Z
UID:10002181-1584270000-1584273600@waverlychurch.org
SUMMARY:Worship Service
DESCRIPTION:Please come for Worship in the sanctuary at 11:00 AM and consider joining us for Sunday School (all ages) at 10:00 AM.
URL:https://waverlychurch.org/event/worship-service-2/2020-03-15/
LOCATION:Sanctuary
END:VEVENT
BEGIN:VEVENT
DTSTART;TZID=UTC:20200321T080000
DTEND;TZID=UTC:20200321T100000
DTSTAMP:20260422T190019
CREATED:20190310T191142Z
LAST-MODIFIED:20201210T023437Z
UID:10003148-1584777600-1584784800@waverlychurch.org
SUMMARY:Narcotics Anonymous [Virtual Meeting]
DESCRIPTION:Due to COVID-19 precautions\, Narcotics Anonymous is meeting virtually. \nVisit http://eastendarea.org/ for more information. \nIn -person meetings will resume when it is safe to do so.
URL:https://waverlychurch.org/event/na-2020-03-21/
END:VEVENT
BEGIN:VEVENT
DTSTART;TZID=UTC:20200322T100000
DTEND;TZID=UTC:20200322T110000
DTSTAMP:20260422T190019
CREATED:20170902T042325Z
LAST-MODIFIED:20190901T183932Z
UID:10002108-1584871200-1584874800@waverlychurch.org
SUMMARY:Sunday School
DESCRIPTION:For all ages.  Adults meet in the lounge; youth in various classrooms throughout the church.
URL:https://waverlychurch.org/event/sunday-school/2020-03-22/
END:VEVENT
BEGIN:VEVENT
DTSTART;TZID=UTC:20200322T100000
DTEND;TZID=UTC:20200322T110000
DTSTAMP:20260422T190019
CREATED:20170902T042325Z
LAST-MODIFIED:20200403T003253Z
UID:10002109-1584871200-1584874800@waverlychurch.org
SUMMARY:Sunday School [Cancelled]
DESCRIPTION:For all ages.  Adults meet in the lounge; youth in various classrooms throughout the church. \n\nDue to COVID-19 precautions\, regular Sunday School has been cancelled. We will resume when it is safe to do so.
URL:https://waverlychurch.org/event/sunday-school-2020-03-22/2020-03-22/
END:VEVENT
BEGIN:VEVENT
DTSTART;TZID=UTC:20200322T110000
DTEND;TZID=UTC:20200322T120000
DTSTAMP:20260422T190019
CREATED:20190602T191159Z
LAST-MODIFIED:20190901T184517Z
UID:10002182-1584874800-1584878400@waverlychurch.org
SUMMARY:Worship Service
DESCRIPTION:Please come for Worship in the sanctuary at 11:00 AM and consider joining us for Sunday School (all ages) at 10:00 AM.
URL:https://waverlychurch.org/event/worship-service-2/2020-03-22/
LOCATION:Sanctuary
END:VEVENT
BEGIN:VEVENT
DTSTART;TZID=UTC:20200322T110000
DTEND;TZID=UTC:20200322T120000
DTSTAMP:20260422T190019
CREATED:20190602T191159Z
LAST-MODIFIED:20200819T183748Z
UID:10000013-1584874800-1584878400@waverlychurch.org
SUMMARY:Worship Service [Live stream]
DESCRIPTION:Remembering Jesus’ commandment that we love God and our neighbor as ourselves\, Waverly will  suspend all in-person worship services and church gatherings (including Sunday school\, choir\, committee meetings and fellowship activities) until a time when it is safe to resume them. \nSunday’s worship service will be live-streamed over our Facebook page at 11:00 on Sunday morning and the scripture and sermon will be on SoundCloud. \nhttps://www.facebook.com/pg/WaverlyChurch/videos/
URL:https://waverlychurch.org/event/worship-service-2-2020-03-22/2020-03-22/
LOCATION:Sanctuary
END:VEVENT
BEGIN:VEVENT
DTSTART;TZID=UTC:20200322T193000
DTEND;TZID=UTC:20200322T203000
DTSTAMP:20260422T190019
CREATED:20190310T184702Z
LAST-MODIFIED:20210311T193157Z
UID:10002243-1584905400-1584909000@waverlychurch.org
SUMMARY:Alcoholics Anonymous [Virtual Meeting]
DESCRIPTION:Due to COVID-19 precautions\, the Frick Park Group of Alcoholics Anonymous is meeting virtually. \nLink to join: https://us02web.zoom.us/j/85414434244 \nAdditional links for AA groups are posted online at the AA Central Office.\nhttps://www.pghaa.org/ \nIn-person meetings will resume when it is safe to do so.
URL:https://waverlychurch.org/event/aa-2020-03-22/
LOCATION:Social Hall
END:VEVENT
BEGIN:VEVENT
DTSTART;TZID=UTC:20200324T193000
DTEND;TZID=UTC:20200324T210000
DTSTAMP:20260422T190019
CREATED:20190310T185001Z
LAST-MODIFIED:20201211T021356Z
UID:10001551-1585078200-1585083600@waverlychurch.org
SUMMARY:Al-Anon [Virtual Meeting]
DESCRIPTION:Due to COVID-19 precautions\, the Frick Park Al-Anon is meeting virtually. \nContact frickparkafg85[at]gmail.com for the link. \nIn-person meetings will resume when it is safe to do so.
URL:https://waverlychurch.org/event/al-anon-2020-03-24/2020-03-24/
END:VEVENT
BEGIN:VEVENT
DTSTART;TZID=UTC:20200329T100000
DTEND;TZID=UTC:20200329T110000
DTSTAMP:20260422T190019
CREATED:20170902T042325Z
LAST-MODIFIED:20200403T003253Z
UID:10002110-1585476000-1585479600@waverlychurch.org
SUMMARY:Sunday School [Cancelled]
DESCRIPTION:For all ages.  Adults meet in the lounge; youth in various classrooms throughout the church. \n\nDue to COVID-19 precautions\, regular Sunday School has been cancelled. We will resume when it is safe to do so.
URL:https://waverlychurch.org/event/sunday-school-2020-03-22/2020-03-29/
END:VEVENT
BEGIN:VEVENT
DTSTART;TZID=UTC:20200329T110000
DTEND;TZID=UTC:20200329T120000
DTSTAMP:20260422T190019
CREATED:20190602T191159Z
LAST-MODIFIED:20200819T183748Z
UID:10000014-1585479600-1585483200@waverlychurch.org
SUMMARY:Worship Service [Live stream]
DESCRIPTION:Remembering Jesus’ commandment that we love God and our neighbor as ourselves\, Waverly will  suspend all in-person worship services and church gatherings (including Sunday school\, choir\, committee meetings and fellowship activities) until a time when it is safe to resume them. \nSunday’s worship service will be live-streamed over our Facebook page at 11:00 on Sunday morning and the scripture and sermon will be on SoundCloud. \nhttps://www.facebook.com/pg/WaverlyChurch/videos/
URL:https://waverlychurch.org/event/worship-service-2-2020-03-22/2020-03-29/
LOCATION:Sanctuary
END:VEVENT
BEGIN:VEVENT
DTSTART;TZID=UTC:20200331T193000
DTEND;TZID=UTC:20200331T210000
DTSTAMP:20260422T190019
CREATED:20190310T185001Z
LAST-MODIFIED:20201211T021356Z
UID:10001552-1585683000-1585688400@waverlychurch.org
SUMMARY:Al-Anon [Virtual Meeting]
DESCRIPTION:Due to COVID-19 precautions\, the Frick Park Al-Anon is meeting virtually. \nContact frickparkafg85[at]gmail.com for the link. \nIn-person meetings will resume when it is safe to do so.
URL:https://waverlychurch.org/event/al-anon-2020-03-24/2020-03-31/
END:VEVENT
BEGIN:VEVENT
DTSTART;TZID=UTC:20200402T193000
DTEND;TZID=UTC:20200402T210000
DTSTAMP:20260422T190019
CREATED:20170902T012643Z
LAST-MODIFIED:20200403T000458Z
UID:10000076-1585855800-1585861200@waverlychurch.org
SUMMARY:Choir Rehearsal [Cancelled]
DESCRIPTION:Due to COVID-19 precautions\, regular choir rehearsal has been cancelled.
URL:https://waverlychurch.org/event/choir-rehearsal-2020-04-02/
LOCATION:Lounge
END:VEVENT
BEGIN:VEVENT
DTSTART;TZID=UTC:20200405T100000
DTEND;TZID=UTC:20200405T110000
DTSTAMP:20260422T190019
CREATED:20170902T042325Z
LAST-MODIFIED:20200403T003253Z
UID:10002111-1586080800-1586084400@waverlychurch.org
SUMMARY:Sunday School [Cancelled]
DESCRIPTION:For all ages.  Adults meet in the lounge; youth in various classrooms throughout the church. \n\nDue to COVID-19 precautions\, regular Sunday School has been cancelled. We will resume when it is safe to do so.
URL:https://waverlychurch.org/event/sunday-school-2020-03-22/2020-04-05/
END:VEVENT
BEGIN:VEVENT
DTSTART;TZID=UTC:20200405T110000
DTEND;TZID=UTC:20200405T120000
DTSTAMP:20260422T190019
CREATED:20190602T191159Z
LAST-MODIFIED:20200819T183748Z
UID:10000015-1586084400-1586088000@waverlychurch.org
SUMMARY:Worship Service [Live stream]
DESCRIPTION:Remembering Jesus’ commandment that we love God and our neighbor as ourselves\, Waverly will  suspend all in-person worship services and church gatherings (including Sunday school\, choir\, committee meetings and fellowship activities) until a time when it is safe to resume them. \nSunday’s worship service will be live-streamed over our Facebook page at 11:00 on Sunday morning and the scripture and sermon will be on SoundCloud. \nhttps://www.facebook.com/pg/WaverlyChurch/videos/
URL:https://waverlychurch.org/event/worship-service-2-2020-03-22/2020-04-05/
LOCATION:Sanctuary
END:VEVENT
BEGIN:VEVENT
DTSTART;TZID=UTC:20200407T193000
DTEND;TZID=UTC:20200407T210000
DTSTAMP:20260422T190019
CREATED:20190310T185001Z
LAST-MODIFIED:20201211T021356Z
UID:10001553-1586287800-1586293200@waverlychurch.org
SUMMARY:Al-Anon [Virtual Meeting]
DESCRIPTION:Due to COVID-19 precautions\, the Frick Park Al-Anon is meeting virtually. \nContact frickparkafg85[at]gmail.com for the link. \nIn-person meetings will resume when it is safe to do so.
URL:https://waverlychurch.org/event/al-anon-2020-03-24/2020-04-07/
END:VEVENT
BEGIN:VEVENT
DTSTART;TZID=UTC:20200409T193000
DTEND;TZID=UTC:20200409T210000
DTSTAMP:20260422T190019
CREATED:20170902T012643Z
LAST-MODIFIED:20200403T000443Z
UID:10000077-1586460600-1586466000@waverlychurch.org
SUMMARY:Choir Rehearsal [Cancelled]
DESCRIPTION:Due to COVID-19 precautions\, regular choir rehearsal has been cancelled.
URL:https://waverlychurch.org/event/choir-rehearsal-2020-04-09/
LOCATION:Lounge
END:VEVENT
BEGIN:VEVENT
DTSTART;TZID=UTC:20200412T100000
DTEND;TZID=UTC:20200412T110000
DTSTAMP:20260422T190019
CREATED:20170902T042325Z
LAST-MODIFIED:20200403T003253Z
UID:10002112-1586685600-1586689200@waverlychurch.org
SUMMARY:Sunday School [Cancelled]
DESCRIPTION:For all ages.  Adults meet in the lounge; youth in various classrooms throughout the church. \n\nDue to COVID-19 precautions\, regular Sunday School has been cancelled. We will resume when it is safe to do so.
URL:https://waverlychurch.org/event/sunday-school-2020-03-22/2020-04-12/
END:VEVENT
BEGIN:VEVENT
DTSTART;TZID=UTC:20200412T110000
DTEND;TZID=UTC:20200412T120000
DTSTAMP:20260422T190019
CREATED:20190602T191159Z
LAST-MODIFIED:20200819T183748Z
UID:10000016-1586689200-1586692800@waverlychurch.org
SUMMARY:Worship Service [Live stream]
DESCRIPTION:Remembering Jesus’ commandment that we love God and our neighbor as ourselves\, Waverly will  suspend all in-person worship services and church gatherings (including Sunday school\, choir\, committee meetings and fellowship activities) until a time when it is safe to resume them. \nSunday’s worship service will be live-streamed over our Facebook page at 11:00 on Sunday morning and the scripture and sermon will be on SoundCloud. \nhttps://www.facebook.com/pg/WaverlyChurch/videos/
URL:https://waverlychurch.org/event/worship-service-2-2020-03-22/2020-04-12/
LOCATION:Sanctuary
END:VEVENT
BEGIN:VEVENT
DTSTART;TZID=UTC:20200414T193000
DTEND;TZID=UTC:20200414T210000
DTSTAMP:20260422T190019
CREATED:20190310T185001Z
LAST-MODIFIED:20201211T021356Z
UID:10001554-1586892600-1586898000@waverlychurch.org
SUMMARY:Al-Anon [Virtual Meeting]
DESCRIPTION:Due to COVID-19 precautions\, the Frick Park Al-Anon is meeting virtually. \nContact frickparkafg85[at]gmail.com for the link. \nIn-person meetings will resume when it is safe to do so.
URL:https://waverlychurch.org/event/al-anon-2020-03-24/2020-04-14/
END:VEVENT
BEGIN:VEVENT
DTSTART;TZID=UTC:20200416T193000
DTEND;TZID=UTC:20200416T210000
DTSTAMP:20260422T190019
CREATED:20170902T012643Z
LAST-MODIFIED:20200403T000540Z
UID:10000003-1587065400-1587070800@waverlychurch.org
SUMMARY:Choir Rehearsal [Cancelled]
DESCRIPTION:Due to COVID-19 precautions\, regular choir rehearsal has been cancelled.
URL:https://waverlychurch.org/event/choir-rehearsal-2020-04-16/
LOCATION:Lounge
END:VEVENT
BEGIN:VEVENT
DTSTART;TZID=UTC:20200419T100000
DTEND;TZID=UTC:20200419T110000
DTSTAMP:20260422T190019
CREATED:20170902T042325Z
LAST-MODIFIED:20200403T003253Z
UID:10002113-1587290400-1587294000@waverlychurch.org
SUMMARY:Sunday School [Cancelled]
DESCRIPTION:For all ages.  Adults meet in the lounge; youth in various classrooms throughout the church. \n\nDue to COVID-19 precautions\, regular Sunday School has been cancelled. We will resume when it is safe to do so.
URL:https://waverlychurch.org/event/sunday-school-2020-03-22/2020-04-19/
END:VEVENT
BEGIN:VEVENT
DTSTART;TZID=UTC:20200419T110000
DTEND;TZID=UTC:20200419T120000
DTSTAMP:20260422T190019
CREATED:20190602T191159Z
LAST-MODIFIED:20200819T183748Z
UID:10000017-1587294000-1587297600@waverlychurch.org
SUMMARY:Worship Service [Live stream]
DESCRIPTION:Remembering Jesus’ commandment that we love God and our neighbor as ourselves\, Waverly will  suspend all in-person worship services and church gatherings (including Sunday school\, choir\, committee meetings and fellowship activities) until a time when it is safe to resume them. \nSunday’s worship service will be live-streamed over our Facebook page at 11:00 on Sunday morning and the scripture and sermon will be on SoundCloud. \nhttps://www.facebook.com/pg/WaverlyChurch/videos/
URL:https://waverlychurch.org/event/worship-service-2-2020-03-22/2020-04-19/
LOCATION:Sanctuary
END:VEVENT
BEGIN:VEVENT
DTSTART;TZID=UTC:20200421T193000
DTEND;TZID=UTC:20200421T210000
DTSTAMP:20260422T190019
CREATED:20190310T185001Z
LAST-MODIFIED:20201211T021356Z
UID:10001555-1587497400-1587502800@waverlychurch.org
SUMMARY:Al-Anon [Virtual Meeting]
DESCRIPTION:Due to COVID-19 precautions\, the Frick Park Al-Anon is meeting virtually. \nContact frickparkafg85[at]gmail.com for the link. \nIn-person meetings will resume when it is safe to do so.
URL:https://waverlychurch.org/event/al-anon-2020-03-24/2020-04-21/
END:VEVENT
BEGIN:VEVENT
DTSTART;TZID=UTC:20200423T193000
DTEND;TZID=UTC:20200423T210000
DTSTAMP:20260422T190019
CREATED:20170902T012643Z
LAST-MODIFIED:20200403T003048Z
UID:10000004-1587670200-1587675600@waverlychurch.org
SUMMARY:Choir Rehearsal [Cancelled]
DESCRIPTION:Due to COVID-19 precautions\, regular choir rehearsal has been cancelled. Choir will resume when it is safe to do so.
URL:https://waverlychurch.org/event/choir-rehearsal-2020-04-23/2020-04-23/
LOCATION:Lounge
END:VEVENT
BEGIN:VEVENT
DTSTART;TZID=UTC:20200426T100000
DTEND;TZID=UTC:20200426T110000
DTSTAMP:20260422T190019
CREATED:20170902T042325Z
LAST-MODIFIED:20200403T003253Z
UID:10002114-1587895200-1587898800@waverlychurch.org
SUMMARY:Sunday School [Cancelled]
DESCRIPTION:For all ages.  Adults meet in the lounge; youth in various classrooms throughout the church. \n\nDue to COVID-19 precautions\, regular Sunday School has been cancelled. We will resume when it is safe to do so.
URL:https://waverlychurch.org/event/sunday-school-2020-03-22/2020-04-26/
END:VEVENT
BEGIN:VEVENT
DTSTART;TZID=UTC:20200426T110000
DTEND;TZID=UTC:20200426T120000
DTSTAMP:20260422T190019
CREATED:20190602T191159Z
LAST-MODIFIED:20200819T183748Z
UID:10000018-1587898800-1587902400@waverlychurch.org
SUMMARY:Worship Service [Live stream]
DESCRIPTION:Remembering Jesus’ commandment that we love God and our neighbor as ourselves\, Waverly will  suspend all in-person worship services and church gatherings (including Sunday school\, choir\, committee meetings and fellowship activities) until a time when it is safe to resume them. \nSunday’s worship service will be live-streamed over our Facebook page at 11:00 on Sunday morning and the scripture and sermon will be on SoundCloud. \nhttps://www.facebook.com/pg/WaverlyChurch/videos/
URL:https://waverlychurch.org/event/worship-service-2-2020-03-22/2020-04-26/
LOCATION:Sanctuary
END:VEVENT
BEGIN:VEVENT
DTSTART;TZID=UTC:20200428T193000
DTEND;TZID=UTC:20200428T210000
DTSTAMP:20260422T190019
CREATED:20190310T185001Z
LAST-MODIFIED:20201211T021356Z
UID:10001556-1588102200-1588107600@waverlychurch.org
SUMMARY:Al-Anon [Virtual Meeting]
DESCRIPTION:Due to COVID-19 precautions\, the Frick Park Al-Anon is meeting virtually. \nContact frickparkafg85[at]gmail.com for the link. \nIn-person meetings will resume when it is safe to do so.
URL:https://waverlychurch.org/event/al-anon-2020-03-24/2020-04-28/
END:VEVENT
BEGIN:VEVENT
DTSTART;TZID=UTC:20200430T193000
DTEND;TZID=UTC:20200430T210000
DTSTAMP:20260422T190019
CREATED:20170902T012643Z
LAST-MODIFIED:20200403T003048Z
UID:10000005-1588275000-1588280400@waverlychurch.org
SUMMARY:Choir Rehearsal [Cancelled]
DESCRIPTION:Due to COVID-19 precautions\, regular choir rehearsal has been cancelled. Choir will resume when it is safe to do so.
URL:https://waverlychurch.org/event/choir-rehearsal-2020-04-23/2020-04-30/
LOCATION:Lounge
END:VEVENT
BEGIN:VEVENT
DTSTART;TZID=UTC:20200503T100000
DTEND;TZID=UTC:20200503T110000
DTSTAMP:20260422T190019
CREATED:20170902T042325Z
LAST-MODIFIED:20200403T003253Z
UID:10002115-1588500000-1588503600@waverlychurch.org
SUMMARY:Sunday School [Cancelled]
DESCRIPTION:For all ages.  Adults meet in the lounge; youth in various classrooms throughout the church. \n\nDue to COVID-19 precautions\, regular Sunday School has been cancelled. We will resume when it is safe to do so.
URL:https://waverlychurch.org/event/sunday-school-2020-03-22/2020-05-03/
END:VEVENT
BEGIN:VEVENT
DTSTART;TZID=UTC:20200503T110000
DTEND;TZID=UTC:20200503T120000
DTSTAMP:20260422T190019
CREATED:20190602T191159Z
LAST-MODIFIED:20200819T183748Z
UID:10000019-1588503600-1588507200@waverlychurch.org
SUMMARY:Worship Service [Live stream]
DESCRIPTION:Remembering Jesus’ commandment that we love God and our neighbor as ourselves\, Waverly will  suspend all in-person worship services and church gatherings (including Sunday school\, choir\, committee meetings and fellowship activities) until a time when it is safe to resume them. \nSunday’s worship service will be live-streamed over our Facebook page at 11:00 on Sunday morning and the scripture and sermon will be on SoundCloud. \nhttps://www.facebook.com/pg/WaverlyChurch/videos/
URL:https://waverlychurch.org/event/worship-service-2-2020-03-22/2020-05-03/
LOCATION:Sanctuary
END:VEVENT
END:VCALENDAR