BEGIN:VCALENDAR
VERSION:2.0
PRODID:-//Waverly Presbyterian Church - ECPv6.15.20//NONSGML v1.0//EN
CALSCALE:GREGORIAN
METHOD:PUBLISH
X-WR-CALNAME:Waverly Presbyterian Church
X-ORIGINAL-URL:https://waverlychurch.org
X-WR-CALDESC:Events for Waverly Presbyterian Church
REFRESH-INTERVAL;VALUE=DURATION:PT1H
X-Robots-Tag:noindex
X-PUBLISHED-TTL:PT1H
BEGIN:VTIMEZONE
TZID:America/New_York
BEGIN:DAYLIGHT
TZOFFSETFROM:-0500
TZOFFSETTO:-0400
TZNAME:EDT
DTSTART:20240310T070000
END:DAYLIGHT
BEGIN:STANDARD
TZOFFSETFROM:-0400
TZOFFSETTO:-0500
TZNAME:EST
DTSTART:20241103T060000
END:STANDARD
BEGIN:DAYLIGHT
TZOFFSETFROM:-0500
TZOFFSETTO:-0400
TZNAME:EDT
DTSTART:20250309T070000
END:DAYLIGHT
BEGIN:STANDARD
TZOFFSETFROM:-0400
TZOFFSETTO:-0500
TZNAME:EST
DTSTART:20251102T060000
END:STANDARD
BEGIN:DAYLIGHT
TZOFFSETFROM:-0500
TZOFFSETTO:-0400
TZNAME:EDT
DTSTART:20260308T070000
END:DAYLIGHT
BEGIN:STANDARD
TZOFFSETFROM:-0400
TZOFFSETTO:-0500
TZNAME:EST
DTSTART:20261101T060000
END:STANDARD
END:VTIMEZONE
BEGIN:VTIMEZONE
TZID:UTC
BEGIN:STANDARD
TZOFFSETFROM:+0000
TZOFFSETTO:+0000
TZNAME:UTC
DTSTART:20240101T000000
END:STANDARD
END:VTIMEZONE
BEGIN:VEVENT
DTSTART;TZID=America/New_York:20251020T170000
DTEND;TZID=America/New_York:20251020T180000
DTSTAMP:20260422T182529
CREATED:20240827T181303Z
LAST-MODIFIED:20260309T184828Z
UID:10008284-1760979600-1760983200@waverlychurch.org
SUMMARY:Drawing Closer - Meeting on Zoom
DESCRIPTION:This time of contemplative prayer and exploration of poetry is different every week and open to all\, no matter your beliefs. \nClick here for the Zoom link or call by phone:\n929-436-2866\nMeeting ID: 829 0407 0235\nPasscode: 056654
URL:https://waverlychurch.org/event/drawing-closer/2025-10-20/
LOCATION:https://waverlychurch.org/event/drawing-closer/2025-10-20/
END:VEVENT
BEGIN:VEVENT
DTSTART;TZID=America/New_York:20251021T190000
DTEND;TZID=America/New_York:20251021T193000
DTSTAMP:20260422T182529
CREATED:20210711T201005Z
LAST-MODIFIED:20220704T150145Z
UID:10000306-1761073200-1761075000@waverlychurch.org
SUMMARY:Al-Anon [Beginners' Meeting]
DESCRIPTION:The Frick Park Al-Anon group may still be virtual. \nContact frickparkafg85[at]gmail.com with any questions.
URL:https://waverlychurch.org/event/al-anon-beginners-meeting-2022-01-04-2022-04-05/2025-10-21/
LOCATION:Social Hall
END:VEVENT
BEGIN:VEVENT
DTSTART;TZID=UTC:20251021T193000
DTEND;TZID=UTC:20251021T203000
DTSTAMP:20260422T182529
CREATED:20190310T185001Z
LAST-MODIFIED:20220331T225559Z
UID:10002535-1761075000-1761078600@waverlychurch.org
SUMMARY:Al-Anon
DESCRIPTION:The Frick Park Al-Anon is holding in-person meetings in the Social Hall. \nContact frickparkafg85[at]gmail.com with any questions.
URL:https://waverlychurch.org/event/al-anon-2020-03-24-2021-07-06-2021-07-13/2025-10-21/
END:VEVENT
BEGIN:VEVENT
DTSTART;TZID=America/New_York:20251026T100000
DTEND;TZID=America/New_York:20251026T105500
DTSTAMP:20260422T182529
CREATED:20250923T174238Z
LAST-MODIFIED:20250923T174239Z
UID:10007152-1761472800-1761476100@waverlychurch.org
SUMMARY:Sunday School
DESCRIPTION:All ages are welcome to join us each week for Sunday School in the following locations: \nChildren up through 1st grade: nursery (downstairs\, right side of front entrance – ring bell to enter) \nChildren and Youth 2nd grade through 12th grade in the “Wonka Room” – room off of our lower floor Social Hall. \nAdults: lounge (upstairs in back of church)
URL:https://waverlychurch.org/event/sunday-school-3-2-2-2-2-2-2/2025-10-26/
END:VEVENT
BEGIN:VEVENT
DTSTART;TZID=America/New_York:20251026T110000
DTEND;TZID=America/New_York:20251026T121500
DTSTAMP:20260422T182529
CREATED:20250923T171614Z
LAST-MODIFIED:20250923T171615Z
UID:10007720-1761476400-1761480900@waverlychurch.org
SUMMARY:Worship Service
DESCRIPTION:We meet on Sundays in our Sanctuary at 11am during the school year and stream services online. \nSunday’s worship service will be live-streamed over our Facebook page on Sunday mornings. \n \nhttps://www.facebook.com/pg/WaverlyChurch/videos/
URL:https://waverlychurch.org/event/worship-service-5-2-2/2025-10-26/
END:VEVENT
BEGIN:VEVENT
DTSTART;TZID=America/New_York:20251026T121500
DTEND;TZID=America/New_York:20251026T133000
DTSTAMP:20260422T182529
CREATED:20250923T170705Z
LAST-MODIFIED:20250923T170706Z
UID:10006636-1761480900-1761485400@waverlychurch.org
SUMMARY:Coffee Hour
DESCRIPTION:Join us after service weekly for a chance to share fellowship over coffee and snacks
URL:https://waverlychurch.org/event/coffee-hour-3-2-2-2-2/2025-10-26/
LOCATION:Lounge
END:VEVENT
BEGIN:VEVENT
DTSTART;TZID=America/New_York:20251026T193000
DTEND;TZID=America/New_York:20251026T210000
DTSTAMP:20260422T182529
CREATED:20190310T184702Z
LAST-MODIFIED:20220704T145322Z
UID:10000658-1761507000-1761512400@waverlychurch.org
SUMMARY:Alcoholics Anonymous
DESCRIPTION:The Frick Park Group of Alcoholics Anonymous is holding in-person meetings in the Social Hall. \nAdditional links for AA groups are posted online at the AA Central Office.\nhttps://www.pghaa.org/
URL:https://waverlychurch.org/event/aa-2020-03-22-2021-07-04/2025-10-26/
LOCATION:Social Hall
END:VEVENT
BEGIN:VEVENT
DTSTART;TZID=America/New_York:20251027T170000
DTEND;TZID=America/New_York:20251027T180000
DTSTAMP:20260422T182529
CREATED:20240827T181303Z
LAST-MODIFIED:20260309T184828Z
UID:10008285-1761584400-1761588000@waverlychurch.org
SUMMARY:Drawing Closer - Meeting on Zoom
DESCRIPTION:This time of contemplative prayer and exploration of poetry is different every week and open to all\, no matter your beliefs. \nClick here for the Zoom link or call by phone:\n929-436-2866\nMeeting ID: 829 0407 0235\nPasscode: 056654
URL:https://waverlychurch.org/event/drawing-closer/2025-10-27/
LOCATION:https://waverlychurch.org/event/drawing-closer/2025-10-27/
END:VEVENT
BEGIN:VEVENT
DTSTART;TZID=America/New_York:20251028T190000
DTEND;TZID=America/New_York:20251028T193000
DTSTAMP:20260422T182529
CREATED:20210711T201005Z
LAST-MODIFIED:20220704T150145Z
UID:10000307-1761678000-1761679800@waverlychurch.org
SUMMARY:Al-Anon [Beginners' Meeting]
DESCRIPTION:The Frick Park Al-Anon group may still be virtual. \nContact frickparkafg85[at]gmail.com with any questions.
URL:https://waverlychurch.org/event/al-anon-beginners-meeting-2022-01-04-2022-04-05/2025-10-28/
LOCATION:Social Hall
END:VEVENT
BEGIN:VEVENT
DTSTART;TZID=UTC:20251028T193000
DTEND;TZID=UTC:20251028T203000
DTSTAMP:20260422T182529
CREATED:20190310T185001Z
LAST-MODIFIED:20220331T225559Z
UID:10002536-1761679800-1761683400@waverlychurch.org
SUMMARY:Al-Anon
DESCRIPTION:The Frick Park Al-Anon is holding in-person meetings in the Social Hall. \nContact frickparkafg85[at]gmail.com with any questions.
URL:https://waverlychurch.org/event/al-anon-2020-03-24-2021-07-06-2021-07-13/2025-10-28/
END:VEVENT
BEGIN:VEVENT
DTSTART;TZID=America/New_York:20251102T100000
DTEND;TZID=America/New_York:20251102T105500
DTSTAMP:20260422T182529
CREATED:20250923T174238Z
LAST-MODIFIED:20250923T174239Z
UID:10007153-1762077600-1762080900@waverlychurch.org
SUMMARY:Sunday School
DESCRIPTION:All ages are welcome to join us each week for Sunday School in the following locations: \nChildren up through 1st grade: nursery (downstairs\, right side of front entrance – ring bell to enter) \nChildren and Youth 2nd grade through 12th grade in the “Wonka Room” – room off of our lower floor Social Hall. \nAdults: lounge (upstairs in back of church)
URL:https://waverlychurch.org/event/sunday-school-3-2-2-2-2-2-2/2025-11-02/
END:VEVENT
BEGIN:VEVENT
DTSTART;TZID=America/New_York:20251102T110000
DTEND;TZID=America/New_York:20251102T121500
DTSTAMP:20260422T182529
CREATED:20250923T171614Z
LAST-MODIFIED:20250923T171615Z
UID:10007721-1762081200-1762085700@waverlychurch.org
SUMMARY:Worship Service
DESCRIPTION:We meet on Sundays in our Sanctuary at 11am during the school year and stream services online. \nSunday’s worship service will be live-streamed over our Facebook page on Sunday mornings. \n \nhttps://www.facebook.com/pg/WaverlyChurch/videos/
URL:https://waverlychurch.org/event/worship-service-5-2-2/2025-11-02/
END:VEVENT
BEGIN:VEVENT
DTSTART;TZID=America/New_York:20251102T121500
DTEND;TZID=America/New_York:20251102T133000
DTSTAMP:20260422T182530
CREATED:20250923T170705Z
LAST-MODIFIED:20250923T170706Z
UID:10006637-1762085700-1762090200@waverlychurch.org
SUMMARY:Coffee Hour
DESCRIPTION:Join us after service weekly for a chance to share fellowship over coffee and snacks
URL:https://waverlychurch.org/event/coffee-hour-3-2-2-2-2/2025-11-02/
LOCATION:Lounge
END:VEVENT
BEGIN:VEVENT
DTSTART;TZID=America/New_York:20251102T193000
DTEND;TZID=America/New_York:20251102T210000
DTSTAMP:20260422T182530
CREATED:20190310T184702Z
LAST-MODIFIED:20220704T145322Z
UID:10000659-1762111800-1762117200@waverlychurch.org
SUMMARY:Alcoholics Anonymous
DESCRIPTION:The Frick Park Group of Alcoholics Anonymous is holding in-person meetings in the Social Hall. \nAdditional links for AA groups are posted online at the AA Central Office.\nhttps://www.pghaa.org/
URL:https://waverlychurch.org/event/aa-2020-03-22-2021-07-04/2025-11-02/
LOCATION:Social Hall
END:VEVENT
BEGIN:VEVENT
DTSTART;TZID=America/New_York:20251103T090000
DTEND;TZID=America/New_York:20251103T200000
DTSTAMP:20260422T182530
CREATED:20251030T152456Z
LAST-MODIFIED:20251030T152456Z
UID:10131724-1762160400-1762200000@waverlychurch.org
SUMMARY:Guitar Lessons
DESCRIPTION:ian@cainsmusiclessons.com
URL:https://waverlychurch.org/event/guitar-lessons/2025-11-03/
LOCATION:Frog Room
END:VEVENT
BEGIN:VEVENT
DTSTART;TZID=America/New_York:20251103T170000
DTEND;TZID=America/New_York:20251103T180000
DTSTAMP:20260422T182530
CREATED:20240827T181303Z
LAST-MODIFIED:20260309T184828Z
UID:10008286-1762189200-1762192800@waverlychurch.org
SUMMARY:Drawing Closer - Meeting on Zoom
DESCRIPTION:This time of contemplative prayer and exploration of poetry is different every week and open to all\, no matter your beliefs. \nClick here for the Zoom link or call by phone:\n929-436-2866\nMeeting ID: 829 0407 0235\nPasscode: 056654
URL:https://waverlychurch.org/event/drawing-closer/2025-11-03/
LOCATION:https://waverlychurch.org/event/drawing-closer/2025-11-03/
END:VEVENT
BEGIN:VEVENT
DTSTART;TZID=America/New_York:20251104T190000
DTEND;TZID=America/New_York:20251104T193000
DTSTAMP:20260422T182530
CREATED:20210711T201005Z
LAST-MODIFIED:20220704T150145Z
UID:10000308-1762282800-1762284600@waverlychurch.org
SUMMARY:Al-Anon [Beginners' Meeting]
DESCRIPTION:The Frick Park Al-Anon group may still be virtual. \nContact frickparkafg85[at]gmail.com with any questions.
URL:https://waverlychurch.org/event/al-anon-beginners-meeting-2022-01-04-2022-04-05/2025-11-04/
LOCATION:Social Hall
END:VEVENT
BEGIN:VEVENT
DTSTART;TZID=UTC:20251104T193000
DTEND;TZID=UTC:20251104T203000
DTSTAMP:20260422T182530
CREATED:20190310T185001Z
LAST-MODIFIED:20220331T225559Z
UID:10002537-1762284600-1762288200@waverlychurch.org
SUMMARY:Al-Anon
DESCRIPTION:The Frick Park Al-Anon is holding in-person meetings in the Social Hall. \nContact frickparkafg85[at]gmail.com with any questions.
URL:https://waverlychurch.org/event/al-anon-2020-03-24-2021-07-06-2021-07-13/2025-11-04/
END:VEVENT
BEGIN:VEVENT
DTSTART;TZID=America/New_York:20251105T090000
DTEND;TZID=America/New_York:20251105T200000
DTSTAMP:20260422T182530
CREATED:20251030T152456Z
LAST-MODIFIED:20251030T152456Z
UID:10131725-1762333200-1762372800@waverlychurch.org
SUMMARY:Guitar Lessons
DESCRIPTION:ian@cainsmusiclessons.com
URL:https://waverlychurch.org/event/guitar-lessons/2025-11-05/
LOCATION:Frog Room
END:VEVENT
BEGIN:VEVENT
DTSTART;TZID=America/New_York:20251107T100000
DTEND;TZID=America/New_York:20251107T104500
DTSTAMP:20260422T182530
CREATED:20250529T155446Z
LAST-MODIFIED:20250529T155446Z
UID:10126566-1762509600-1762512300@waverlychurch.org
SUMMARY:Five Elements Qigong Fall Session 2 (Drop-ins Welcome)
DESCRIPTION:Contact Laura at laurakbudde@gmail.com or 618-210-3672.
URL:https://waverlychurch.org/event/five-elements-qigong-fall-session-2-drop-ins-welcome/2025-11-07/
LOCATION:Social Hall
END:VEVENT
BEGIN:VEVENT
DTSTART;TZID=America/New_York:20251107T110000
DTEND;TZID=America/New_York:20251107T120000
DTSTAMP:20260422T182530
CREATED:20250529T155620Z
LAST-MODIFIED:20250529T160727Z
UID:10126578-1762513200-1762516800@waverlychurch.org
SUMMARY:Tai Chi for Health Part 2 Fall Session 2 (Continuation of Part 1)
DESCRIPTION:Contact Laura at laurakbudde@gmail.com or 618-210-3672. \nRegular attendance is necessary to learn and benefit from a complete tai chi form.
URL:https://waverlychurch.org/event/tai-chi-for-health-part-2-fall-session-2-a-continuation-of-part-1/2025-11-07/
LOCATION:Social Hall
END:VEVENT
BEGIN:VEVENT
DTSTART;TZID=America/New_York:20251107T180000
DTEND;TZID=America/New_York:20251107T200000
DTSTAMP:20260422T182530
CREATED:20250821T164621Z
LAST-MODIFIED:20250821T164621Z
UID:10129191-1762538400-1762545600@waverlychurch.org
SUMMARY:First Friday Fellowship
DESCRIPTION:
URL:https://waverlychurch.org/event/first-friday-fellowship/2025-11-07/
LOCATION:Social Hall
END:VEVENT
BEGIN:VEVENT
DTSTART;TZID=America/New_York:20251109T100000
DTEND;TZID=America/New_York:20251109T105500
DTSTAMP:20260422T182530
CREATED:20250923T174238Z
LAST-MODIFIED:20250923T174239Z
UID:10007154-1762682400-1762685700@waverlychurch.org
SUMMARY:Sunday School
DESCRIPTION:All ages are welcome to join us each week for Sunday School in the following locations: \nChildren up through 1st grade: nursery (downstairs\, right side of front entrance – ring bell to enter) \nChildren and Youth 2nd grade through 12th grade in the “Wonka Room” – room off of our lower floor Social Hall. \nAdults: lounge (upstairs in back of church)
URL:https://waverlychurch.org/event/sunday-school-3-2-2-2-2-2-2/2025-11-09/
END:VEVENT
BEGIN:VEVENT
DTSTART;TZID=America/New_York:20251109T110000
DTEND;TZID=America/New_York:20251109T121500
DTSTAMP:20260422T182530
CREATED:20250923T171614Z
LAST-MODIFIED:20250923T171615Z
UID:10007722-1762686000-1762690500@waverlychurch.org
SUMMARY:Worship Service
DESCRIPTION:We meet on Sundays in our Sanctuary at 11am during the school year and stream services online. \nSunday’s worship service will be live-streamed over our Facebook page on Sunday mornings. \n \nhttps://www.facebook.com/pg/WaverlyChurch/videos/
URL:https://waverlychurch.org/event/worship-service-5-2-2/2025-11-09/
END:VEVENT
BEGIN:VEVENT
DTSTART;TZID=America/New_York:20251109T121500
DTEND;TZID=America/New_York:20251109T133000
DTSTAMP:20260422T182530
CREATED:20250923T170705Z
LAST-MODIFIED:20250923T170706Z
UID:10006638-1762690500-1762695000@waverlychurch.org
SUMMARY:Coffee Hour
DESCRIPTION:Join us after service weekly for a chance to share fellowship over coffee and snacks
URL:https://waverlychurch.org/event/coffee-hour-3-2-2-2-2/2025-11-09/
LOCATION:Lounge
END:VEVENT
BEGIN:VEVENT
DTSTART;TZID=America/New_York:20251109T193000
DTEND;TZID=America/New_York:20251109T210000
DTSTAMP:20260422T182530
CREATED:20190310T184702Z
LAST-MODIFIED:20220704T145322Z
UID:10000660-1762716600-1762722000@waverlychurch.org
SUMMARY:Alcoholics Anonymous
DESCRIPTION:The Frick Park Group of Alcoholics Anonymous is holding in-person meetings in the Social Hall. \nAdditional links for AA groups are posted online at the AA Central Office.\nhttps://www.pghaa.org/
URL:https://waverlychurch.org/event/aa-2020-03-22-2021-07-04/2025-11-09/
LOCATION:Social Hall
END:VEVENT
BEGIN:VEVENT
DTSTART;TZID=America/New_York:20251110T090000
DTEND;TZID=America/New_York:20251110T200000
DTSTAMP:20260422T182530
CREATED:20251030T152456Z
LAST-MODIFIED:20251030T152456Z
UID:10131726-1762765200-1762804800@waverlychurch.org
SUMMARY:Guitar Lessons
DESCRIPTION:ian@cainsmusiclessons.com
URL:https://waverlychurch.org/event/guitar-lessons/2025-11-10/
LOCATION:Frog Room
END:VEVENT
BEGIN:VEVENT
DTSTART;TZID=America/New_York:20251110T170000
DTEND;TZID=America/New_York:20251110T180000
DTSTAMP:20260422T182530
CREATED:20240827T181303Z
LAST-MODIFIED:20260309T184828Z
UID:10008287-1762794000-1762797600@waverlychurch.org
SUMMARY:Drawing Closer - Meeting on Zoom
DESCRIPTION:This time of contemplative prayer and exploration of poetry is different every week and open to all\, no matter your beliefs. \nClick here for the Zoom link or call by phone:\n929-436-2866\nMeeting ID: 829 0407 0235\nPasscode: 056654
URL:https://waverlychurch.org/event/drawing-closer/2025-11-10/
LOCATION:https://waverlychurch.org/event/drawing-closer/2025-11-10/
END:VEVENT
BEGIN:VEVENT
DTSTART;TZID=America/New_York:20251111T190000
DTEND;TZID=America/New_York:20251111T193000
DTSTAMP:20260422T182530
CREATED:20210711T201005Z
LAST-MODIFIED:20220704T150145Z
UID:10000309-1762887600-1762889400@waverlychurch.org
SUMMARY:Al-Anon [Beginners' Meeting]
DESCRIPTION:The Frick Park Al-Anon group may still be virtual. \nContact frickparkafg85[at]gmail.com with any questions.
URL:https://waverlychurch.org/event/al-anon-beginners-meeting-2022-01-04-2022-04-05/2025-11-11/
LOCATION:Social Hall
END:VEVENT
BEGIN:VEVENT
DTSTART;TZID=UTC:20251111T193000
DTEND;TZID=UTC:20251111T203000
DTSTAMP:20260422T182530
CREATED:20190310T185001Z
LAST-MODIFIED:20220331T225559Z
UID:10002538-1762889400-1762893000@waverlychurch.org
SUMMARY:Al-Anon
DESCRIPTION:The Frick Park Al-Anon is holding in-person meetings in the Social Hall. \nContact frickparkafg85[at]gmail.com with any questions.
URL:https://waverlychurch.org/event/al-anon-2020-03-24-2021-07-06-2021-07-13/2025-11-11/
END:VEVENT
END:VCALENDAR