BEGIN:VCALENDAR
VERSION:2.0
PRODID:-//Waverly Presbyterian Church - ECPv6.15.20//NONSGML v1.0//EN
CALSCALE:GREGORIAN
METHOD:PUBLISH
X-ORIGINAL-URL:https://waverlychurch.org
X-WR-CALDESC:Events for Waverly Presbyterian Church
REFRESH-INTERVAL;VALUE=DURATION:PT1H
X-Robots-Tag:noindex
X-PUBLISHED-TTL:PT1H
BEGIN:VTIMEZONE
TZID:America/New_York
BEGIN:DAYLIGHT
TZOFFSETFROM:-0500
TZOFFSETTO:-0400
TZNAME:EDT
DTSTART:20230312T070000
END:DAYLIGHT
BEGIN:STANDARD
TZOFFSETFROM:-0400
TZOFFSETTO:-0500
TZNAME:EST
DTSTART:20231105T060000
END:STANDARD
BEGIN:DAYLIGHT
TZOFFSETFROM:-0500
TZOFFSETTO:-0400
TZNAME:EDT
DTSTART:20240310T070000
END:DAYLIGHT
BEGIN:STANDARD
TZOFFSETFROM:-0400
TZOFFSETTO:-0500
TZNAME:EST
DTSTART:20241103T060000
END:STANDARD
BEGIN:DAYLIGHT
TZOFFSETFROM:-0500
TZOFFSETTO:-0400
TZNAME:EDT
DTSTART:20250309T070000
END:DAYLIGHT
BEGIN:STANDARD
TZOFFSETFROM:-0400
TZOFFSETTO:-0500
TZNAME:EST
DTSTART:20251102T060000
END:STANDARD
END:VTIMEZONE
BEGIN:VTIMEZONE
TZID:UTC
BEGIN:STANDARD
TZOFFSETFROM:+0000
TZOFFSETTO:+0000
TZNAME:UTC
DTSTART:20230101T000000
END:STANDARD
END:VTIMEZONE
BEGIN:VEVENT
DTSTART;TZID=America/New_York:20240319T190000
DTEND;TZID=America/New_York:20240319T193000
DTSTAMP:20260422T180425
CREATED:20210711T201005Z
LAST-MODIFIED:20220704T150145Z
UID:10000223-1710874800-1710876600@waverlychurch.org
SUMMARY:Al-Anon [Beginners' Meeting]
DESCRIPTION:The Frick Park Al-Anon group may still be virtual. \nContact frickparkafg85[at]gmail.com with any questions.
URL:https://waverlychurch.org/event/al-anon-beginners-meeting-2022-01-04-2022-04-05/2024-03-19/
LOCATION:Social Hall
END:VEVENT
BEGIN:VEVENT
DTSTART;TZID=UTC:20240319T193000
DTEND;TZID=UTC:20240319T203000
DTSTAMP:20260422T180425
CREATED:20190310T185001Z
LAST-MODIFIED:20220331T225559Z
UID:10002452-1710876600-1710880200@waverlychurch.org
SUMMARY:Al-Anon
DESCRIPTION:The Frick Park Al-Anon is holding in-person meetings in the Social Hall. \nContact frickparkafg85[at]gmail.com with any questions.
URL:https://waverlychurch.org/event/al-anon-2020-03-24-2021-07-06-2021-07-13/2024-03-19/
END:VEVENT
BEGIN:VEVENT
DTSTART;TZID=America/New_York:20240321T090000
DTEND;TZID=America/New_York:20240321T100000
DTSTAMP:20260422T180425
CREATED:20231003T204249Z
LAST-MODIFIED:20231128T182218Z
UID:10006797-1711011600-1711015200@waverlychurch.org
SUMMARY:Five Element Qigong Class
DESCRIPTION:Qigong is a practice that encourages the circulation of “qi” or life energy. In this class we will utilize gentle movements and stretching\, acupressure\, breath awareness and visualization to encourage the flow of qi. \nBased in Taoist Five Element Theory\, this style of qigong highlights the dynamic relationship between yin (organizing\, receptive\, cooling) and yang (animating\, expressive\, warming). \nThrough persistent effort we can strengthen our connection to the rhythms of nature and optimize our functionality. \n$40 for a six-week session. This practice requires no props and can be enjoyed standing or seated in a chair. Contact laurakbudde@gmail.com to register.
URL:https://waverlychurch.org/event/five-element-qigong-class-2/2024-03-21/
LOCATION:Social Hall
END:VEVENT
BEGIN:VEVENT
DTSTART;TZID=America/New_York:20240321T103000
DTEND;TZID=America/New_York:20240321T113000
DTSTAMP:20260422T180425
CREATED:20231003T204442Z
LAST-MODIFIED:20231128T182121Z
UID:10006816-1711017000-1711020600@waverlychurch.org
SUMMARY:Yoga
DESCRIPTION:Nurture a meaningful yoga practice that promotes a balanced body and mind. \nClasses incorporate gentle and hatha yoga with strengthening and restorative postures. Sequencing and anatomical awareness is structured to increase enjoyment and accessibility. \nWhether you have an established yoga practice or are interested in trying it out for the first time you will be encouraged to listen to your body\, and make adjustments that speak to your experience. \nThis class requires a yoga mat and a towel or blanket\, with yoga blocks and a strap highly suggested. \n$40 for a six-week session. Contact laurakbudde@gmail.com to register.
URL:https://waverlychurch.org/event/yoga-2/2024-03-21/
LOCATION:Social Hall
END:VEVENT
BEGIN:VEVENT
DTSTART;TZID=America/New_York:20240322T103000
DTEND;TZID=America/New_York:20240322T113000
DTSTAMP:20260422T180425
CREATED:20231023T201450Z
LAST-MODIFIED:20231128T181838Z
UID:10006891-1711103400-1711107000@waverlychurch.org
SUMMARY:Tai Chi for Health Part 2
DESCRIPTION:Learn or return to Tai Chi for Health! This tai chi form focuses on posture and stability while enhancing the connection between the brain and the body. \nNew movements will be added each class as we explore concepts of tai chi practice and enjoy performing this moving meditation. \nThis class requires no props but does require standing.  \nThe full form will be taught over the course of two six-week sessions. Regular attendance and practice at home is necessary to learn and benefit from tai chi. \n$40 for a six-week session. Contact laurakbudde@gmail.com to register.
URL:https://waverlychurch.org/event/tai-chi-for-health/2024-03-22/
LOCATION:Social Hall
END:VEVENT
BEGIN:VEVENT
DTSTART;TZID=America/New_York:20240322T120000
DTEND;TZID=America/New_York:20240322T130000
DTSTAMP:20260422T180425
CREATED:20231128T182022Z
LAST-MODIFIED:20231128T182022Z
UID:10006940-1711108800-1711112400@waverlychurch.org
SUMMARY:Tai Chi for Health Part 1
DESCRIPTION:Learn or return to Tai Chi for Health! This tai chi form focuses on posture and stability while enhancing the connection between the brain and the body. \nNew movements will be added each class as we explore concepts of tai chi practice and enjoy performing this moving meditation. \nThis class requires no props but does require standing.  \nThe full form will be taught over the course of two six-week sessions. Regular attendance and practice at home is necessary to learn and benefit from tai chi. \n$40 for a six-week session. Contact laurakbudde@gmail.com to register.
URL:https://waverlychurch.org/event/tai-chi-for-health-part-1/2024-03-22/
END:VEVENT
BEGIN:VEVENT
DTSTART;TZID=UTC:20240323T090000
DTEND;TZID=UTC:20240323T102000
DTSTAMP:20260422T180425
CREATED:20190310T191142Z
LAST-MODIFIED:20230830T175415Z
UID:10001345-1711184400-1711189200@waverlychurch.org
SUMMARY:Narcotics Anonymous
DESCRIPTION:Narcotics Anonymous is holding in-person meetings in the Social Hall.
URL:https://waverlychurch.org/event/na-2020-03-21-2021-07-10/2024-03-23/
END:VEVENT
BEGIN:VEVENT
DTSTART;TZID=America/New_York:20240324T100000
DTEND;TZID=America/New_York:20240324T105500
DTSTAMP:20260422T180425
CREATED:20230830T170506Z
LAST-MODIFIED:20231113T180304Z
UID:10006009-1711274400-1711277700@waverlychurch.org
SUMMARY:Sunday School
DESCRIPTION:All ages are welcome to join us each week for Sunday School in the following locations: \nChildren up through 1st grade: nursery (downstairs\, right side of front entrance – ring bell to enter) \nChildren in 2nd-5th grade: the “Frog Pond” – room off of our lower floor social hall \nYouth in 6th-12th grade” the “Wonka Room” – room off of our lower floor social hall \nAdults: lounge (upstairs in back of church)
URL:https://waverlychurch.org/event/sunday-school-3/2024-03-24/
END:VEVENT
BEGIN:VEVENT
DTSTART;TZID=America/New_York:20240324T110000
DTEND;TZID=America/New_York:20240324T121500
DTSTAMP:20260422T180425
CREATED:20230830T170132Z
LAST-MODIFIED:20230830T170527Z
UID:10006268-1711278000-1711282500@waverlychurch.org
SUMMARY:Worship Service
DESCRIPTION:We meet on Sundays in our Sanctuary at 11am during the school year and stream services online. \nSunday’s worship service will be live-streamed over our Facebook page on Sunday mornings. \n \nhttps://www.facebook.com/pg/WaverlyChurch/videos/
URL:https://waverlychurch.org/event/worship-2/2024-03-24/
LOCATION:Sanctuary
END:VEVENT
BEGIN:VEVENT
DTSTART;TZID=America/New_York:20240324T121500
DTEND;TZID=America/New_York:20240324T133000
DTSTAMP:20260422T180425
CREATED:20230903T190321Z
LAST-MODIFIED:20231113T180559Z
UID:10006553-1711282500-1711287000@waverlychurch.org
SUMMARY:Coffee Hour
DESCRIPTION:Join us after service weekly for a chance to share fellowship over coffee and snacks
URL:https://waverlychurch.org/event/coffee-hour-3/2024-03-24/
LOCATION:Lounge
END:VEVENT
BEGIN:VEVENT
DTSTART;TZID=America/New_York:20240324T193000
DTEND;TZID=America/New_York:20240324T210000
DTSTAMP:20260422T180425
CREATED:20190310T184702Z
LAST-MODIFIED:20220704T145322Z
UID:10000575-1711308600-1711314000@waverlychurch.org
SUMMARY:Alcoholics Anonymous
DESCRIPTION:The Frick Park Group of Alcoholics Anonymous is holding in-person meetings in the Social Hall. \nAdditional links for AA groups are posted online at the AA Central Office.\nhttps://www.pghaa.org/
URL:https://waverlychurch.org/event/aa-2020-03-22-2021-07-04/2024-03-24/
LOCATION:Social Hall
END:VEVENT
BEGIN:VEVENT
DTSTART;TZID=America/New_York:20240325T190000
DTEND;TZID=America/New_York:20240325T203000
DTSTAMP:20260422T180425
CREATED:20240104T171854Z
LAST-MODIFIED:20240104T172058Z
UID:10006959-1711393200-1711398600@waverlychurch.org
SUMMARY:Free for Good
DESCRIPTION:Join us during the season of Lent for accountability\, vulnerability\, and connection as we seek to free ourselves for good through collective support and personal spiritual growth.
URL:https://waverlychurch.org/event/free-for-good-2-2-2/2024-03-25/
LOCATION:Lounge
END:VEVENT
BEGIN:VEVENT
DTSTART;TZID=America/New_York:20240326T190000
DTEND;TZID=America/New_York:20240326T193000
DTSTAMP:20260422T180425
CREATED:20210711T201005Z
LAST-MODIFIED:20220704T150145Z
UID:10000224-1711479600-1711481400@waverlychurch.org
SUMMARY:Al-Anon [Beginners' Meeting]
DESCRIPTION:The Frick Park Al-Anon group may still be virtual. \nContact frickparkafg85[at]gmail.com with any questions.
URL:https://waverlychurch.org/event/al-anon-beginners-meeting-2022-01-04-2022-04-05/2024-03-26/
LOCATION:Social Hall
END:VEVENT
BEGIN:VEVENT
DTSTART;TZID=UTC:20240326T193000
DTEND;TZID=UTC:20240326T203000
DTSTAMP:20260422T180426
CREATED:20190310T185001Z
LAST-MODIFIED:20220331T225559Z
UID:10002453-1711481400-1711485000@waverlychurch.org
SUMMARY:Al-Anon
DESCRIPTION:The Frick Park Al-Anon is holding in-person meetings in the Social Hall. \nContact frickparkafg85[at]gmail.com with any questions.
URL:https://waverlychurch.org/event/al-anon-2020-03-24-2021-07-06-2021-07-13/2024-03-26/
END:VEVENT
BEGIN:VEVENT
DTSTART;TZID=America/New_York:20240328T180000
DTEND;TZID=America/New_York:20240328T210000
DTSTAMP:20260422T180426
CREATED:20240326T143302Z
LAST-MODIFIED:20240326T143302Z
UID:10006988-1711648800-1711659600@waverlychurch.org
SUMMARY:Maundy Thursday -Potluck Dinner with Communion and Optional Foot Washing
DESCRIPTION:Potluck Dinner in the Lounge. \nCommunion \nOptional Foot Washing
URL:https://waverlychurch.org/event/maundy-thursday-potluck-dinner-with-communion-and-optional-foot-washing/
LOCATION:Lounge
END:VEVENT
BEGIN:VEVENT
DTSTART;TZID=America/New_York:20240329T100000
DTEND;TZID=America/New_York:20240329T120000
DTSTAMP:20260422T180426
CREATED:20240326T143847Z
LAST-MODIFIED:20240326T150607Z
UID:10006989-1711706400-1711713600@waverlychurch.org
SUMMARY:Stations of the Cross - Holy Walk 2024
DESCRIPTION:We will begin at the Gazebo in Wilkinsburg (across from Wilkinsburg Community Ministry) and end at Waverly.  To carpool please arrive at Waverly at 9:45am
URL:https://waverlychurch.org/event/stations-of-the-cross-holy-walk-2024/
END:VEVENT
BEGIN:VEVENT
DTSTART;TZID=America/New_York:20240329T190000
DTEND;TZID=America/New_York:20240329T200000
DTSTAMP:20260422T180426
CREATED:20240326T144526Z
LAST-MODIFIED:20240326T144526Z
UID:10006990-1711738800-1711742400@waverlychurch.org
SUMMARY:Tenebrae Service
DESCRIPTION:This is a somber service\, reminding us of the work still to be done in the world\, and prepping our hearts for the coming of the Lord on resurrection Sunday.
URL:https://waverlychurch.org/event/tenebrae-service/
LOCATION:Sanctuary
END:VEVENT
BEGIN:VEVENT
DTSTART;TZID=UTC:20240330T090000
DTEND;TZID=UTC:20240330T102000
DTSTAMP:20260422T180426
CREATED:20190310T191142Z
LAST-MODIFIED:20230830T175415Z
UID:10001346-1711789200-1711794000@waverlychurch.org
SUMMARY:Narcotics Anonymous
DESCRIPTION:Narcotics Anonymous is holding in-person meetings in the Social Hall.
URL:https://waverlychurch.org/event/na-2020-03-21-2021-07-10/2024-03-30/
END:VEVENT
BEGIN:VEVENT
DTSTART;TZID=America/New_York:20240330T110000
DTEND;TZID=America/New_York:20240330T120000
DTSTAMP:20260422T180426
CREATED:20240326T144851Z
LAST-MODIFIED:20240326T144851Z
UID:10006991-1711796400-1711800000@waverlychurch.org
SUMMARY:Easter Egg Hunt
DESCRIPTION:
URL:https://waverlychurch.org/event/easter-egg-hunt-3/
LOCATION:Front Lawn
END:VEVENT
BEGIN:VEVENT
DTSTART;TZID=America/New_York:20240331T100000
DTEND;TZID=America/New_York:20240331T105500
DTSTAMP:20260422T180426
CREATED:20230830T170506Z
LAST-MODIFIED:20231113T180304Z
UID:10006010-1711879200-1711882500@waverlychurch.org
SUMMARY:Sunday School
DESCRIPTION:All ages are welcome to join us each week for Sunday School in the following locations: \nChildren up through 1st grade: nursery (downstairs\, right side of front entrance – ring bell to enter) \nChildren in 2nd-5th grade: the “Frog Pond” – room off of our lower floor social hall \nYouth in 6th-12th grade” the “Wonka Room” – room off of our lower floor social hall \nAdults: lounge (upstairs in back of church)
URL:https://waverlychurch.org/event/sunday-school-3/2024-03-31/
END:VEVENT
BEGIN:VEVENT
DTSTART;TZID=America/New_York:20240331T110000
DTEND;TZID=America/New_York:20240331T121500
DTSTAMP:20260422T180426
CREATED:20230830T170132Z
LAST-MODIFIED:20230830T170527Z
UID:10006269-1711882800-1711887300@waverlychurch.org
SUMMARY:Worship Service
DESCRIPTION:We meet on Sundays in our Sanctuary at 11am during the school year and stream services online. \nSunday’s worship service will be live-streamed over our Facebook page on Sunday mornings. \n \nhttps://www.facebook.com/pg/WaverlyChurch/videos/
URL:https://waverlychurch.org/event/worship-2/2024-03-31/
LOCATION:Sanctuary
END:VEVENT
BEGIN:VEVENT
DTSTART;TZID=America/New_York:20240331T121500
DTEND;TZID=America/New_York:20240331T133000
DTSTAMP:20260422T180426
CREATED:20230903T190321Z
LAST-MODIFIED:20231113T180559Z
UID:10006554-1711887300-1711891800@waverlychurch.org
SUMMARY:Coffee Hour
DESCRIPTION:Join us after service weekly for a chance to share fellowship over coffee and snacks
URL:https://waverlychurch.org/event/coffee-hour-3/2024-03-31/
LOCATION:Lounge
END:VEVENT
BEGIN:VEVENT
DTSTART;TZID=America/New_York:20240331T193000
DTEND;TZID=America/New_York:20240331T210000
DTSTAMP:20260422T180426
CREATED:20190310T184702Z
LAST-MODIFIED:20220704T145322Z
UID:10000576-1711913400-1711918800@waverlychurch.org
SUMMARY:Alcoholics Anonymous
DESCRIPTION:The Frick Park Group of Alcoholics Anonymous is holding in-person meetings in the Social Hall. \nAdditional links for AA groups are posted online at the AA Central Office.\nhttps://www.pghaa.org/
URL:https://waverlychurch.org/event/aa-2020-03-22-2021-07-04/2024-03-31/
LOCATION:Social Hall
END:VEVENT
BEGIN:VEVENT
DTSTART;TZID=America/New_York:20240402T190000
DTEND;TZID=America/New_York:20240402T193000
DTSTAMP:20260422T180426
CREATED:20210711T201005Z
LAST-MODIFIED:20220704T150145Z
UID:10000225-1712084400-1712086200@waverlychurch.org
SUMMARY:Al-Anon [Beginners' Meeting]
DESCRIPTION:The Frick Park Al-Anon group may still be virtual. \nContact frickparkafg85[at]gmail.com with any questions.
URL:https://waverlychurch.org/event/al-anon-beginners-meeting-2022-01-04-2022-04-05/2024-04-02/
LOCATION:Social Hall
END:VEVENT
BEGIN:VEVENT
DTSTART;TZID=UTC:20240402T193000
DTEND;TZID=UTC:20240402T203000
DTSTAMP:20260422T180426
CREATED:20190310T185001Z
LAST-MODIFIED:20220331T225559Z
UID:10002454-1712086200-1712089800@waverlychurch.org
SUMMARY:Al-Anon
DESCRIPTION:The Frick Park Al-Anon is holding in-person meetings in the Social Hall. \nContact frickparkafg85[at]gmail.com with any questions.
URL:https://waverlychurch.org/event/al-anon-2020-03-24-2021-07-06-2021-07-13/2024-04-02/
END:VEVENT
BEGIN:VEVENT
DTSTART;TZID=America/New_York:20240404T090000
DTEND;TZID=America/New_York:20240404T100000
DTSTAMP:20260422T180426
CREATED:20231003T204249Z
LAST-MODIFIED:20231128T182218Z
UID:10006799-1712221200-1712224800@waverlychurch.org
SUMMARY:Five Element Qigong Class
DESCRIPTION:Qigong is a practice that encourages the circulation of “qi” or life energy. In this class we will utilize gentle movements and stretching\, acupressure\, breath awareness and visualization to encourage the flow of qi. \nBased in Taoist Five Element Theory\, this style of qigong highlights the dynamic relationship between yin (organizing\, receptive\, cooling) and yang (animating\, expressive\, warming). \nThrough persistent effort we can strengthen our connection to the rhythms of nature and optimize our functionality. \n$40 for a six-week session. This practice requires no props and can be enjoyed standing or seated in a chair. Contact laurakbudde@gmail.com to register.
URL:https://waverlychurch.org/event/five-element-qigong-class-2/2024-04-04/
LOCATION:Social Hall
END:VEVENT
BEGIN:VEVENT
DTSTART;TZID=America/New_York:20240404T103000
DTEND;TZID=America/New_York:20240404T113000
DTSTAMP:20260422T180426
CREATED:20231003T204442Z
LAST-MODIFIED:20231128T182121Z
UID:10006818-1712226600-1712230200@waverlychurch.org
SUMMARY:Yoga
DESCRIPTION:Nurture a meaningful yoga practice that promotes a balanced body and mind. \nClasses incorporate gentle and hatha yoga with strengthening and restorative postures. Sequencing and anatomical awareness is structured to increase enjoyment and accessibility. \nWhether you have an established yoga practice or are interested in trying it out for the first time you will be encouraged to listen to your body\, and make adjustments that speak to your experience. \nThis class requires a yoga mat and a towel or blanket\, with yoga blocks and a strap highly suggested. \n$40 for a six-week session. Contact laurakbudde@gmail.com to register.
URL:https://waverlychurch.org/event/yoga-2/2024-04-04/
LOCATION:Social Hall
END:VEVENT
BEGIN:VEVENT
DTSTART;TZID=America/New_York:20240405T103000
DTEND;TZID=America/New_York:20240405T113000
DTSTAMP:20260422T180426
CREATED:20231023T201450Z
LAST-MODIFIED:20231128T181838Z
UID:10006893-1712313000-1712316600@waverlychurch.org
SUMMARY:Tai Chi for Health Part 2
DESCRIPTION:Learn or return to Tai Chi for Health! This tai chi form focuses on posture and stability while enhancing the connection between the brain and the body. \nNew movements will be added each class as we explore concepts of tai chi practice and enjoy performing this moving meditation. \nThis class requires no props but does require standing.  \nThe full form will be taught over the course of two six-week sessions. Regular attendance and practice at home is necessary to learn and benefit from tai chi. \n$40 for a six-week session. Contact laurakbudde@gmail.com to register.
URL:https://waverlychurch.org/event/tai-chi-for-health/2024-04-05/
LOCATION:Social Hall
END:VEVENT
BEGIN:VEVENT
DTSTART;TZID=America/New_York:20240405T120000
DTEND;TZID=America/New_York:20240405T130000
DTSTAMP:20260422T180426
CREATED:20231128T182022Z
LAST-MODIFIED:20231128T182022Z
UID:10006941-1712318400-1712322000@waverlychurch.org
SUMMARY:Tai Chi for Health Part 1
DESCRIPTION:Learn or return to Tai Chi for Health! This tai chi form focuses on posture and stability while enhancing the connection between the brain and the body. \nNew movements will be added each class as we explore concepts of tai chi practice and enjoy performing this moving meditation. \nThis class requires no props but does require standing.  \nThe full form will be taught over the course of two six-week sessions. Regular attendance and practice at home is necessary to learn and benefit from tai chi. \n$40 for a six-week session. Contact laurakbudde@gmail.com to register.
URL:https://waverlychurch.org/event/tai-chi-for-health-part-1/2024-04-05/
END:VEVENT
BEGIN:VEVENT
DTSTART;TZID=UTC:20240406T090000
DTEND;TZID=UTC:20240406T102000
DTSTAMP:20260422T180426
CREATED:20190310T191142Z
LAST-MODIFIED:20230830T175415Z
UID:10001347-1712394000-1712398800@waverlychurch.org
SUMMARY:Narcotics Anonymous
DESCRIPTION:Narcotics Anonymous is holding in-person meetings in the Social Hall.
URL:https://waverlychurch.org/event/na-2020-03-21-2021-07-10/2024-04-06/
END:VEVENT
END:VCALENDAR