BEGIN:VCALENDAR
VERSION:2.0
PRODID:-//Waverly Presbyterian Church - ECPv6.15.20//NONSGML v1.0//EN
CALSCALE:GREGORIAN
METHOD:PUBLISH
X-WR-CALNAME:Waverly Presbyterian Church
X-ORIGINAL-URL:https://waverlychurch.org
X-WR-CALDESC:Events for Waverly Presbyterian Church
REFRESH-INTERVAL;VALUE=DURATION:PT1H
X-Robots-Tag:noindex
X-PUBLISHED-TTL:PT1H
BEGIN:VTIMEZONE
TZID:UTC
BEGIN:STANDARD
TZOFFSETFROM:+0000
TZOFFSETTO:+0000
TZNAME:UTC
DTSTART:20160101T000000
END:STANDARD
END:VTIMEZONE
BEGIN:VEVENT
DTSTART;TZID=UTC:20171111T090000
DTEND;TZID=UTC:20171111T100000
DTSTAMP:20260419T160736
CREATED:20170902T043749Z
LAST-MODIFIED:20170902T043749Z
UID:10002008-1510390800-1510394400@waverlychurch.org
SUMMARY:Frick Park NA Group
DESCRIPTION:
URL:https://waverlychurch.org/event/frick-park-na-group/2017-11-11/
LOCATION:Social Hall
END:VEVENT
BEGIN:VEVENT
DTSTART;TZID=UTC:20171112T110000
DTEND;TZID=UTC:20171112T120000
DTSTAMP:20260419T160736
CREATED:20170902T042601Z
LAST-MODIFIED:20170902T042601Z
UID:10002129-1510484400-1510488000@waverlychurch.org
SUMMARY:Worship
DESCRIPTION:We celebrate the Lord’s supper typically on the first of each month.  All are welcome to the table.
URL:https://waverlychurch.org/event/worship/2017-11-12/
LOCATION:Sanctuary
END:VEVENT
BEGIN:VEVENT
DTSTART;TZID=UTC:20171112T170000
DTEND;TZID=UTC:20171112T190000
DTSTAMP:20260419T160736
CREATED:20170902T043458Z
LAST-MODIFIED:20170902T043458Z
UID:10001974-1510506000-1510513200@waverlychurch.org
SUMMARY:Youth Group
DESCRIPTION:Study\, games\, and mission for grades 6 – 12.  Did we mention fun and snacks\, too?
URL:https://waverlychurch.org/event/youth-group/2017-11-12/
LOCATION:Lounge
END:VEVENT
BEGIN:VEVENT
DTSTART;TZID=UTC:20171115T180000
DTEND;TZID=UTC:20171115T203000
DTSTAMP:20260419T160736
CREATED:20170902T043916Z
LAST-MODIFIED:20170902T043916Z
UID:10002047-1510768800-1510777800@waverlychurch.org
SUMMARY:Buddhist Meditation
DESCRIPTION:
URL:https://waverlychurch.org/event/buddhist-meditation/2017-11-15/
LOCATION:Lounge
END:VEVENT
BEGIN:VEVENT
DTSTART;TZID=UTC:20171118T090000
DTEND;TZID=UTC:20171118T100000
DTSTAMP:20260419T160736
CREATED:20170902T043749Z
LAST-MODIFIED:20170902T043749Z
UID:10002009-1510995600-1510999200@waverlychurch.org
SUMMARY:Frick Park NA Group
DESCRIPTION:
URL:https://waverlychurch.org/event/frick-park-na-group/2017-11-18/
LOCATION:Social Hall
END:VEVENT
BEGIN:VEVENT
DTSTART;TZID=UTC:20171119T110000
DTEND;TZID=UTC:20171119T120000
DTSTAMP:20260419T160736
CREATED:20170902T042601Z
LAST-MODIFIED:20170902T042601Z
UID:10002130-1511089200-1511092800@waverlychurch.org
SUMMARY:Worship
DESCRIPTION:We celebrate the Lord’s supper typically on the first of each month.  All are welcome to the table.
URL:https://waverlychurch.org/event/worship/2017-11-19/
LOCATION:Sanctuary
END:VEVENT
BEGIN:VEVENT
DTSTART;TZID=UTC:20171122T180000
DTEND;TZID=UTC:20171122T203000
DTSTAMP:20260419T160736
CREATED:20170902T043916Z
LAST-MODIFIED:20170902T043916Z
UID:10002048-1511373600-1511382600@waverlychurch.org
SUMMARY:Buddhist Meditation
DESCRIPTION:
URL:https://waverlychurch.org/event/buddhist-meditation/2017-11-22/
LOCATION:Lounge
END:VEVENT
BEGIN:VEVENT
DTSTART;TZID=UTC:20171125T090000
DTEND;TZID=UTC:20171125T100000
DTSTAMP:20260419T160736
CREATED:20170902T043749Z
LAST-MODIFIED:20170902T043749Z
UID:10002010-1511600400-1511604000@waverlychurch.org
SUMMARY:Frick Park NA Group
DESCRIPTION:
URL:https://waverlychurch.org/event/frick-park-na-group/2017-11-25/
LOCATION:Social Hall
END:VEVENT
BEGIN:VEVENT
DTSTART;TZID=UTC:20171126T110000
DTEND;TZID=UTC:20171126T120000
DTSTAMP:20260419T160736
CREATED:20170902T042601Z
LAST-MODIFIED:20170902T042601Z
UID:10002131-1511694000-1511697600@waverlychurch.org
SUMMARY:Worship
DESCRIPTION:We celebrate the Lord’s supper typically on the first of each month.  All are welcome to the table.
URL:https://waverlychurch.org/event/worship/2017-11-26/
LOCATION:Sanctuary
END:VEVENT
BEGIN:VEVENT
DTSTART;TZID=UTC:20171126T170000
DTEND;TZID=UTC:20171126T190000
DTSTAMP:20260419T160736
CREATED:20170902T043458Z
LAST-MODIFIED:20170902T043458Z
UID:10001975-1511715600-1511722800@waverlychurch.org
SUMMARY:Youth Group
DESCRIPTION:Study\, games\, and mission for grades 6 – 12.  Did we mention fun and snacks\, too?
URL:https://waverlychurch.org/event/youth-group/2017-11-26/
LOCATION:Lounge
END:VEVENT
BEGIN:VEVENT
DTSTART;TZID=UTC:20171129T180000
DTEND;TZID=UTC:20171129T203000
DTSTAMP:20260419T160736
CREATED:20170902T043916Z
LAST-MODIFIED:20170902T043916Z
UID:10002049-1511978400-1511987400@waverlychurch.org
SUMMARY:Buddhist Meditation
DESCRIPTION:
URL:https://waverlychurch.org/event/buddhist-meditation/2017-11-29/
LOCATION:Lounge
END:VEVENT
BEGIN:VEVENT
DTSTART;TZID=UTC:20171130T193000
DTEND;TZID=UTC:20171130T210000
DTSTAMP:20260419T160736
CREATED:20170902T012750Z
LAST-MODIFIED:20170902T012750Z
UID:10002186-1512070200-1512075600@waverlychurch.org
SUMMARY:Choir rehearsal
DESCRIPTION:
URL:https://waverlychurch.org/event/choir-rehearsal-2/2017-11-30/
LOCATION:Lounge
END:VEVENT
BEGIN:VEVENT
DTSTART;TZID=UTC:20171202T090000
DTEND;TZID=UTC:20171202T100000
DTSTAMP:20260419T160736
CREATED:20170902T043749Z
LAST-MODIFIED:20170902T043749Z
UID:10002011-1512205200-1512208800@waverlychurch.org
SUMMARY:Frick Park NA Group
DESCRIPTION:
URL:https://waverlychurch.org/event/frick-park-na-group/2017-12-02/
LOCATION:Social Hall
END:VEVENT
BEGIN:VEVENT
DTSTART;TZID=UTC:20171203T110000
DTEND;TZID=UTC:20171203T120000
DTSTAMP:20260419T160736
CREATED:20170902T042601Z
LAST-MODIFIED:20170902T042601Z
UID:10002132-1512298800-1512302400@waverlychurch.org
SUMMARY:Worship
DESCRIPTION:We celebrate the Lord’s supper typically on the first of each month.  All are welcome to the table.
URL:https://waverlychurch.org/event/worship/2017-12-03/
LOCATION:Sanctuary
END:VEVENT
BEGIN:VEVENT
DTSTART;TZID=UTC:20171203T170000
DTEND;TZID=UTC:20171203T190000
DTSTAMP:20260419T160736
CREATED:20170902T043458Z
LAST-MODIFIED:20170902T043458Z
UID:10001976-1512320400-1512327600@waverlychurch.org
SUMMARY:Youth Group
DESCRIPTION:Study\, games\, and mission for grades 6 – 12.  Did we mention fun and snacks\, too?
URL:https://waverlychurch.org/event/youth-group/2017-12-03/
LOCATION:Lounge
END:VEVENT
BEGIN:VEVENT
DTSTART;TZID=UTC:20171206T180000
DTEND;TZID=UTC:20171206T203000
DTSTAMP:20260419T160736
CREATED:20170902T043916Z
LAST-MODIFIED:20170902T043916Z
UID:10002050-1512583200-1512592200@waverlychurch.org
SUMMARY:Buddhist Meditation
DESCRIPTION:
URL:https://waverlychurch.org/event/buddhist-meditation/2017-12-06/
LOCATION:Lounge
END:VEVENT
BEGIN:VEVENT
DTSTART;TZID=UTC:20171207T193000
DTEND;TZID=UTC:20171207T210000
DTSTAMP:20260419T160736
CREATED:20170902T012750Z
LAST-MODIFIED:20170902T012750Z
UID:10002187-1512675000-1512680400@waverlychurch.org
SUMMARY:Choir rehearsal
DESCRIPTION:
URL:https://waverlychurch.org/event/choir-rehearsal-2/2017-12-07/
LOCATION:Lounge
END:VEVENT
BEGIN:VEVENT
DTSTART;TZID=UTC:20171209T090000
DTEND;TZID=UTC:20171209T100000
DTSTAMP:20260419T160736
CREATED:20170902T043749Z
LAST-MODIFIED:20170902T043749Z
UID:10002012-1512810000-1512813600@waverlychurch.org
SUMMARY:Frick Park NA Group
DESCRIPTION:
URL:https://waverlychurch.org/event/frick-park-na-group/2017-12-09/
LOCATION:Social Hall
END:VEVENT
BEGIN:VEVENT
DTSTART;TZID=UTC:20171210T110000
DTEND;TZID=UTC:20171210T120000
DTSTAMP:20260419T160736
CREATED:20170902T042601Z
LAST-MODIFIED:20170902T042601Z
UID:10002133-1512903600-1512907200@waverlychurch.org
SUMMARY:Worship
DESCRIPTION:We celebrate the Lord’s supper typically on the first of each month.  All are welcome to the table.
URL:https://waverlychurch.org/event/worship/2017-12-10/
LOCATION:Sanctuary
END:VEVENT
BEGIN:VEVENT
DTSTART;TZID=UTC:20171210T170000
DTEND;TZID=UTC:20171210T190000
DTSTAMP:20260419T160736
CREATED:20170902T043458Z
LAST-MODIFIED:20170902T043458Z
UID:10001977-1512925200-1512932400@waverlychurch.org
SUMMARY:Youth Group
DESCRIPTION:Study\, games\, and mission for grades 6 – 12.  Did we mention fun and snacks\, too?
URL:https://waverlychurch.org/event/youth-group/2017-12-10/
LOCATION:Lounge
END:VEVENT
BEGIN:VEVENT
DTSTART;TZID=UTC:20171213T180000
DTEND;TZID=UTC:20171213T203000
DTSTAMP:20260419T160736
CREATED:20170902T043916Z
LAST-MODIFIED:20170902T043916Z
UID:10002051-1513188000-1513197000@waverlychurch.org
SUMMARY:Buddhist Meditation
DESCRIPTION:
URL:https://waverlychurch.org/event/buddhist-meditation/2017-12-13/
LOCATION:Lounge
END:VEVENT
BEGIN:VEVENT
DTSTART;TZID=UTC:20171214T193000
DTEND;TZID=UTC:20171214T210000
DTSTAMP:20260419T160736
CREATED:20170902T012750Z
LAST-MODIFIED:20170902T012750Z
UID:10002188-1513279800-1513285200@waverlychurch.org
SUMMARY:Choir rehearsal
DESCRIPTION:
URL:https://waverlychurch.org/event/choir-rehearsal-2/2017-12-14/
LOCATION:Lounge
END:VEVENT
BEGIN:VEVENT
DTSTART;TZID=UTC:20171216T090000
DTEND;TZID=UTC:20171216T100000
DTSTAMP:20260419T160736
CREATED:20170902T043749Z
LAST-MODIFIED:20170902T043749Z
UID:10002013-1513414800-1513418400@waverlychurch.org
SUMMARY:Frick Park NA Group
DESCRIPTION:
URL:https://waverlychurch.org/event/frick-park-na-group/2017-12-16/
LOCATION:Social Hall
END:VEVENT
BEGIN:VEVENT
DTSTART;TZID=UTC:20171217T110000
DTEND;TZID=UTC:20171217T120000
DTSTAMP:20260419T160736
CREATED:20170902T042601Z
LAST-MODIFIED:20170902T042601Z
UID:10002134-1513508400-1513512000@waverlychurch.org
SUMMARY:Worship
DESCRIPTION:We celebrate the Lord’s supper typically on the first of each month.  All are welcome to the table.
URL:https://waverlychurch.org/event/worship/2017-12-17/
LOCATION:Sanctuary
END:VEVENT
BEGIN:VEVENT
DTSTART;TZID=UTC:20171217T170000
DTEND;TZID=UTC:20171217T190000
DTSTAMP:20260419T160736
CREATED:20170902T043458Z
LAST-MODIFIED:20170902T043458Z
UID:10001978-1513530000-1513537200@waverlychurch.org
SUMMARY:Youth Group
DESCRIPTION:Study\, games\, and mission for grades 6 – 12.  Did we mention fun and snacks\, too?
URL:https://waverlychurch.org/event/youth-group/2017-12-17/
LOCATION:Lounge
END:VEVENT
BEGIN:VEVENT
DTSTART;TZID=UTC:20171220T180000
DTEND;TZID=UTC:20171220T203000
DTSTAMP:20260419T160736
CREATED:20170902T043916Z
LAST-MODIFIED:20170902T043916Z
UID:10002052-1513792800-1513801800@waverlychurch.org
SUMMARY:Buddhist Meditation
DESCRIPTION:
URL:https://waverlychurch.org/event/buddhist-meditation/2017-12-20/
LOCATION:Lounge
END:VEVENT
BEGIN:VEVENT
DTSTART;TZID=UTC:20171221T193000
DTEND;TZID=UTC:20171221T210000
DTSTAMP:20260419T160736
CREATED:20170902T012750Z
LAST-MODIFIED:20170902T012750Z
UID:10002189-1513884600-1513890000@waverlychurch.org
SUMMARY:Choir rehearsal
DESCRIPTION:
URL:https://waverlychurch.org/event/choir-rehearsal-2/2017-12-21/
LOCATION:Lounge
END:VEVENT
BEGIN:VEVENT
DTSTART;TZID=UTC:20171223T090000
DTEND;TZID=UTC:20171223T100000
DTSTAMP:20260419T160736
CREATED:20170902T043749Z
LAST-MODIFIED:20170902T043749Z
UID:10002014-1514019600-1514023200@waverlychurch.org
SUMMARY:Frick Park NA Group
DESCRIPTION:
URL:https://waverlychurch.org/event/frick-park-na-group/2017-12-23/
LOCATION:Social Hall
END:VEVENT
BEGIN:VEVENT
DTSTART;TZID=UTC:20171224T110000
DTEND;TZID=UTC:20171224T120000
DTSTAMP:20260419T160736
CREATED:20170902T042601Z
LAST-MODIFIED:20170902T042601Z
UID:10002135-1514113200-1514116800@waverlychurch.org
SUMMARY:Worship
DESCRIPTION:We celebrate the Lord’s supper typically on the first of each month.  All are welcome to the table.
URL:https://waverlychurch.org/event/worship/2017-12-24/
LOCATION:Sanctuary
END:VEVENT
BEGIN:VEVENT
DTSTART;TZID=UTC:20171227T180000
DTEND;TZID=UTC:20171227T203000
DTSTAMP:20260419T160736
CREATED:20170902T043916Z
LAST-MODIFIED:20170902T043916Z
UID:10002053-1514397600-1514406600@waverlychurch.org
SUMMARY:Buddhist Meditation
DESCRIPTION:
URL:https://waverlychurch.org/event/buddhist-meditation/2017-12-27/
LOCATION:Lounge
END:VEVENT
END:VCALENDAR