BEGIN:VCALENDAR
VERSION:2.0
PRODID:-//Waverly Presbyterian Church - ECPv6.15.20//NONSGML v1.0//EN
CALSCALE:GREGORIAN
METHOD:PUBLISH
X-WR-CALNAME:Waverly Presbyterian Church
X-ORIGINAL-URL:https://waverlychurch.org
X-WR-CALDESC:Events for Waverly Presbyterian Church
REFRESH-INTERVAL;VALUE=DURATION:PT1H
X-Robots-Tag:noindex
X-PUBLISHED-TTL:PT1H
BEGIN:VTIMEZONE
TZID:America/New_York
BEGIN:DAYLIGHT
TZOFFSETFROM:-0500
TZOFFSETTO:-0400
TZNAME:EDT
DTSTART:20220313T070000
END:DAYLIGHT
BEGIN:STANDARD
TZOFFSETFROM:-0400
TZOFFSETTO:-0500
TZNAME:EST
DTSTART:20221106T060000
END:STANDARD
BEGIN:DAYLIGHT
TZOFFSETFROM:-0500
TZOFFSETTO:-0400
TZNAME:EDT
DTSTART:20230312T070000
END:DAYLIGHT
BEGIN:STANDARD
TZOFFSETFROM:-0400
TZOFFSETTO:-0500
TZNAME:EST
DTSTART:20231105T060000
END:STANDARD
BEGIN:DAYLIGHT
TZOFFSETFROM:-0500
TZOFFSETTO:-0400
TZNAME:EDT
DTSTART:20240310T070000
END:DAYLIGHT
BEGIN:STANDARD
TZOFFSETFROM:-0400
TZOFFSETTO:-0500
TZNAME:EST
DTSTART:20241103T060000
END:STANDARD
END:VTIMEZONE
BEGIN:VTIMEZONE
TZID:UTC
BEGIN:STANDARD
TZOFFSETFROM:+0000
TZOFFSETTO:+0000
TZNAME:UTC
DTSTART:20220101T000000
END:STANDARD
END:VTIMEZONE
BEGIN:VEVENT
DTSTART;TZID=America/New_York:20230716T193000
DTEND;TZID=America/New_York:20230716T210000
DTSTAMP:20260423T202459
CREATED:20190310T184702Z
LAST-MODIFIED:20220704T145322Z
UID:10000539-1689535800-1689541200@waverlychurch.org
SUMMARY:Alcoholics Anonymous
DESCRIPTION:The Frick Park Group of Alcoholics Anonymous is holding in-person meetings in the Social Hall. \nAdditional links for AA groups are posted online at the AA Central Office.\nhttps://www.pghaa.org/
URL:https://waverlychurch.org/event/aa-2020-03-22-2021-07-04/2023-07-16/
LOCATION:Social Hall
END:VEVENT
BEGIN:VEVENT
DTSTART;TZID=America/New_York:20230717T190000
DTEND;TZID=America/New_York:20230717T203000
DTSTAMP:20260423T202459
CREATED:20230529T214514Z
LAST-MODIFIED:20230529T214531Z
UID:10005661-1689620400-1689625800@waverlychurch.org
SUMMARY:Free for Good
DESCRIPTION:Join us for accountability\, vulnerability\, and connection as we seek to free ourselves for good through collective support and personal spiritual growth.
URL:https://waverlychurch.org/event/free-for-good-2/2023-07-17/
LOCATION:Lounge
END:VEVENT
BEGIN:VEVENT
DTSTART;TZID=America/New_York:20230718T190000
DTEND;TZID=America/New_York:20230718T193000
DTSTAMP:20260423T202459
CREATED:20210711T201005Z
LAST-MODIFIED:20220704T150145Z
UID:10000188-1689706800-1689708600@waverlychurch.org
SUMMARY:Al-Anon [Beginners' Meeting]
DESCRIPTION:The Frick Park Al-Anon group may still be virtual. \nContact frickparkafg85[at]gmail.com with any questions.
URL:https://waverlychurch.org/event/al-anon-beginners-meeting-2022-01-04-2022-04-05/2023-07-18/
LOCATION:Social Hall
END:VEVENT
BEGIN:VEVENT
DTSTART;TZID=UTC:20230718T193000
DTEND;TZID=UTC:20230718T203000
DTSTAMP:20260423T202459
CREATED:20190310T185001Z
LAST-MODIFIED:20220331T225559Z
UID:10002417-1689708600-1689712200@waverlychurch.org
SUMMARY:Al-Anon
DESCRIPTION:The Frick Park Al-Anon is holding in-person meetings in the Social Hall. \nContact frickparkafg85[at]gmail.com with any questions.
URL:https://waverlychurch.org/event/al-anon-2020-03-24-2021-07-06-2021-07-13/2023-07-18/
END:VEVENT
BEGIN:VEVENT
DTSTART;TZID=UTC:20230722T090000
DTEND;TZID=UTC:20230722T102000
DTSTAMP:20260423T202459
CREATED:20190310T191142Z
LAST-MODIFIED:20230830T175415Z
UID:10001310-1690016400-1690021200@waverlychurch.org
SUMMARY:Narcotics Anonymous
DESCRIPTION:Narcotics Anonymous is holding in-person meetings in the Social Hall.
URL:https://waverlychurch.org/event/na-2020-03-21-2021-07-10/2023-07-22/
END:VEVENT
BEGIN:VEVENT
DTSTART;TZID=America/New_York:20230723T100000
DTEND;TZID=America/New_York:20230723T111500
DTSTAMP:20260423T202459
CREATED:20230529T213322Z
LAST-MODIFIED:20230529T213322Z
UID:10005635-1690106400-1690110900@waverlychurch.org
SUMMARY:Worship Service (Summer Hours)
DESCRIPTION:We meet on Sundays in our Sanctuary at 10am during the summer and stream services online. \nSunday’s worship service will be live-streamed over our Facebook page on Sunday mornings. \nhttps://waverlychurch.org/worship/guidelines-for-in-person-worship/ \nhttps://www.facebook.com/pg/WaverlyChurch/videos/ \n 
URL:https://waverlychurch.org/event/worship-service-summer-hours/2023-07-23/
END:VEVENT
BEGIN:VEVENT
DTSTART;TZID=America/New_York:20230723T193000
DTEND;TZID=America/New_York:20230723T210000
DTSTAMP:20260423T202459
CREATED:20190310T184702Z
LAST-MODIFIED:20220704T145322Z
UID:10000540-1690140600-1690146000@waverlychurch.org
SUMMARY:Alcoholics Anonymous
DESCRIPTION:The Frick Park Group of Alcoholics Anonymous is holding in-person meetings in the Social Hall. \nAdditional links for AA groups are posted online at the AA Central Office.\nhttps://www.pghaa.org/
URL:https://waverlychurch.org/event/aa-2020-03-22-2021-07-04/2023-07-23/
LOCATION:Social Hall
END:VEVENT
BEGIN:VEVENT
DTSTART;TZID=America/New_York:20230724T190000
DTEND;TZID=America/New_York:20230724T203000
DTSTAMP:20260423T202459
CREATED:20230529T214514Z
LAST-MODIFIED:20230529T214531Z
UID:10005662-1690225200-1690230600@waverlychurch.org
SUMMARY:Free for Good
DESCRIPTION:Join us for accountability\, vulnerability\, and connection as we seek to free ourselves for good through collective support and personal spiritual growth.
URL:https://waverlychurch.org/event/free-for-good-2/2023-07-24/
LOCATION:Lounge
END:VEVENT
BEGIN:VEVENT
DTSTART;TZID=America/New_York:20230725T190000
DTEND;TZID=America/New_York:20230725T193000
DTSTAMP:20260423T202459
CREATED:20210711T201005Z
LAST-MODIFIED:20220704T150145Z
UID:10000189-1690311600-1690313400@waverlychurch.org
SUMMARY:Al-Anon [Beginners' Meeting]
DESCRIPTION:The Frick Park Al-Anon group may still be virtual. \nContact frickparkafg85[at]gmail.com with any questions.
URL:https://waverlychurch.org/event/al-anon-beginners-meeting-2022-01-04-2022-04-05/2023-07-25/
LOCATION:Social Hall
END:VEVENT
BEGIN:VEVENT
DTSTART;TZID=UTC:20230725T193000
DTEND;TZID=UTC:20230725T203000
DTSTAMP:20260423T202459
CREATED:20190310T185001Z
LAST-MODIFIED:20220331T225559Z
UID:10002418-1690313400-1690317000@waverlychurch.org
SUMMARY:Al-Anon
DESCRIPTION:The Frick Park Al-Anon is holding in-person meetings in the Social Hall. \nContact frickparkafg85[at]gmail.com with any questions.
URL:https://waverlychurch.org/event/al-anon-2020-03-24-2021-07-06-2021-07-13/2023-07-25/
END:VEVENT
BEGIN:VEVENT
DTSTART;TZID=UTC:20230729T090000
DTEND;TZID=UTC:20230729T102000
DTSTAMP:20260423T202459
CREATED:20190310T191142Z
LAST-MODIFIED:20230830T175415Z
UID:10001311-1690621200-1690626000@waverlychurch.org
SUMMARY:Narcotics Anonymous
DESCRIPTION:Narcotics Anonymous is holding in-person meetings in the Social Hall.
URL:https://waverlychurch.org/event/na-2020-03-21-2021-07-10/2023-07-29/
END:VEVENT
BEGIN:VEVENT
DTSTART;TZID=America/New_York:20230730T100000
DTEND;TZID=America/New_York:20230730T111500
DTSTAMP:20260423T202459
CREATED:20230529T213322Z
LAST-MODIFIED:20230529T213322Z
UID:10005636-1690711200-1690715700@waverlychurch.org
SUMMARY:Worship Service (Summer Hours)
DESCRIPTION:We meet on Sundays in our Sanctuary at 10am during the summer and stream services online. \nSunday’s worship service will be live-streamed over our Facebook page on Sunday mornings. \nhttps://waverlychurch.org/worship/guidelines-for-in-person-worship/ \nhttps://www.facebook.com/pg/WaverlyChurch/videos/ \n 
URL:https://waverlychurch.org/event/worship-service-summer-hours/2023-07-30/
END:VEVENT
BEGIN:VEVENT
DTSTART;TZID=America/New_York:20230730T193000
DTEND;TZID=America/New_York:20230730T210000
DTSTAMP:20260423T202459
CREATED:20190310T184702Z
LAST-MODIFIED:20220704T145322Z
UID:10000541-1690745400-1690750800@waverlychurch.org
SUMMARY:Alcoholics Anonymous
DESCRIPTION:The Frick Park Group of Alcoholics Anonymous is holding in-person meetings in the Social Hall. \nAdditional links for AA groups are posted online at the AA Central Office.\nhttps://www.pghaa.org/
URL:https://waverlychurch.org/event/aa-2020-03-22-2021-07-04/2023-07-30/
LOCATION:Social Hall
END:VEVENT
BEGIN:VEVENT
DTSTART;TZID=America/New_York:20230731T190000
DTEND;TZID=America/New_York:20230731T203000
DTSTAMP:20260423T202459
CREATED:20230529T214514Z
LAST-MODIFIED:20230529T214531Z
UID:10005663-1690830000-1690835400@waverlychurch.org
SUMMARY:Free for Good
DESCRIPTION:Join us for accountability\, vulnerability\, and connection as we seek to free ourselves for good through collective support and personal spiritual growth.
URL:https://waverlychurch.org/event/free-for-good-2/2023-07-31/
LOCATION:Lounge
END:VEVENT
BEGIN:VEVENT
DTSTART;TZID=America/New_York:20230801T190000
DTEND;TZID=America/New_York:20230801T193000
DTSTAMP:20260423T202459
CREATED:20210711T201005Z
LAST-MODIFIED:20220704T150145Z
UID:10000190-1690916400-1690918200@waverlychurch.org
SUMMARY:Al-Anon [Beginners' Meeting]
DESCRIPTION:The Frick Park Al-Anon group may still be virtual. \nContact frickparkafg85[at]gmail.com with any questions.
URL:https://waverlychurch.org/event/al-anon-beginners-meeting-2022-01-04-2022-04-05/2023-08-01/
LOCATION:Social Hall
END:VEVENT
BEGIN:VEVENT
DTSTART;TZID=UTC:20230801T193000
DTEND;TZID=UTC:20230801T203000
DTSTAMP:20260423T202459
CREATED:20190310T185001Z
LAST-MODIFIED:20220331T225559Z
UID:10002419-1690918200-1690921800@waverlychurch.org
SUMMARY:Al-Anon
DESCRIPTION:The Frick Park Al-Anon is holding in-person meetings in the Social Hall. \nContact frickparkafg85[at]gmail.com with any questions.
URL:https://waverlychurch.org/event/al-anon-2020-03-24-2021-07-06-2021-07-13/2023-08-01/
END:VEVENT
BEGIN:VEVENT
DTSTART;TZID=UTC:20230805T090000
DTEND;TZID=UTC:20230805T102000
DTSTAMP:20260423T202459
CREATED:20190310T191142Z
LAST-MODIFIED:20230830T175415Z
UID:10001312-1691226000-1691230800@waverlychurch.org
SUMMARY:Narcotics Anonymous
DESCRIPTION:Narcotics Anonymous is holding in-person meetings in the Social Hall.
URL:https://waverlychurch.org/event/na-2020-03-21-2021-07-10/2023-08-05/
END:VEVENT
BEGIN:VEVENT
DTSTART;TZID=America/New_York:20230806T100000
DTEND;TZID=America/New_York:20230806T111500
DTSTAMP:20260423T202459
CREATED:20230529T213322Z
LAST-MODIFIED:20230529T213322Z
UID:10005637-1691316000-1691320500@waverlychurch.org
SUMMARY:Worship Service (Summer Hours)
DESCRIPTION:We meet on Sundays in our Sanctuary at 10am during the summer and stream services online. \nSunday’s worship service will be live-streamed over our Facebook page on Sunday mornings. \nhttps://waverlychurch.org/worship/guidelines-for-in-person-worship/ \nhttps://www.facebook.com/pg/WaverlyChurch/videos/ \n 
URL:https://waverlychurch.org/event/worship-service-summer-hours/2023-08-06/
END:VEVENT
BEGIN:VEVENT
DTSTART;TZID=America/New_York:20230806T193000
DTEND;TZID=America/New_York:20230806T210000
DTSTAMP:20260423T202459
CREATED:20190310T184702Z
LAST-MODIFIED:20220704T145322Z
UID:10000542-1691350200-1691355600@waverlychurch.org
SUMMARY:Alcoholics Anonymous
DESCRIPTION:The Frick Park Group of Alcoholics Anonymous is holding in-person meetings in the Social Hall. \nAdditional links for AA groups are posted online at the AA Central Office.\nhttps://www.pghaa.org/
URL:https://waverlychurch.org/event/aa-2020-03-22-2021-07-04/2023-08-06/
LOCATION:Social Hall
END:VEVENT
BEGIN:VEVENT
DTSTART;TZID=America/New_York:20230807T190000
DTEND;TZID=America/New_York:20230807T203000
DTSTAMP:20260423T202459
CREATED:20230529T214514Z
LAST-MODIFIED:20230529T214531Z
UID:10005664-1691434800-1691440200@waverlychurch.org
SUMMARY:Free for Good
DESCRIPTION:Join us for accountability\, vulnerability\, and connection as we seek to free ourselves for good through collective support and personal spiritual growth.
URL:https://waverlychurch.org/event/free-for-good-2/2023-08-07/
LOCATION:Lounge
END:VEVENT
BEGIN:VEVENT
DTSTART;TZID=America/New_York:20230808T190000
DTEND;TZID=America/New_York:20230808T193000
DTSTAMP:20260423T202459
CREATED:20210711T201005Z
LAST-MODIFIED:20220704T150145Z
UID:10000191-1691521200-1691523000@waverlychurch.org
SUMMARY:Al-Anon [Beginners' Meeting]
DESCRIPTION:The Frick Park Al-Anon group may still be virtual. \nContact frickparkafg85[at]gmail.com with any questions.
URL:https://waverlychurch.org/event/al-anon-beginners-meeting-2022-01-04-2022-04-05/2023-08-08/
LOCATION:Social Hall
END:VEVENT
BEGIN:VEVENT
DTSTART;TZID=UTC:20230808T193000
DTEND;TZID=UTC:20230808T203000
DTSTAMP:20260423T202459
CREATED:20190310T185001Z
LAST-MODIFIED:20220331T225559Z
UID:10002420-1691523000-1691526600@waverlychurch.org
SUMMARY:Al-Anon
DESCRIPTION:The Frick Park Al-Anon is holding in-person meetings in the Social Hall. \nContact frickparkafg85[at]gmail.com with any questions.
URL:https://waverlychurch.org/event/al-anon-2020-03-24-2021-07-06-2021-07-13/2023-08-08/
END:VEVENT
BEGIN:VEVENT
DTSTART;TZID=UTC:20230812T090000
DTEND;TZID=UTC:20230812T102000
DTSTAMP:20260423T202459
CREATED:20190310T191142Z
LAST-MODIFIED:20230830T175415Z
UID:10001313-1691830800-1691835600@waverlychurch.org
SUMMARY:Narcotics Anonymous
DESCRIPTION:Narcotics Anonymous is holding in-person meetings in the Social Hall.
URL:https://waverlychurch.org/event/na-2020-03-21-2021-07-10/2023-08-12/
END:VEVENT
BEGIN:VEVENT
DTSTART;TZID=America/New_York:20230813T100000
DTEND;TZID=America/New_York:20230813T111500
DTSTAMP:20260423T202459
CREATED:20230529T213322Z
LAST-MODIFIED:20230529T213322Z
UID:10005638-1691920800-1691925300@waverlychurch.org
SUMMARY:Worship Service (Summer Hours)
DESCRIPTION:We meet on Sundays in our Sanctuary at 10am during the summer and stream services online. \nSunday’s worship service will be live-streamed over our Facebook page on Sunday mornings. \nhttps://waverlychurch.org/worship/guidelines-for-in-person-worship/ \nhttps://www.facebook.com/pg/WaverlyChurch/videos/ \n 
URL:https://waverlychurch.org/event/worship-service-summer-hours/2023-08-13/
END:VEVENT
BEGIN:VEVENT
DTSTART;TZID=America/New_York:20230813T193000
DTEND;TZID=America/New_York:20230813T210000
DTSTAMP:20260423T202459
CREATED:20190310T184702Z
LAST-MODIFIED:20220704T145322Z
UID:10000543-1691955000-1691960400@waverlychurch.org
SUMMARY:Alcoholics Anonymous
DESCRIPTION:The Frick Park Group of Alcoholics Anonymous is holding in-person meetings in the Social Hall. \nAdditional links for AA groups are posted online at the AA Central Office.\nhttps://www.pghaa.org/
URL:https://waverlychurch.org/event/aa-2020-03-22-2021-07-04/2023-08-13/
LOCATION:Social Hall
END:VEVENT
BEGIN:VEVENT
DTSTART;TZID=America/New_York:20230814T190000
DTEND;TZID=America/New_York:20230814T203000
DTSTAMP:20260423T202459
CREATED:20230529T214514Z
LAST-MODIFIED:20230529T214531Z
UID:10005665-1692039600-1692045000@waverlychurch.org
SUMMARY:Free for Good
DESCRIPTION:Join us for accountability\, vulnerability\, and connection as we seek to free ourselves for good through collective support and personal spiritual growth.
URL:https://waverlychurch.org/event/free-for-good-2/2023-08-14/
LOCATION:Lounge
END:VEVENT
BEGIN:VEVENT
DTSTART;TZID=America/New_York:20230815T190000
DTEND;TZID=America/New_York:20230815T193000
DTSTAMP:20260423T202459
CREATED:20210711T201005Z
LAST-MODIFIED:20220704T150145Z
UID:10000192-1692126000-1692127800@waverlychurch.org
SUMMARY:Al-Anon [Beginners' Meeting]
DESCRIPTION:The Frick Park Al-Anon group may still be virtual. \nContact frickparkafg85[at]gmail.com with any questions.
URL:https://waverlychurch.org/event/al-anon-beginners-meeting-2022-01-04-2022-04-05/2023-08-15/
LOCATION:Social Hall
END:VEVENT
BEGIN:VEVENT
DTSTART;TZID=UTC:20230815T193000
DTEND;TZID=UTC:20230815T203000
DTSTAMP:20260423T202459
CREATED:20190310T185001Z
LAST-MODIFIED:20220331T225559Z
UID:10002421-1692127800-1692131400@waverlychurch.org
SUMMARY:Al-Anon
DESCRIPTION:The Frick Park Al-Anon is holding in-person meetings in the Social Hall. \nContact frickparkafg85[at]gmail.com with any questions.
URL:https://waverlychurch.org/event/al-anon-2020-03-24-2021-07-06-2021-07-13/2023-08-15/
END:VEVENT
BEGIN:VEVENT
DTSTART;TZID=UTC:20230819T090000
DTEND;TZID=UTC:20230819T102000
DTSTAMP:20260423T202459
CREATED:20190310T191142Z
LAST-MODIFIED:20230830T175415Z
UID:10001314-1692435600-1692440400@waverlychurch.org
SUMMARY:Narcotics Anonymous
DESCRIPTION:Narcotics Anonymous is holding in-person meetings in the Social Hall.
URL:https://waverlychurch.org/event/na-2020-03-21-2021-07-10/2023-08-19/
END:VEVENT
BEGIN:VEVENT
DTSTART;TZID=America/New_York:20230820T100000
DTEND;TZID=America/New_York:20230820T111500
DTSTAMP:20260423T202459
CREATED:20230529T213322Z
LAST-MODIFIED:20230529T213322Z
UID:10005639-1692525600-1692530100@waverlychurch.org
SUMMARY:Worship Service (Summer Hours)
DESCRIPTION:We meet on Sundays in our Sanctuary at 10am during the summer and stream services online. \nSunday’s worship service will be live-streamed over our Facebook page on Sunday mornings. \nhttps://waverlychurch.org/worship/guidelines-for-in-person-worship/ \nhttps://www.facebook.com/pg/WaverlyChurch/videos/ \n 
URL:https://waverlychurch.org/event/worship-service-summer-hours/2023-08-20/
END:VEVENT
END:VCALENDAR