BEGIN:VCALENDAR
VERSION:2.0
PRODID:-//Waverly Presbyterian Church - ECPv6.15.20//NONSGML v1.0//EN
CALSCALE:GREGORIAN
METHOD:PUBLISH
X-WR-CALNAME:Waverly Presbyterian Church
X-ORIGINAL-URL:https://waverlychurch.org
X-WR-CALDESC:Events for Waverly Presbyterian Church
REFRESH-INTERVAL;VALUE=DURATION:PT1H
X-Robots-Tag:noindex
X-PUBLISHED-TTL:PT1H
BEGIN:VTIMEZONE
TZID:America/New_York
BEGIN:DAYLIGHT
TZOFFSETFROM:-0500
TZOFFSETTO:-0400
TZNAME:EDT
DTSTART:20240310T070000
END:DAYLIGHT
BEGIN:STANDARD
TZOFFSETFROM:-0400
TZOFFSETTO:-0500
TZNAME:EST
DTSTART:20241103T060000
END:STANDARD
BEGIN:DAYLIGHT
TZOFFSETFROM:-0500
TZOFFSETTO:-0400
TZNAME:EDT
DTSTART:20250309T070000
END:DAYLIGHT
BEGIN:STANDARD
TZOFFSETFROM:-0400
TZOFFSETTO:-0500
TZNAME:EST
DTSTART:20251102T060000
END:STANDARD
BEGIN:DAYLIGHT
TZOFFSETFROM:-0500
TZOFFSETTO:-0400
TZNAME:EDT
DTSTART:20260308T070000
END:DAYLIGHT
BEGIN:STANDARD
TZOFFSETFROM:-0400
TZOFFSETTO:-0500
TZNAME:EST
DTSTART:20261101T060000
END:STANDARD
BEGIN:DAYLIGHT
TZOFFSETFROM:-0500
TZOFFSETTO:-0400
TZNAME:EDT
DTSTART:20270314T070000
END:DAYLIGHT
BEGIN:STANDARD
TZOFFSETFROM:-0400
TZOFFSETTO:-0500
TZNAME:EST
DTSTART:20271107T060000
END:STANDARD
END:VTIMEZONE
BEGIN:VTIMEZONE
TZID:UTC
BEGIN:STANDARD
TZOFFSETFROM:+0000
TZOFFSETTO:+0000
TZNAME:UTC
DTSTART:20240101T000000
END:STANDARD
END:VTIMEZONE
BEGIN:VEVENT
DTSTART;TZID=America/New_York:20251217T090000
DTEND;TZID=America/New_York:20251217T200000
DTSTAMP:20260422T182540
CREATED:20251030T152456Z
LAST-MODIFIED:20251030T152456Z
UID:10131737-1765962000-1766001600@waverlychurch.org
SUMMARY:Guitar Lessons
DESCRIPTION:ian@cainsmusiclessons.com
URL:https://waverlychurch.org/event/guitar-lessons/2025-12-17/
LOCATION:Frog Room
END:VEVENT
BEGIN:VEVENT
DTSTART;TZID=America/New_York:20251218T103000
DTEND;TZID=America/New_York:20251218T140000
DTSTAMP:20260422T182540
CREATED:20241211T164945Z
LAST-MODIFIED:20241211T164945Z
UID:10008602-1766053800-1766066400@waverlychurch.org
SUMMARY:Reiki with Bob Dove and Ross Marshall
DESCRIPTION:
URL:https://waverlychurch.org/event/reiki-with-bob-dove-and-ross-marshall-2/2025-12-18/
LOCATION:Social Hall
END:VEVENT
BEGIN:VEVENT
DTSTART;TZID=America/New_York:20251218T190000
DTEND;TZID=America/New_York:20251218T203000
DTSTAMP:20260422T182540
CREATED:20251125T183555Z
LAST-MODIFIED:20251125T183747Z
UID:10132336-1766084400-1766089800@waverlychurch.org
SUMMARY:Choir Rehearsal in Lounge
DESCRIPTION:
URL:https://waverlychurch.org/event/choir-rehearsal-in-lounge/2025-12-18/
LOCATION:Lounge
END:VEVENT
BEGIN:VEVENT
DTSTART;TZID=America/New_York:20251219T190000
DTEND;TZID=America/New_York:20251219T200000
DTSTAMP:20260422T182540
CREATED:20251202T193124Z
LAST-MODIFIED:20251211T163019Z
UID:10132976-1766170800-1766174400@waverlychurch.org
SUMMARY:The East Shore Chorale Christmas Concert in the Sanctuary
DESCRIPTION:
URL:https://waverlychurch.org/event/the-east-shore-chorale-christmas-concert-in-the-sanctuary/
LOCATION:Sanctuary
END:VEVENT
BEGIN:VEVENT
DTSTART;TZID=America/New_York:20251221T093000
DTEND;TZID=America/New_York:20251221T100000
DTSTAMP:20260422T182540
CREATED:20251125T184126Z
LAST-MODIFIED:20251125T184126Z
UID:10132597-1766309400-1766311200@waverlychurch.org
SUMMARY:Choir Rehearsal in Sanctuary
DESCRIPTION:
URL:https://waverlychurch.org/event/choir-rehearsal-in-sanctuary/2025-12-21/
END:VEVENT
BEGIN:VEVENT
DTSTART;TZID=America/New_York:20251221T100000
DTEND;TZID=America/New_York:20251221T105500
DTSTAMP:20260422T182540
CREATED:20250923T174238Z
LAST-MODIFIED:20250923T174239Z
UID:10007160-1766311200-1766314500@waverlychurch.org
SUMMARY:Sunday School
DESCRIPTION:All ages are welcome to join us each week for Sunday School in the following locations: \nChildren up through 1st grade: nursery (downstairs\, right side of front entrance – ring bell to enter) \nChildren and Youth 2nd grade through 12th grade in the “Wonka Room” – room off of our lower floor Social Hall. \nAdults: lounge (upstairs in back of church)
URL:https://waverlychurch.org/event/sunday-school-3-2-2-2-2-2-2/2025-12-21/
END:VEVENT
BEGIN:VEVENT
DTSTART;TZID=America/New_York:20251221T110000
DTEND;TZID=America/New_York:20251221T121500
DTSTAMP:20260422T182540
CREATED:20250923T171614Z
LAST-MODIFIED:20250923T171615Z
UID:10007728-1766314800-1766319300@waverlychurch.org
SUMMARY:Worship Service
DESCRIPTION:We meet on Sundays in our Sanctuary at 11am during the school year and stream services online. \nSunday’s worship service will be live-streamed over our Facebook page on Sunday mornings. \n \nhttps://www.facebook.com/pg/WaverlyChurch/videos/
URL:https://waverlychurch.org/event/worship-service-5-2-2/2025-12-21/
END:VEVENT
BEGIN:VEVENT
DTSTART;TZID=America/New_York:20251221T121500
DTEND;TZID=America/New_York:20251221T133000
DTSTAMP:20260422T182540
CREATED:20250923T170705Z
LAST-MODIFIED:20250923T170706Z
UID:10006644-1766319300-1766323800@waverlychurch.org
SUMMARY:Coffee Hour
DESCRIPTION:Join us after service weekly for a chance to share fellowship over coffee and snacks
URL:https://waverlychurch.org/event/coffee-hour-3-2-2-2-2/2025-12-21/
LOCATION:Lounge
END:VEVENT
BEGIN:VEVENT
DTSTART;TZID=America/New_York:20251221T190000
DTEND;TZID=America/New_York:20251221T200000
DTSTAMP:20260422T182540
CREATED:20240827T172656Z
LAST-MODIFIED:20251113T191656Z
UID:10008223-1766343600-1766347200@waverlychurch.org
SUMMARY:Blue Christmas Service
DESCRIPTION:Join us for a service on the longest night of the year\, where we worship together as we are\, recognizing that this season is not cheerful for everyone. This is a solemn service\, but pointing towards the hope of Christ.
URL:https://waverlychurch.org/event/blue-christmas-service-3/
LOCATION:Sanctuary
END:VEVENT
BEGIN:VEVENT
DTSTART;TZID=America/New_York:20251221T193000
DTEND;TZID=America/New_York:20251221T210000
DTSTAMP:20260422T182540
CREATED:20190310T184702Z
LAST-MODIFIED:20220704T145322Z
UID:10000666-1766345400-1766350800@waverlychurch.org
SUMMARY:Alcoholics Anonymous
DESCRIPTION:The Frick Park Group of Alcoholics Anonymous is holding in-person meetings in the Social Hall. \nAdditional links for AA groups are posted online at the AA Central Office.\nhttps://www.pghaa.org/
URL:https://waverlychurch.org/event/aa-2020-03-22-2021-07-04/2025-12-21/
LOCATION:Social Hall
END:VEVENT
BEGIN:VEVENT
DTSTART;TZID=America/New_York:20251222T090000
DTEND;TZID=America/New_York:20251222T200000
DTSTAMP:20260422T182540
CREATED:20251030T152456Z
LAST-MODIFIED:20251030T152456Z
UID:10131738-1766394000-1766433600@waverlychurch.org
SUMMARY:Guitar Lessons
DESCRIPTION:ian@cainsmusiclessons.com
URL:https://waverlychurch.org/event/guitar-lessons/2025-12-22/
LOCATION:Frog Room
END:VEVENT
BEGIN:VEVENT
DTSTART;TZID=America/New_York:20251222T170000
DTEND;TZID=America/New_York:20251222T180000
DTSTAMP:20260422T182540
CREATED:20240827T181303Z
LAST-MODIFIED:20260309T184828Z
UID:10008293-1766422800-1766426400@waverlychurch.org
SUMMARY:Drawing Closer - Meeting on Zoom
DESCRIPTION:This time of contemplative prayer and exploration of poetry is different every week and open to all\, no matter your beliefs. \nClick here for the Zoom link or call by phone:\n929-436-2866\nMeeting ID: 829 0407 0235\nPasscode: 056654
URL:https://waverlychurch.org/event/drawing-closer/2025-12-22/
LOCATION:https://waverlychurch.org/event/drawing-closer/2025-12-22/
END:VEVENT
BEGIN:VEVENT
DTSTART;TZID=America/New_York:20251222T190000
DTEND;TZID=America/New_York:20251222T203000
DTSTAMP:20260422T182540
CREATED:20251111T154605Z
LAST-MODIFIED:20251125T185244Z
UID:10132249-1766430000-1766435400@waverlychurch.org
SUMMARY:Tough Questions: Free For Good Series meeting in the Lounge
DESCRIPTION:A time to explore tough faith questions in vulnerable connection.
URL:https://waverlychurch.org/event/free-for-good-meeting-in-the-lounge/2025-12-22/
LOCATION:Lounge
END:VEVENT
BEGIN:VEVENT
DTSTART;TZID=America/New_York:20251223T190000
DTEND;TZID=America/New_York:20251223T193000
DTSTAMP:20260422T182541
CREATED:20210711T201005Z
LAST-MODIFIED:20220704T150145Z
UID:10000315-1766516400-1766518200@waverlychurch.org
SUMMARY:Al-Anon [Beginners' Meeting]
DESCRIPTION:The Frick Park Al-Anon group may still be virtual. \nContact frickparkafg85[at]gmail.com with any questions.
URL:https://waverlychurch.org/event/al-anon-beginners-meeting-2022-01-04-2022-04-05/2025-12-23/
LOCATION:Social Hall
END:VEVENT
BEGIN:VEVENT
DTSTART;TZID=UTC:20251223T193000
DTEND;TZID=UTC:20251223T203000
DTSTAMP:20260422T182541
CREATED:20190310T185001Z
LAST-MODIFIED:20220331T225559Z
UID:10002544-1766518200-1766521800@waverlychurch.org
SUMMARY:Al-Anon
DESCRIPTION:The Frick Park Al-Anon is holding in-person meetings in the Social Hall. \nContact frickparkafg85[at]gmail.com with any questions.
URL:https://waverlychurch.org/event/al-anon-2020-03-24-2021-07-06-2021-07-13/2025-12-23/
END:VEVENT
BEGIN:VEVENT
DTSTART;TZID=America/New_York:20251224T090000
DTEND;TZID=America/New_York:20251224T200000
DTSTAMP:20260422T182541
CREATED:20251030T152456Z
LAST-MODIFIED:20251030T152456Z
UID:10131739-1766566800-1766606400@waverlychurch.org
SUMMARY:Guitar Lessons
DESCRIPTION:ian@cainsmusiclessons.com
URL:https://waverlychurch.org/event/guitar-lessons/2025-12-24/
LOCATION:Frog Room
END:VEVENT
BEGIN:VEVENT
DTSTART;TZID=America/New_York:20251224T190000
DTEND;TZID=America/New_York:20251224T200000
DTSTAMP:20260422T182541
CREATED:20251125T181519Z
LAST-MODIFIED:20251125T181519Z
UID:10132332-1766602800-1766606400@waverlychurch.org
SUMMARY:Christmas Eve Service
DESCRIPTION:And pageant in the Sanctuary
URL:https://waverlychurch.org/event/christmas-eve-service-3/
LOCATION:Sanctuary
END:VEVENT
BEGIN:VEVENT
DTSTART;TZID=America/New_York:20251228T093000
DTEND;TZID=America/New_York:20251228T100000
DTSTAMP:20260422T182541
CREATED:20251125T184126Z
LAST-MODIFIED:20251125T184126Z
UID:10132598-1766914200-1766916000@waverlychurch.org
SUMMARY:Choir Rehearsal in Sanctuary
DESCRIPTION:
URL:https://waverlychurch.org/event/choir-rehearsal-in-sanctuary/2025-12-28/
END:VEVENT
BEGIN:VEVENT
DTSTART;TZID=America/New_York:20251228T100000
DTEND;TZID=America/New_York:20251228T105500
DTSTAMP:20260422T182541
CREATED:20250923T174238Z
LAST-MODIFIED:20250923T174239Z
UID:10007161-1766916000-1766919300@waverlychurch.org
SUMMARY:Sunday School
DESCRIPTION:All ages are welcome to join us each week for Sunday School in the following locations: \nChildren up through 1st grade: nursery (downstairs\, right side of front entrance – ring bell to enter) \nChildren and Youth 2nd grade through 12th grade in the “Wonka Room” – room off of our lower floor Social Hall. \nAdults: lounge (upstairs in back of church)
URL:https://waverlychurch.org/event/sunday-school-3-2-2-2-2-2-2/2025-12-28/
END:VEVENT
BEGIN:VEVENT
DTSTART;TZID=America/New_York:20251228T110000
DTEND;TZID=America/New_York:20251228T121500
DTSTAMP:20260422T182541
CREATED:20250923T171614Z
LAST-MODIFIED:20250923T171615Z
UID:10007729-1766919600-1766924100@waverlychurch.org
SUMMARY:Worship Service
DESCRIPTION:We meet on Sundays in our Sanctuary at 11am during the school year and stream services online. \nSunday’s worship service will be live-streamed over our Facebook page on Sunday mornings. \n \nhttps://www.facebook.com/pg/WaverlyChurch/videos/
URL:https://waverlychurch.org/event/worship-service-5-2-2/2025-12-28/
END:VEVENT
BEGIN:VEVENT
DTSTART;TZID=America/New_York:20251228T121500
DTEND;TZID=America/New_York:20251228T133000
DTSTAMP:20260422T182541
CREATED:20250923T170705Z
LAST-MODIFIED:20250923T170706Z
UID:10006645-1766924100-1766928600@waverlychurch.org
SUMMARY:Coffee Hour
DESCRIPTION:Join us after service weekly for a chance to share fellowship over coffee and snacks
URL:https://waverlychurch.org/event/coffee-hour-3-2-2-2-2/2025-12-28/
LOCATION:Lounge
END:VEVENT
BEGIN:VEVENT
DTSTART;TZID=America/New_York:20251228T193000
DTEND;TZID=America/New_York:20251228T210000
DTSTAMP:20260422T182541
CREATED:20190310T184702Z
LAST-MODIFIED:20220704T145322Z
UID:10000667-1766950200-1766955600@waverlychurch.org
SUMMARY:Alcoholics Anonymous
DESCRIPTION:The Frick Park Group of Alcoholics Anonymous is holding in-person meetings in the Social Hall. \nAdditional links for AA groups are posted online at the AA Central Office.\nhttps://www.pghaa.org/
URL:https://waverlychurch.org/event/aa-2020-03-22-2021-07-04/2025-12-28/
LOCATION:Social Hall
END:VEVENT
BEGIN:VEVENT
DTSTART;TZID=America/New_York:20251229T090000
DTEND;TZID=America/New_York:20251229T200000
DTSTAMP:20260422T182541
CREATED:20251030T152456Z
LAST-MODIFIED:20251030T152456Z
UID:10131740-1766998800-1767038400@waverlychurch.org
SUMMARY:Guitar Lessons
DESCRIPTION:ian@cainsmusiclessons.com
URL:https://waverlychurch.org/event/guitar-lessons/2025-12-29/
LOCATION:Frog Room
END:VEVENT
BEGIN:VEVENT
DTSTART;TZID=America/New_York:20251229T170000
DTEND;TZID=America/New_York:20251229T180000
DTSTAMP:20260422T182541
CREATED:20240827T181303Z
LAST-MODIFIED:20260309T184828Z
UID:10008294-1767027600-1767031200@waverlychurch.org
SUMMARY:Drawing Closer - Meeting on Zoom
DESCRIPTION:This time of contemplative prayer and exploration of poetry is different every week and open to all\, no matter your beliefs. \nClick here for the Zoom link or call by phone:\n929-436-2866\nMeeting ID: 829 0407 0235\nPasscode: 056654
URL:https://waverlychurch.org/event/drawing-closer/2025-12-29/
LOCATION:https://waverlychurch.org/event/drawing-closer/2025-12-29/
END:VEVENT
BEGIN:VEVENT
DTSTART;TZID=America/New_York:20251230T190000
DTEND;TZID=America/New_York:20251230T193000
DTSTAMP:20260422T182541
CREATED:20210711T201005Z
LAST-MODIFIED:20220704T150145Z
UID:10000316-1767121200-1767123000@waverlychurch.org
SUMMARY:Al-Anon [Beginners' Meeting]
DESCRIPTION:The Frick Park Al-Anon group may still be virtual. \nContact frickparkafg85[at]gmail.com with any questions.
URL:https://waverlychurch.org/event/al-anon-beginners-meeting-2022-01-04-2022-04-05/2025-12-30/
LOCATION:Social Hall
END:VEVENT
BEGIN:VEVENT
DTSTART;TZID=UTC:20251230T193000
DTEND;TZID=UTC:20251230T203000
DTSTAMP:20260422T182541
CREATED:20190310T185001Z
LAST-MODIFIED:20220331T225559Z
UID:10002545-1767123000-1767126600@waverlychurch.org
SUMMARY:Al-Anon
DESCRIPTION:The Frick Park Al-Anon is holding in-person meetings in the Social Hall. \nContact frickparkafg85[at]gmail.com with any questions.
URL:https://waverlychurch.org/event/al-anon-2020-03-24-2021-07-06-2021-07-13/2025-12-30/
END:VEVENT
BEGIN:VEVENT
DTSTART;TZID=America/New_York:20251231T090000
DTEND;TZID=America/New_York:20251231T200000
DTSTAMP:20260422T182541
CREATED:20251030T152456Z
LAST-MODIFIED:20251030T152456Z
UID:10131741-1767171600-1767211200@waverlychurch.org
SUMMARY:Guitar Lessons
DESCRIPTION:ian@cainsmusiclessons.com
URL:https://waverlychurch.org/event/guitar-lessons/2025-12-31/
LOCATION:Frog Room
END:VEVENT
BEGIN:VEVENT
DTSTART;TZID=America/New_York:20260103T110000
DTEND;TZID=America/New_York:20260103T143000
DTSTAMP:20260422T182541
CREATED:20251125T184526Z
LAST-MODIFIED:20251125T184526Z
UID:10132856-1767438000-1767450600@waverlychurch.org
SUMMARY:East End N.A. Business Meeting/Social Hall
DESCRIPTION:
URL:https://waverlychurch.org/event/east-end-n-a-business-meeting-social-hall/2026-01-03/
END:VEVENT
BEGIN:VEVENT
DTSTART;TZID=America/New_York:20260104T093000
DTEND;TZID=America/New_York:20260104T100000
DTSTAMP:20260422T182541
CREATED:20251125T184126Z
LAST-MODIFIED:20251125T184126Z
UID:10132599-1767519000-1767520800@waverlychurch.org
SUMMARY:Choir Rehearsal in Sanctuary
DESCRIPTION:
URL:https://waverlychurch.org/event/choir-rehearsal-in-sanctuary/2026-01-04/
END:VEVENT
BEGIN:VEVENT
DTSTART;TZID=America/New_York:20260104T100000
DTEND;TZID=America/New_York:20260104T105500
DTSTAMP:20260422T182541
CREATED:20250923T174238Z
LAST-MODIFIED:20250923T174239Z
UID:10007162-1767520800-1767524100@waverlychurch.org
SUMMARY:Sunday School
DESCRIPTION:All ages are welcome to join us each week for Sunday School in the following locations: \nChildren up through 1st grade: nursery (downstairs\, right side of front entrance – ring bell to enter) \nChildren and Youth 2nd grade through 12th grade in the “Wonka Room” – room off of our lower floor Social Hall. \nAdults: lounge (upstairs in back of church)
URL:https://waverlychurch.org/event/sunday-school-3-2-2-2-2-2-2/2026-01-04/
END:VEVENT
END:VCALENDAR