BEGIN:VCALENDAR
VERSION:2.0
PRODID:-//Waverly Presbyterian Church - ECPv6.15.20//NONSGML v1.0//EN
CALSCALE:GREGORIAN
METHOD:PUBLISH
X-ORIGINAL-URL:https://waverlychurch.org
X-WR-CALDESC:Events for Waverly Presbyterian Church
REFRESH-INTERVAL;VALUE=DURATION:PT1H
X-Robots-Tag:noindex
X-PUBLISHED-TTL:PT1H
BEGIN:VTIMEZONE
TZID:UTC
BEGIN:STANDARD
TZOFFSETFROM:+0000
TZOFFSETTO:+0000
TZNAME:UTC
DTSTART:20210101T000000
END:STANDARD
END:VTIMEZONE
BEGIN:VTIMEZONE
TZID:America/New_York
BEGIN:DAYLIGHT
TZOFFSETFROM:-0500
TZOFFSETTO:-0400
TZNAME:EDT
DTSTART:20210314T070000
END:DAYLIGHT
BEGIN:STANDARD
TZOFFSETFROM:-0400
TZOFFSETTO:-0500
TZNAME:EST
DTSTART:20211107T060000
END:STANDARD
BEGIN:DAYLIGHT
TZOFFSETFROM:-0500
TZOFFSETTO:-0400
TZNAME:EDT
DTSTART:20220313T070000
END:DAYLIGHT
BEGIN:STANDARD
TZOFFSETFROM:-0400
TZOFFSETTO:-0500
TZNAME:EST
DTSTART:20221106T060000
END:STANDARD
BEGIN:DAYLIGHT
TZOFFSETFROM:-0500
TZOFFSETTO:-0400
TZNAME:EDT
DTSTART:20230312T070000
END:DAYLIGHT
BEGIN:STANDARD
TZOFFSETFROM:-0400
TZOFFSETTO:-0500
TZNAME:EST
DTSTART:20231105T060000
END:STANDARD
END:VTIMEZONE
BEGIN:VEVENT
DTSTART;TZID=UTC:20220402T090000
DTEND;TZID=UTC:20220402T102000
DTSTAMP:20260424T110849
CREATED:20190310T191142Z
LAST-MODIFIED:20230830T175415Z
UID:10001242-1648890000-1648894800@waverlychurch.org
SUMMARY:Narcotics Anonymous
DESCRIPTION:Narcotics Anonymous is holding in-person meetings in the Social Hall.
URL:https://waverlychurch.org/event/na-2020-03-21-2021-07-10/2022-04-02/
END:VEVENT
BEGIN:VEVENT
DTSTART;TZID=UTC:20220403T110000
DTEND;TZID=UTC:20220403T120000
DTSTAMP:20260424T110849
CREATED:20210715T194724Z
LAST-MODIFIED:20210715T194934Z
UID:10000818-1648983600-1648987200@waverlychurch.org
SUMMARY:Worship Service
DESCRIPTION:We meet on Sundays in our Sanctuary at 11am (click below for guidelines) and stream services online. \nSunday’s worship service will be live-streamed over our Facebook page at 11:00 on Sunday morning and the scripture and sermon will be on SoundCloud. \nhttps://waverlychurch.org/worship/guidelines-for-in-person-worship/ \nhttps://www.facebook.com/pg/WaverlyChurch/videos/ \n  \n 
URL:https://waverlychurch.org/event/worship-service-3/2022-04-03/
LOCATION:Sanctuary
END:VEVENT
BEGIN:VEVENT
DTSTART;TZID=America/New_York:20220403T193000
DTEND;TZID=America/New_York:20220403T210000
DTSTAMP:20260424T110849
CREATED:20190310T184702Z
LAST-MODIFIED:20220704T145322Z
UID:10000472-1649014200-1649019600@waverlychurch.org
SUMMARY:Alcoholics Anonymous
DESCRIPTION:The Frick Park Group of Alcoholics Anonymous is holding in-person meetings in the Social Hall. \nAdditional links for AA groups are posted online at the AA Central Office.\nhttps://www.pghaa.org/
URL:https://waverlychurch.org/event/aa-2020-03-22-2021-07-04/2022-04-03/
LOCATION:Social Hall
END:VEVENT
BEGIN:VEVENT
DTSTART;TZID=America/New_York:20220405T190000
DTEND;TZID=America/New_York:20220405T193000
DTSTAMP:20260424T110849
CREATED:20210711T201005Z
LAST-MODIFIED:20220704T150145Z
UID:10000121-1649185200-1649187000@waverlychurch.org
SUMMARY:Al-Anon [Beginners' Meeting]
DESCRIPTION:The Frick Park Al-Anon group may still be virtual. \nContact frickparkafg85[at]gmail.com with any questions.
URL:https://waverlychurch.org/event/al-anon-beginners-meeting-2022-01-04-2022-04-05/2022-04-05/
LOCATION:Social Hall
END:VEVENT
BEGIN:VEVENT
DTSTART;TZID=UTC:20220405T190000
DTEND;TZID=UTC:20220405T200000
DTSTAMP:20260424T110849
CREATED:20210722T164636Z
LAST-MODIFIED:20210722T164638Z
UID:10003514-1649185200-1649188800@waverlychurch.org
SUMMARY:Creative Arts Ministry
DESCRIPTION:Join us the first Tuesday of the month at 7pm in the lounge to study scripture and plan for its creative expression in worship.
URL:https://waverlychurch.org/event/creative-arts-ministry/2022-04-05/
LOCATION:Lounge
END:VEVENT
BEGIN:VEVENT
DTSTART;TZID=UTC:20220405T190000
DTEND;TZID=UTC:20220405T200000
DTSTAMP:20260424T110849
CREATED:20220318T013659Z
LAST-MODIFIED:20220318T013659Z
UID:10003531-1649185200-1649188800@waverlychurch.org
SUMMARY:Lenten Book Study
DESCRIPTION:Lenten Book Study on A Pilgrim’s Compass by Paul Lang \nEvery Tuesday night at 7pm via Zoom through April 12. \nEmail pastor@waverlychurch.org for the Zoom link.
URL:https://waverlychurch.org/event/lenten-book-study/2022-04-05/
END:VEVENT
BEGIN:VEVENT
DTSTART;TZID=UTC:20220405T193000
DTEND;TZID=UTC:20220405T203000
DTSTAMP:20260424T110849
CREATED:20190310T185001Z
LAST-MODIFIED:20220331T225559Z
UID:10002350-1649187000-1649190600@waverlychurch.org
SUMMARY:Al-Anon
DESCRIPTION:The Frick Park Al-Anon is holding in-person meetings in the Social Hall. \nContact frickparkafg85[at]gmail.com with any questions.
URL:https://waverlychurch.org/event/al-anon-2020-03-24-2021-07-06-2021-07-13/2022-04-05/
END:VEVENT
BEGIN:VEVENT
DTSTART;TZID=America/New_York:20220405T193000
DTEND;TZID=America/New_York:20220405T203000
DTSTAMP:20260424T110849
CREATED:20190310T185001Z
LAST-MODIFIED:20220704T150031Z
UID:10004110-1649187000-1649190600@waverlychurch.org
SUMMARY:Al-Anon
DESCRIPTION:The Frick Park Al-Anon group may still be virtual. \nContact frickparkafg85[at]gmail.com with any questions.
URL:https://waverlychurch.org/event/al-anon-2020-03-24-2021-07-06-2021-07-20-2022-01-04-2022-04-05/2022-04-05/
END:VEVENT
BEGIN:VEVENT
DTSTART;TZID=UTC:20220405T193000
DTEND;TZID=UTC:20220405T210000
DTSTAMP:20260424T110849
CREATED:20190310T185001Z
LAST-MODIFIED:20201211T021356Z
UID:10001657-1649187000-1649192400@waverlychurch.org
SUMMARY:Al-Anon [Virtual Meeting]
DESCRIPTION:Due to COVID-19 precautions\, the Frick Park Al-Anon is meeting virtually. \nContact frickparkafg85[at]gmail.com for the link. \nIn-person meetings will resume when it is safe to do so.
URL:https://waverlychurch.org/event/al-anon-2020-03-24/2022-04-05/
END:VEVENT
BEGIN:VEVENT
DTSTART;TZID=UTC:20220409T090000
DTEND;TZID=UTC:20220409T102000
DTSTAMP:20260424T110849
CREATED:20190310T191142Z
LAST-MODIFIED:20230830T175415Z
UID:10001243-1649494800-1649499600@waverlychurch.org
SUMMARY:Narcotics Anonymous
DESCRIPTION:Narcotics Anonymous is holding in-person meetings in the Social Hall.
URL:https://waverlychurch.org/event/na-2020-03-21-2021-07-10/2022-04-09/
END:VEVENT
BEGIN:VEVENT
DTSTART;TZID=UTC:20220410T110000
DTEND;TZID=UTC:20220410T120000
DTSTAMP:20260424T110849
CREATED:20210715T194724Z
LAST-MODIFIED:20220331T230510Z
UID:10000829-1649588400-1649592000@waverlychurch.org
SUMMARY:Worship Service
DESCRIPTION:The April 10th service will be held at Pittsburgh Theological Seminary. (There will be no coffee hour following the service.) \nSunday’s worship service will be live-streamed over our Facebook page at 11:00 on Sunday morning and the scripture and sermon will be on SoundCloud. \nhttps://waverlychurch.org/worship/guidelines-for-in-person-worship/ \nhttps://www.facebook.com/pg/WaverlyChurch/videos/ \n  \n 
URL:https://waverlychurch.org/event/worship-service-3-2022-04-10/
LOCATION:Pittsburgh Theological Seminary\, 616 N Highland Ave\, Pittsburgh\, PA\, 15206
END:VEVENT
BEGIN:VEVENT
DTSTART;TZID=UTC:20220410T120000
DTEND;TZID=UTC:20220410T123000
DTSTAMP:20260424T110849
CREATED:20210722T164957Z
LAST-MODIFIED:20220331T230127Z
UID:10004108-1649592000-1649593800@waverlychurch.org
SUMMARY:Coffee Hour
DESCRIPTION:Immediately following the service\, we hope you can stay to enjoy fellowship with the Waverly community.
URL:https://waverlychurch.org/event/coffee-hour-2022-04-10/
LOCATION:Lounge
END:VEVENT
BEGIN:VEVENT
DTSTART;TZID=America/New_York:20220410T193000
DTEND;TZID=America/New_York:20220410T210000
DTSTAMP:20260424T110849
CREATED:20190310T184702Z
LAST-MODIFIED:20220704T145322Z
UID:10000473-1649619000-1649624400@waverlychurch.org
SUMMARY:Alcoholics Anonymous
DESCRIPTION:The Frick Park Group of Alcoholics Anonymous is holding in-person meetings in the Social Hall. \nAdditional links for AA groups are posted online at the AA Central Office.\nhttps://www.pghaa.org/
URL:https://waverlychurch.org/event/aa-2020-03-22-2021-07-04/2022-04-10/
LOCATION:Social Hall
END:VEVENT
BEGIN:VEVENT
DTSTART;TZID=America/New_York:20220412T190000
DTEND;TZID=America/New_York:20220412T193000
DTSTAMP:20260424T110849
CREATED:20210711T201005Z
LAST-MODIFIED:20220704T150145Z
UID:10000122-1649790000-1649791800@waverlychurch.org
SUMMARY:Al-Anon [Beginners' Meeting]
DESCRIPTION:The Frick Park Al-Anon group may still be virtual. \nContact frickparkafg85[at]gmail.com with any questions.
URL:https://waverlychurch.org/event/al-anon-beginners-meeting-2022-01-04-2022-04-05/2022-04-12/
LOCATION:Social Hall
END:VEVENT
BEGIN:VEVENT
DTSTART;TZID=UTC:20220412T190000
DTEND;TZID=UTC:20220412T200000
DTSTAMP:20260424T110849
CREATED:20220318T013659Z
LAST-MODIFIED:20220318T013659Z
UID:10003532-1649790000-1649793600@waverlychurch.org
SUMMARY:Lenten Book Study
DESCRIPTION:Lenten Book Study on A Pilgrim’s Compass by Paul Lang \nEvery Tuesday night at 7pm via Zoom through April 12. \nEmail pastor@waverlychurch.org for the Zoom link.
URL:https://waverlychurch.org/event/lenten-book-study/2022-04-12/
END:VEVENT
BEGIN:VEVENT
DTSTART;TZID=America/New_York:20220412T193000
DTEND;TZID=America/New_York:20220412T203000
DTSTAMP:20260424T110849
CREATED:20190310T185001Z
LAST-MODIFIED:20220704T150031Z
UID:10004111-1649791800-1649795400@waverlychurch.org
SUMMARY:Al-Anon
DESCRIPTION:The Frick Park Al-Anon group may still be virtual. \nContact frickparkafg85[at]gmail.com with any questions.
URL:https://waverlychurch.org/event/al-anon-2020-03-24-2021-07-06-2021-07-20-2022-01-04-2022-04-05/2022-04-12/
END:VEVENT
BEGIN:VEVENT
DTSTART;TZID=UTC:20220412T193000
DTEND;TZID=UTC:20220412T203000
DTSTAMP:20260424T110849
CREATED:20190310T185001Z
LAST-MODIFIED:20220331T225559Z
UID:10002351-1649791800-1649795400@waverlychurch.org
SUMMARY:Al-Anon
DESCRIPTION:The Frick Park Al-Anon is holding in-person meetings in the Social Hall. \nContact frickparkafg85[at]gmail.com with any questions.
URL:https://waverlychurch.org/event/al-anon-2020-03-24-2021-07-06-2021-07-13/2022-04-12/
END:VEVENT
BEGIN:VEVENT
DTSTART;TZID=UTC:20220412T193000
DTEND;TZID=UTC:20220412T210000
DTSTAMP:20260424T110849
CREATED:20190310T185001Z
LAST-MODIFIED:20201211T021356Z
UID:10001658-1649791800-1649797200@waverlychurch.org
SUMMARY:Al-Anon [Virtual Meeting]
DESCRIPTION:Due to COVID-19 precautions\, the Frick Park Al-Anon is meeting virtually. \nContact frickparkafg85[at]gmail.com for the link. \nIn-person meetings will resume when it is safe to do so.
URL:https://waverlychurch.org/event/al-anon-2020-03-24/2022-04-12/
END:VEVENT
BEGIN:VEVENT
DTSTART;TZID=UTC:20220416T090000
DTEND;TZID=UTC:20220416T102000
DTSTAMP:20260424T110849
CREATED:20190310T191142Z
LAST-MODIFIED:20230830T175415Z
UID:10001244-1650099600-1650104400@waverlychurch.org
SUMMARY:Narcotics Anonymous
DESCRIPTION:Narcotics Anonymous is holding in-person meetings in the Social Hall.
URL:https://waverlychurch.org/event/na-2020-03-21-2021-07-10/2022-04-16/
END:VEVENT
BEGIN:VEVENT
DTSTART;TZID=UTC:20220416T110000
DTEND;TZID=UTC:20220416T120000
DTSTAMP:20260424T110849
CREATED:20220331T230755Z
LAST-MODIFIED:20220331T230755Z
UID:10004424-1650106800-1650110400@waverlychurch.org
SUMMARY:Easter Egg Hunt
DESCRIPTION:Join us for an Easter Egg Hunt on April 16th at 11am on our front lawn—all are welcome!
URL:https://waverlychurch.org/event/easter-egg-hunt/
LOCATION:Front Lawn
END:VEVENT
BEGIN:VEVENT
DTSTART;TZID=UTC:20220417T110000
DTEND;TZID=UTC:20220417T120000
DTSTAMP:20260424T110849
CREATED:20210715T194724Z
LAST-MODIFIED:20210715T194934Z
UID:10000819-1650193200-1650196800@waverlychurch.org
SUMMARY:Worship Service
DESCRIPTION:We meet on Sundays in our Sanctuary at 11am (click below for guidelines) and stream services online. \nSunday’s worship service will be live-streamed over our Facebook page at 11:00 on Sunday morning and the scripture and sermon will be on SoundCloud. \nhttps://waverlychurch.org/worship/guidelines-for-in-person-worship/ \nhttps://www.facebook.com/pg/WaverlyChurch/videos/ \n  \n 
URL:https://waverlychurch.org/event/worship-service-3/2022-04-17/
LOCATION:Sanctuary
END:VEVENT
BEGIN:VEVENT
DTSTART;TZID=America/New_York:20220417T193000
DTEND;TZID=America/New_York:20220417T210000
DTSTAMP:20260424T110849
CREATED:20190310T184702Z
LAST-MODIFIED:20220704T145322Z
UID:10000474-1650223800-1650229200@waverlychurch.org
SUMMARY:Alcoholics Anonymous
DESCRIPTION:The Frick Park Group of Alcoholics Anonymous is holding in-person meetings in the Social Hall. \nAdditional links for AA groups are posted online at the AA Central Office.\nhttps://www.pghaa.org/
URL:https://waverlychurch.org/event/aa-2020-03-22-2021-07-04/2022-04-17/
LOCATION:Social Hall
END:VEVENT
BEGIN:VEVENT
DTSTART;TZID=America/New_York:20220419T190000
DTEND;TZID=America/New_York:20220419T193000
DTSTAMP:20260424T110849
CREATED:20210711T201005Z
LAST-MODIFIED:20220704T150145Z
UID:10000123-1650394800-1650396600@waverlychurch.org
SUMMARY:Al-Anon [Beginners' Meeting]
DESCRIPTION:The Frick Park Al-Anon group may still be virtual. \nContact frickparkafg85[at]gmail.com with any questions.
URL:https://waverlychurch.org/event/al-anon-beginners-meeting-2022-01-04-2022-04-05/2022-04-19/
LOCATION:Social Hall
END:VEVENT
BEGIN:VEVENT
DTSTART;TZID=America/New_York:20220419T193000
DTEND;TZID=America/New_York:20220419T203000
DTSTAMP:20260424T110849
CREATED:20190310T185001Z
LAST-MODIFIED:20220704T150031Z
UID:10004112-1650396600-1650400200@waverlychurch.org
SUMMARY:Al-Anon
DESCRIPTION:The Frick Park Al-Anon group may still be virtual. \nContact frickparkafg85[at]gmail.com with any questions.
URL:https://waverlychurch.org/event/al-anon-2020-03-24-2021-07-06-2021-07-20-2022-01-04-2022-04-05/2022-04-19/
END:VEVENT
BEGIN:VEVENT
DTSTART;TZID=UTC:20220419T193000
DTEND;TZID=UTC:20220419T203000
DTSTAMP:20260424T110849
CREATED:20190310T185001Z
LAST-MODIFIED:20220331T225559Z
UID:10002352-1650396600-1650400200@waverlychurch.org
SUMMARY:Al-Anon
DESCRIPTION:The Frick Park Al-Anon is holding in-person meetings in the Social Hall. \nContact frickparkafg85[at]gmail.com with any questions.
URL:https://waverlychurch.org/event/al-anon-2020-03-24-2021-07-06-2021-07-13/2022-04-19/
END:VEVENT
BEGIN:VEVENT
DTSTART;TZID=UTC:20220419T193000
DTEND;TZID=UTC:20220419T210000
DTSTAMP:20260424T110849
CREATED:20190310T185001Z
LAST-MODIFIED:20201211T021356Z
UID:10001659-1650396600-1650402000@waverlychurch.org
SUMMARY:Al-Anon [Virtual Meeting]
DESCRIPTION:Due to COVID-19 precautions\, the Frick Park Al-Anon is meeting virtually. \nContact frickparkafg85[at]gmail.com for the link. \nIn-person meetings will resume when it is safe to do so.
URL:https://waverlychurch.org/event/al-anon-2020-03-24/2022-04-19/
END:VEVENT
BEGIN:VEVENT
DTSTART;TZID=UTC:20220423T090000
DTEND;TZID=UTC:20220423T102000
DTSTAMP:20260424T110849
CREATED:20190310T191142Z
LAST-MODIFIED:20230830T175415Z
UID:10001245-1650704400-1650709200@waverlychurch.org
SUMMARY:Narcotics Anonymous
DESCRIPTION:Narcotics Anonymous is holding in-person meetings in the Social Hall.
URL:https://waverlychurch.org/event/na-2020-03-21-2021-07-10/2022-04-23/
END:VEVENT
BEGIN:VEVENT
DTSTART;TZID=UTC:20220424T110000
DTEND;TZID=UTC:20220424T120000
DTSTAMP:20260424T110849
CREATED:20210715T194724Z
LAST-MODIFIED:20210715T194934Z
UID:10000820-1650798000-1650801600@waverlychurch.org
SUMMARY:Worship Service
DESCRIPTION:We meet on Sundays in our Sanctuary at 11am (click below for guidelines) and stream services online. \nSunday’s worship service will be live-streamed over our Facebook page at 11:00 on Sunday morning and the scripture and sermon will be on SoundCloud. \nhttps://waverlychurch.org/worship/guidelines-for-in-person-worship/ \nhttps://www.facebook.com/pg/WaverlyChurch/videos/ \n  \n 
URL:https://waverlychurch.org/event/worship-service-3/2022-04-24/
LOCATION:Sanctuary
END:VEVENT
BEGIN:VEVENT
DTSTART;TZID=UTC:20220424T120000
DTEND;TZID=UTC:20220424T123000
DTSTAMP:20260424T110849
CREATED:20210722T164957Z
LAST-MODIFIED:20220403T204509Z
UID:10004423-1650801600-1650803400@waverlychurch.org
SUMMARY:Coffee Hour
DESCRIPTION:Immediately following the service\, we hope you can stay to enjoy fellowship with the Waverly community.
URL:https://waverlychurch.org/event/coffee-hour-2022-04-10-2022-04-24/
LOCATION:Lounge
END:VEVENT
BEGIN:VEVENT
DTSTART;TZID=America/New_York:20220424T193000
DTEND;TZID=America/New_York:20220424T210000
DTSTAMP:20260424T110849
CREATED:20190310T184702Z
LAST-MODIFIED:20220704T145322Z
UID:10000475-1650828600-1650834000@waverlychurch.org
SUMMARY:Alcoholics Anonymous
DESCRIPTION:The Frick Park Group of Alcoholics Anonymous is holding in-person meetings in the Social Hall. \nAdditional links for AA groups are posted online at the AA Central Office.\nhttps://www.pghaa.org/
URL:https://waverlychurch.org/event/aa-2020-03-22-2021-07-04/2022-04-24/
LOCATION:Social Hall
END:VEVENT
END:VCALENDAR