BEGIN:VCALENDAR
VERSION:2.0
PRODID:-//Waverly Presbyterian Church - ECPv6.15.20//NONSGML v1.0//EN
CALSCALE:GREGORIAN
METHOD:PUBLISH
X-WR-CALNAME:Waverly Presbyterian Church
X-ORIGINAL-URL:https://waverlychurch.org
X-WR-CALDESC:Events for Waverly Presbyterian Church
REFRESH-INTERVAL;VALUE=DURATION:PT1H
X-Robots-Tag:noindex
X-PUBLISHED-TTL:PT1H
BEGIN:VTIMEZONE
TZID:America/New_York
BEGIN:DAYLIGHT
TZOFFSETFROM:-0500
TZOFFSETTO:-0400
TZNAME:EDT
DTSTART:20210314T070000
END:DAYLIGHT
BEGIN:STANDARD
TZOFFSETFROM:-0400
TZOFFSETTO:-0500
TZNAME:EST
DTSTART:20211107T060000
END:STANDARD
BEGIN:DAYLIGHT
TZOFFSETFROM:-0500
TZOFFSETTO:-0400
TZNAME:EDT
DTSTART:20220313T070000
END:DAYLIGHT
BEGIN:STANDARD
TZOFFSETFROM:-0400
TZOFFSETTO:-0500
TZNAME:EST
DTSTART:20221106T060000
END:STANDARD
BEGIN:DAYLIGHT
TZOFFSETFROM:-0500
TZOFFSETTO:-0400
TZNAME:EDT
DTSTART:20230312T070000
END:DAYLIGHT
BEGIN:STANDARD
TZOFFSETFROM:-0400
TZOFFSETTO:-0500
TZNAME:EST
DTSTART:20231105T060000
END:STANDARD
END:VTIMEZONE
BEGIN:VTIMEZONE
TZID:UTC
BEGIN:STANDARD
TZOFFSETFROM:+0000
TZOFFSETTO:+0000
TZNAME:UTC
DTSTART:20210101T000000
END:STANDARD
END:VTIMEZONE
BEGIN:VEVENT
DTSTART;TZID=America/New_York:20221201T120000
DTEND;TZID=America/New_York:20221201T170000
DTSTAMP:20260423T191034
CREATED:20220512T233651Z
LAST-MODIFIED:20220623T205155Z
UID:10003231-1669896000-1669914000@waverlychurch.org
SUMMARY:Foundation of HOPE Aftercare Program
DESCRIPTION:Aftercare support for anyone who was previously incarcerated by appointment only – Tuesdays from 9am – 2pm and Thursdays from 12pm – 5pm – call 412-321-3343 to schedule; www.foundationofhope.org for more information.
URL:https://waverlychurch.org/event/foundation-of-hope-aftercare-program-2/2022-12-01/
LOCATION:Social Hall
END:VEVENT
BEGIN:VEVENT
DTSTART;TZID=UTC:20221203T090000
DTEND;TZID=UTC:20221203T102000
DTSTAMP:20260423T191034
CREATED:20190310T191142Z
LAST-MODIFIED:20230830T175415Z
UID:10001277-1670058000-1670062800@waverlychurch.org
SUMMARY:Narcotics Anonymous
DESCRIPTION:Narcotics Anonymous is holding in-person meetings in the Social Hall.
URL:https://waverlychurch.org/event/na-2020-03-21-2021-07-10/2022-12-03/
END:VEVENT
BEGIN:VEVENT
DTSTART;TZID=America/New_York:20221204T110000
DTEND;TZID=America/New_York:20221204T120000
DTSTAMP:20260423T191034
CREATED:20210715T194724Z
LAST-MODIFIED:20230529T213105Z
UID:10000852-1670151600-1670155200@waverlychurch.org
SUMMARY:Worship Service
DESCRIPTION:We meet on Sundays in our Sanctuary at 11am and stream services online. \nSunday’s worship service will be live-streamed over our Facebook page on Sunday morning and the scripture and sermon will be on SoundCloud. \nhttps://waverlychurch.org/worship/guidelines-for-in-person-worship/ \nhttps://www.facebook.com/pg/WaverlyChurch/videos/ \n  \n 
URL:https://waverlychurch.org/event/worship-service-3-2022-06-05-2022-08-07-2022-09-11/2022-12-04/
LOCATION:Sanctuary
END:VEVENT
BEGIN:VEVENT
DTSTART;TZID=America/New_York:20221204T120000
DTEND;TZID=America/New_York:20221204T123000
DTSTAMP:20260423T191034
CREATED:20220623T210815Z
LAST-MODIFIED:20220623T210831Z
UID:10005058-1670155200-1670157000@waverlychurch.org
SUMMARY:Coffee Hour
DESCRIPTION:Immediately following the service\, we hope you can stay to enjoy fellowship with the Waverly community.
URL:https://waverlychurch.org/event/coffee-hour-2/2022-12-04/
LOCATION:Social Hall
END:VEVENT
BEGIN:VEVENT
DTSTART;TZID=America/New_York:20221204T193000
DTEND;TZID=America/New_York:20221204T210000
DTSTAMP:20260423T191034
CREATED:20190310T184702Z
LAST-MODIFIED:20220704T145322Z
UID:10000507-1670182200-1670187600@waverlychurch.org
SUMMARY:Alcoholics Anonymous
DESCRIPTION:The Frick Park Group of Alcoholics Anonymous is holding in-person meetings in the Social Hall. \nAdditional links for AA groups are posted online at the AA Central Office.\nhttps://www.pghaa.org/
URL:https://waverlychurch.org/event/aa-2020-03-22-2021-07-04/2022-12-04/
LOCATION:Social Hall
END:VEVENT
BEGIN:VEVENT
DTSTART;TZID=America/New_York:20221206T090000
DTEND;TZID=America/New_York:20221206T140000
DTSTAMP:20260423T191034
CREATED:20220512T233522Z
LAST-MODIFIED:20220704T145940Z
UID:10003567-1670317200-1670335200@waverlychurch.org
SUMMARY:Foundation of HOPE Aftercare Program
DESCRIPTION:Aftercare support for anyone who was previously incarcerated by appointment only – Tuesdays from 9am – 2pm and Thursdays from 12pm – 5pm – call 412-321-3343 to schedule; www.foundationofhope.org for more information.
URL:https://waverlychurch.org/event/foundation-of-hope-aftercare-program/2022-12-06/
LOCATION:Social Hall
END:VEVENT
BEGIN:VEVENT
DTSTART;TZID=America/New_York:20221206T190000
DTEND;TZID=America/New_York:20221206T193000
DTSTAMP:20260423T191034
CREATED:20210711T201005Z
LAST-MODIFIED:20220704T150145Z
UID:10000156-1670353200-1670355000@waverlychurch.org
SUMMARY:Al-Anon [Beginners' Meeting]
DESCRIPTION:The Frick Park Al-Anon group may still be virtual. \nContact frickparkafg85[at]gmail.com with any questions.
URL:https://waverlychurch.org/event/al-anon-beginners-meeting-2022-01-04-2022-04-05/2022-12-06/
LOCATION:Social Hall
END:VEVENT
BEGIN:VEVENT
DTSTART;TZID=UTC:20221206T190000
DTEND;TZID=UTC:20221206T200000
DTSTAMP:20260423T191034
CREATED:20210722T164636Z
LAST-MODIFIED:20210722T164638Z
UID:10003522-1670353200-1670356800@waverlychurch.org
SUMMARY:Creative Arts Ministry
DESCRIPTION:Join us the first Tuesday of the month at 7pm in the lounge to study scripture and plan for its creative expression in worship.
URL:https://waverlychurch.org/event/creative-arts-ministry/2022-12-06/
LOCATION:Lounge
END:VEVENT
BEGIN:VEVENT
DTSTART;TZID=UTC:20221206T193000
DTEND;TZID=UTC:20221206T203000
DTSTAMP:20260423T191034
CREATED:20190310T185001Z
LAST-MODIFIED:20220331T225559Z
UID:10002385-1670355000-1670358600@waverlychurch.org
SUMMARY:Al-Anon
DESCRIPTION:The Frick Park Al-Anon is holding in-person meetings in the Social Hall. \nContact frickparkafg85[at]gmail.com with any questions.
URL:https://waverlychurch.org/event/al-anon-2020-03-24-2021-07-06-2021-07-13/2022-12-06/
END:VEVENT
BEGIN:VEVENT
DTSTART;TZID=America/New_York:20221206T193000
DTEND;TZID=America/New_York:20221206T203000
DTSTAMP:20260423T191034
CREATED:20190310T185001Z
LAST-MODIFIED:20220704T150031Z
UID:10004145-1670355000-1670358600@waverlychurch.org
SUMMARY:Al-Anon
DESCRIPTION:The Frick Park Al-Anon group may still be virtual. \nContact frickparkafg85[at]gmail.com with any questions.
URL:https://waverlychurch.org/event/al-anon-2020-03-24-2021-07-06-2021-07-20-2022-01-04-2022-04-05/2022-12-06/
END:VEVENT
BEGIN:VEVENT
DTSTART;TZID=UTC:20221206T193000
DTEND;TZID=UTC:20221206T210000
DTSTAMP:20260423T191034
CREATED:20190310T185001Z
LAST-MODIFIED:20201211T021356Z
UID:10001692-1670355000-1670360400@waverlychurch.org
SUMMARY:Al-Anon [Virtual Meeting]
DESCRIPTION:Due to COVID-19 precautions\, the Frick Park Al-Anon is meeting virtually. \nContact frickparkafg85[at]gmail.com for the link. \nIn-person meetings will resume when it is safe to do so.
URL:https://waverlychurch.org/event/al-anon-2020-03-24/2022-12-06/
END:VEVENT
BEGIN:VEVENT
DTSTART;TZID=America/New_York:20221208T120000
DTEND;TZID=America/New_York:20221208T170000
DTSTAMP:20260423T191034
CREATED:20220512T233651Z
LAST-MODIFIED:20220623T205155Z
UID:10003232-1670500800-1670518800@waverlychurch.org
SUMMARY:Foundation of HOPE Aftercare Program
DESCRIPTION:Aftercare support for anyone who was previously incarcerated by appointment only – Tuesdays from 9am – 2pm and Thursdays from 12pm – 5pm – call 412-321-3343 to schedule; www.foundationofhope.org for more information.
URL:https://waverlychurch.org/event/foundation-of-hope-aftercare-program-2/2022-12-08/
LOCATION:Social Hall
END:VEVENT
BEGIN:VEVENT
DTSTART;TZID=UTC:20221210T090000
DTEND;TZID=UTC:20221210T102000
DTSTAMP:20260423T191034
CREATED:20190310T191142Z
LAST-MODIFIED:20230830T175415Z
UID:10001278-1670662800-1670667600@waverlychurch.org
SUMMARY:Narcotics Anonymous
DESCRIPTION:Narcotics Anonymous is holding in-person meetings in the Social Hall.
URL:https://waverlychurch.org/event/na-2020-03-21-2021-07-10/2022-12-10/
END:VEVENT
BEGIN:VEVENT
DTSTART;TZID=America/New_York:20221211T110000
DTEND;TZID=America/New_York:20221211T120000
DTSTAMP:20260423T191034
CREATED:20210715T194724Z
LAST-MODIFIED:20230529T213105Z
UID:10000853-1670756400-1670760000@waverlychurch.org
SUMMARY:Worship Service
DESCRIPTION:We meet on Sundays in our Sanctuary at 11am and stream services online. \nSunday’s worship service will be live-streamed over our Facebook page on Sunday morning and the scripture and sermon will be on SoundCloud. \nhttps://waverlychurch.org/worship/guidelines-for-in-person-worship/ \nhttps://www.facebook.com/pg/WaverlyChurch/videos/ \n  \n 
URL:https://waverlychurch.org/event/worship-service-3-2022-06-05-2022-08-07-2022-09-11/2022-12-11/
LOCATION:Sanctuary
END:VEVENT
BEGIN:VEVENT
DTSTART;TZID=America/New_York:20221211T120000
DTEND;TZID=America/New_York:20221211T123000
DTSTAMP:20260423T191034
CREATED:20220623T210815Z
LAST-MODIFIED:20220623T210831Z
UID:10005059-1670760000-1670761800@waverlychurch.org
SUMMARY:Coffee Hour
DESCRIPTION:Immediately following the service\, we hope you can stay to enjoy fellowship with the Waverly community.
URL:https://waverlychurch.org/event/coffee-hour-2/2022-12-11/
LOCATION:Social Hall
END:VEVENT
BEGIN:VEVENT
DTSTART;TZID=America/New_York:20221211T140000
DTEND;TZID=America/New_York:20221211T150000
DTSTAMP:20260423T191034
CREATED:20221128T225238Z
LAST-MODIFIED:20221128T225525Z
UID:10000012-1670767200-1670770800@waverlychurch.org
SUMMARY:Caroling
DESCRIPTION:Join us for Christmas caroling at Presbyterian Senior Care on Sunday\, Dec 11th at 2pm. \nWe look forward to sharing Christmas joy with our members and friends\, old and new!
URL:https://waverlychurch.org/event/caroling/
LOCATION:Presbetery Senior Care
END:VEVENT
BEGIN:VEVENT
DTSTART;TZID=America/New_York:20221211T193000
DTEND;TZID=America/New_York:20221211T210000
DTSTAMP:20260423T191034
CREATED:20190310T184702Z
LAST-MODIFIED:20220704T145322Z
UID:10000508-1670787000-1670792400@waverlychurch.org
SUMMARY:Alcoholics Anonymous
DESCRIPTION:The Frick Park Group of Alcoholics Anonymous is holding in-person meetings in the Social Hall. \nAdditional links for AA groups are posted online at the AA Central Office.\nhttps://www.pghaa.org/
URL:https://waverlychurch.org/event/aa-2020-03-22-2021-07-04/2022-12-11/
LOCATION:Social Hall
END:VEVENT
BEGIN:VEVENT
DTSTART;TZID=America/New_York:20221213T090000
DTEND;TZID=America/New_York:20221213T140000
DTSTAMP:20260423T191034
CREATED:20220512T233522Z
LAST-MODIFIED:20220704T145940Z
UID:10003568-1670922000-1670940000@waverlychurch.org
SUMMARY:Foundation of HOPE Aftercare Program
DESCRIPTION:Aftercare support for anyone who was previously incarcerated by appointment only – Tuesdays from 9am – 2pm and Thursdays from 12pm – 5pm – call 412-321-3343 to schedule; www.foundationofhope.org for more information.
URL:https://waverlychurch.org/event/foundation-of-hope-aftercare-program/2022-12-13/
LOCATION:Social Hall
END:VEVENT
BEGIN:VEVENT
DTSTART;TZID=America/New_York:20221213T190000
DTEND;TZID=America/New_York:20221213T193000
DTSTAMP:20260423T191034
CREATED:20210711T201005Z
LAST-MODIFIED:20220704T150145Z
UID:10000157-1670958000-1670959800@waverlychurch.org
SUMMARY:Al-Anon [Beginners' Meeting]
DESCRIPTION:The Frick Park Al-Anon group may still be virtual. \nContact frickparkafg85[at]gmail.com with any questions.
URL:https://waverlychurch.org/event/al-anon-beginners-meeting-2022-01-04-2022-04-05/2022-12-13/
LOCATION:Social Hall
END:VEVENT
BEGIN:VEVENT
DTSTART;TZID=America/New_York:20221213T193000
DTEND;TZID=America/New_York:20221213T203000
DTSTAMP:20260423T191034
CREATED:20190310T185001Z
LAST-MODIFIED:20220704T150031Z
UID:10004146-1670959800-1670963400@waverlychurch.org
SUMMARY:Al-Anon
DESCRIPTION:The Frick Park Al-Anon group may still be virtual. \nContact frickparkafg85[at]gmail.com with any questions.
URL:https://waverlychurch.org/event/al-anon-2020-03-24-2021-07-06-2021-07-20-2022-01-04-2022-04-05/2022-12-13/
END:VEVENT
BEGIN:VEVENT
DTSTART;TZID=UTC:20221213T193000
DTEND;TZID=UTC:20221213T203000
DTSTAMP:20260423T191034
CREATED:20190310T185001Z
LAST-MODIFIED:20220331T225559Z
UID:10002386-1670959800-1670963400@waverlychurch.org
SUMMARY:Al-Anon
DESCRIPTION:The Frick Park Al-Anon is holding in-person meetings in the Social Hall. \nContact frickparkafg85[at]gmail.com with any questions.
URL:https://waverlychurch.org/event/al-anon-2020-03-24-2021-07-06-2021-07-13/2022-12-13/
END:VEVENT
BEGIN:VEVENT
DTSTART;TZID=UTC:20221213T193000
DTEND;TZID=UTC:20221213T210000
DTSTAMP:20260423T191034
CREATED:20190310T185001Z
LAST-MODIFIED:20201211T021356Z
UID:10001693-1670959800-1670965200@waverlychurch.org
SUMMARY:Al-Anon [Virtual Meeting]
DESCRIPTION:Due to COVID-19 precautions\, the Frick Park Al-Anon is meeting virtually. \nContact frickparkafg85[at]gmail.com for the link. \nIn-person meetings will resume when it is safe to do so.
URL:https://waverlychurch.org/event/al-anon-2020-03-24/2022-12-13/
END:VEVENT
BEGIN:VEVENT
DTSTART;TZID=America/New_York:20221215T120000
DTEND;TZID=America/New_York:20221215T170000
DTSTAMP:20260423T191034
CREATED:20220512T233651Z
LAST-MODIFIED:20220623T205155Z
UID:10003233-1671105600-1671123600@waverlychurch.org
SUMMARY:Foundation of HOPE Aftercare Program
DESCRIPTION:Aftercare support for anyone who was previously incarcerated by appointment only – Tuesdays from 9am – 2pm and Thursdays from 12pm – 5pm – call 412-321-3343 to schedule; www.foundationofhope.org for more information.
URL:https://waverlychurch.org/event/foundation-of-hope-aftercare-program-2/2022-12-15/
LOCATION:Social Hall
END:VEVENT
BEGIN:VEVENT
DTSTART;TZID=UTC:20221217T090000
DTEND;TZID=UTC:20221217T102000
DTSTAMP:20260423T191034
CREATED:20190310T191142Z
LAST-MODIFIED:20230830T175415Z
UID:10001279-1671267600-1671272400@waverlychurch.org
SUMMARY:Narcotics Anonymous
DESCRIPTION:Narcotics Anonymous is holding in-person meetings in the Social Hall.
URL:https://waverlychurch.org/event/na-2020-03-21-2021-07-10/2022-12-17/
END:VEVENT
BEGIN:VEVENT
DTSTART;TZID=America/New_York:20221217T170000
DTEND;TZID=America/New_York:20221217T210000
DTSTAMP:20260423T191034
CREATED:20221128T225416Z
LAST-MODIFIED:20221130T161728Z
UID:10000080-1671296400-1671310800@waverlychurch.org
SUMMARY:Holiday Party
DESCRIPTION:Christmas Potluck and Game Night \nJoin us on Dec 17 for a family friendly potluck that will morph into an after-hours adult party! \n5pm potluck – all ages welcome! \nAll ages may stay at 7pm for our white elephant gift exhange and outfit awards. Bring a wrapped gift (under $5 or found in your house) and wear either your fanciest\, comfiest\, or wackiest holiday outfit! \nGames will continue with adults until 9pm.
URL:https://waverlychurch.org/event/holiday-party/
LOCATION:Social Hall
END:VEVENT
BEGIN:VEVENT
DTSTART;TZID=America/New_York:20221218T110000
DTEND;TZID=America/New_York:20221218T120000
DTSTAMP:20260423T191034
CREATED:20210715T194724Z
LAST-MODIFIED:20230529T213105Z
UID:10000854-1671361200-1671364800@waverlychurch.org
SUMMARY:Worship Service
DESCRIPTION:We meet on Sundays in our Sanctuary at 11am and stream services online. \nSunday’s worship service will be live-streamed over our Facebook page on Sunday morning and the scripture and sermon will be on SoundCloud. \nhttps://waverlychurch.org/worship/guidelines-for-in-person-worship/ \nhttps://www.facebook.com/pg/WaverlyChurch/videos/ \n  \n 
URL:https://waverlychurch.org/event/worship-service-3-2022-06-05-2022-08-07-2022-09-11/2022-12-18/
LOCATION:Sanctuary
END:VEVENT
BEGIN:VEVENT
DTSTART;TZID=America/New_York:20221218T120000
DTEND;TZID=America/New_York:20221218T123000
DTSTAMP:20260423T191034
CREATED:20220623T210815Z
LAST-MODIFIED:20220623T210831Z
UID:10005060-1671364800-1671366600@waverlychurch.org
SUMMARY:Coffee Hour
DESCRIPTION:Immediately following the service\, we hope you can stay to enjoy fellowship with the Waverly community.
URL:https://waverlychurch.org/event/coffee-hour-2/2022-12-18/
LOCATION:Social Hall
END:VEVENT
BEGIN:VEVENT
DTSTART;TZID=America/New_York:20221218T193000
DTEND;TZID=America/New_York:20221218T210000
DTSTAMP:20260423T191034
CREATED:20190310T184702Z
LAST-MODIFIED:20220704T145322Z
UID:10000509-1671391800-1671397200@waverlychurch.org
SUMMARY:Alcoholics Anonymous
DESCRIPTION:The Frick Park Group of Alcoholics Anonymous is holding in-person meetings in the Social Hall. \nAdditional links for AA groups are posted online at the AA Central Office.\nhttps://www.pghaa.org/
URL:https://waverlychurch.org/event/aa-2020-03-22-2021-07-04/2022-12-18/
LOCATION:Social Hall
END:VEVENT
BEGIN:VEVENT
DTSTART;TZID=America/New_York:20221220T090000
DTEND;TZID=America/New_York:20221220T140000
DTSTAMP:20260423T191034
CREATED:20220512T233522Z
LAST-MODIFIED:20220704T145940Z
UID:10003569-1671526800-1671544800@waverlychurch.org
SUMMARY:Foundation of HOPE Aftercare Program
DESCRIPTION:Aftercare support for anyone who was previously incarcerated by appointment only – Tuesdays from 9am – 2pm and Thursdays from 12pm – 5pm – call 412-321-3343 to schedule; www.foundationofhope.org for more information.
URL:https://waverlychurch.org/event/foundation-of-hope-aftercare-program/2022-12-20/
LOCATION:Social Hall
END:VEVENT
BEGIN:VEVENT
DTSTART;TZID=America/New_York:20221220T190000
DTEND;TZID=America/New_York:20221220T193000
DTSTAMP:20260423T191034
CREATED:20210711T201005Z
LAST-MODIFIED:20220704T150145Z
UID:10000158-1671562800-1671564600@waverlychurch.org
SUMMARY:Al-Anon [Beginners' Meeting]
DESCRIPTION:The Frick Park Al-Anon group may still be virtual. \nContact frickparkafg85[at]gmail.com with any questions.
URL:https://waverlychurch.org/event/al-anon-beginners-meeting-2022-01-04-2022-04-05/2022-12-20/
LOCATION:Social Hall
END:VEVENT
END:VCALENDAR