BEGIN:VCALENDAR
VERSION:2.0
PRODID:-//Waverly Presbyterian Church - ECPv6.15.20//NONSGML v1.0//EN
CALSCALE:GREGORIAN
METHOD:PUBLISH
X-WR-CALNAME:Waverly Presbyterian Church
X-ORIGINAL-URL:https://waverlychurch.org
X-WR-CALDESC:Events for Waverly Presbyterian Church
REFRESH-INTERVAL;VALUE=DURATION:PT1H
X-Robots-Tag:noindex
X-PUBLISHED-TTL:PT1H
BEGIN:VTIMEZONE
TZID:UTC
BEGIN:STANDARD
TZOFFSETFROM:+0000
TZOFFSETTO:+0000
TZNAME:UTC
DTSTART:20220101T000000
END:STANDARD
END:VTIMEZONE
BEGIN:VTIMEZONE
TZID:America/New_York
BEGIN:DAYLIGHT
TZOFFSETFROM:-0500
TZOFFSETTO:-0400
TZNAME:EDT
DTSTART:20220313T070000
END:DAYLIGHT
BEGIN:STANDARD
TZOFFSETFROM:-0400
TZOFFSETTO:-0500
TZNAME:EST
DTSTART:20221106T060000
END:STANDARD
BEGIN:DAYLIGHT
TZOFFSETFROM:-0500
TZOFFSETTO:-0400
TZNAME:EDT
DTSTART:20230312T070000
END:DAYLIGHT
BEGIN:STANDARD
TZOFFSETFROM:-0400
TZOFFSETTO:-0500
TZNAME:EST
DTSTART:20231105T060000
END:STANDARD
BEGIN:DAYLIGHT
TZOFFSETFROM:-0500
TZOFFSETTO:-0400
TZNAME:EDT
DTSTART:20240310T070000
END:DAYLIGHT
BEGIN:STANDARD
TZOFFSETFROM:-0400
TZOFFSETTO:-0500
TZNAME:EST
DTSTART:20241103T060000
END:STANDARD
END:VTIMEZONE
BEGIN:VEVENT
DTSTART;TZID=UTC:20230603T090000
DTEND;TZID=UTC:20230603T102000
DTSTAMP:20260422T203856
CREATED:20190310T191142Z
LAST-MODIFIED:20230830T175415Z
UID:10001303-1685782800-1685787600@waverlychurch.org
SUMMARY:Narcotics Anonymous
DESCRIPTION:Narcotics Anonymous is holding in-person meetings in the Social Hall.
URL:https://waverlychurch.org/event/na-2020-03-21-2021-07-10/2023-06-03/
END:VEVENT
BEGIN:VEVENT
DTSTART;TZID=America/New_York:20230603T110000
DTEND;TZID=America/New_York:20230603T210000
DTSTAMP:20260422T203856
CREATED:20230529T214822Z
LAST-MODIFIED:20230529T215039Z
UID:10005917-1685790000-1685826000@waverlychurch.org
SUMMARY:PRIDE Parade and Festival
DESCRIPTION:Join Waverly and LAMP (LGBTQIA+ Affirming Ministries of Pittsburgh) at the PRIDE parade downtown and festival in Allegheny Commons West Park.
URL:https://waverlychurch.org/event/pride-parade-and-festival/
END:VEVENT
BEGIN:VEVENT
DTSTART;TZID=America/New_York:20230604T100000
DTEND;TZID=America/New_York:20230604T111500
DTSTAMP:20260422T203856
CREATED:20230529T213322Z
LAST-MODIFIED:20230529T213322Z
UID:10005628-1685872800-1685877300@waverlychurch.org
SUMMARY:Worship Service (Summer Hours)
DESCRIPTION:We meet on Sundays in our Sanctuary at 10am during the summer and stream services online. \nSunday’s worship service will be live-streamed over our Facebook page on Sunday mornings. \nhttps://waverlychurch.org/worship/guidelines-for-in-person-worship/ \nhttps://www.facebook.com/pg/WaverlyChurch/videos/ \n 
URL:https://waverlychurch.org/event/worship-service-summer-hours/2023-06-04/
END:VEVENT
BEGIN:VEVENT
DTSTART;TZID=America/New_York:20230604T193000
DTEND;TZID=America/New_York:20230604T210000
DTSTAMP:20260422T203856
CREATED:20190310T184702Z
LAST-MODIFIED:20220704T145322Z
UID:10000533-1685907000-1685912400@waverlychurch.org
SUMMARY:Alcoholics Anonymous
DESCRIPTION:The Frick Park Group of Alcoholics Anonymous is holding in-person meetings in the Social Hall. \nAdditional links for AA groups are posted online at the AA Central Office.\nhttps://www.pghaa.org/
URL:https://waverlychurch.org/event/aa-2020-03-22-2021-07-04/2023-06-04/
LOCATION:Social Hall
END:VEVENT
BEGIN:VEVENT
DTSTART;TZID=America/New_York:20230605T190000
DTEND;TZID=America/New_York:20230605T203000
DTSTAMP:20260422T203856
CREATED:20230529T214514Z
LAST-MODIFIED:20230529T214531Z
UID:10005655-1685991600-1685997000@waverlychurch.org
SUMMARY:Free for Good
DESCRIPTION:Join us for accountability\, vulnerability\, and connection as we seek to free ourselves for good through collective support and personal spiritual growth.
URL:https://waverlychurch.org/event/free-for-good-2/2023-06-05/
LOCATION:Lounge
END:VEVENT
BEGIN:VEVENT
DTSTART;TZID=America/New_York:20230606T190000
DTEND;TZID=America/New_York:20230606T193000
DTSTAMP:20260422T203856
CREATED:20210711T201005Z
LAST-MODIFIED:20220704T150145Z
UID:10000182-1686078000-1686079800@waverlychurch.org
SUMMARY:Al-Anon [Beginners' Meeting]
DESCRIPTION:The Frick Park Al-Anon group may still be virtual. \nContact frickparkafg85[at]gmail.com with any questions.
URL:https://waverlychurch.org/event/al-anon-beginners-meeting-2022-01-04-2022-04-05/2023-06-06/
LOCATION:Social Hall
END:VEVENT
BEGIN:VEVENT
DTSTART;TZID=UTC:20230606T193000
DTEND;TZID=UTC:20230606T203000
DTSTAMP:20260422T203856
CREATED:20190310T185001Z
LAST-MODIFIED:20220331T225559Z
UID:10002411-1686079800-1686083400@waverlychurch.org
SUMMARY:Al-Anon
DESCRIPTION:The Frick Park Al-Anon is holding in-person meetings in the Social Hall. \nContact frickparkafg85[at]gmail.com with any questions.
URL:https://waverlychurch.org/event/al-anon-2020-03-24-2021-07-06-2021-07-13/2023-06-06/
END:VEVENT
BEGIN:VEVENT
DTSTART;TZID=UTC:20230610T090000
DTEND;TZID=UTC:20230610T102000
DTSTAMP:20260422T203856
CREATED:20190310T191142Z
LAST-MODIFIED:20230830T175415Z
UID:10001304-1686387600-1686392400@waverlychurch.org
SUMMARY:Narcotics Anonymous
DESCRIPTION:Narcotics Anonymous is holding in-person meetings in the Social Hall.
URL:https://waverlychurch.org/event/na-2020-03-21-2021-07-10/2023-06-10/
END:VEVENT
BEGIN:VEVENT
DTSTART;TZID=America/New_York:20230611T100000
DTEND;TZID=America/New_York:20230611T111500
DTSTAMP:20260422T203856
CREATED:20230529T213322Z
LAST-MODIFIED:20230529T213322Z
UID:10005629-1686477600-1686482100@waverlychurch.org
SUMMARY:Worship Service (Summer Hours)
DESCRIPTION:We meet on Sundays in our Sanctuary at 10am during the summer and stream services online. \nSunday’s worship service will be live-streamed over our Facebook page on Sunday mornings. \nhttps://waverlychurch.org/worship/guidelines-for-in-person-worship/ \nhttps://www.facebook.com/pg/WaverlyChurch/videos/ \n 
URL:https://waverlychurch.org/event/worship-service-summer-hours/2023-06-11/
END:VEVENT
BEGIN:VEVENT
DTSTART;TZID=America/New_York:20230611T193000
DTEND;TZID=America/New_York:20230611T210000
DTSTAMP:20260422T203856
CREATED:20190310T184702Z
LAST-MODIFIED:20220704T145322Z
UID:10000534-1686511800-1686517200@waverlychurch.org
SUMMARY:Alcoholics Anonymous
DESCRIPTION:The Frick Park Group of Alcoholics Anonymous is holding in-person meetings in the Social Hall. \nAdditional links for AA groups are posted online at the AA Central Office.\nhttps://www.pghaa.org/
URL:https://waverlychurch.org/event/aa-2020-03-22-2021-07-04/2023-06-11/
LOCATION:Social Hall
END:VEVENT
BEGIN:VEVENT
DTSTART;TZID=America/New_York:20230612T190000
DTEND;TZID=America/New_York:20230612T203000
DTSTAMP:20260422T203856
CREATED:20230529T214514Z
LAST-MODIFIED:20230529T214531Z
UID:10005656-1686596400-1686601800@waverlychurch.org
SUMMARY:Free for Good
DESCRIPTION:Join us for accountability\, vulnerability\, and connection as we seek to free ourselves for good through collective support and personal spiritual growth.
URL:https://waverlychurch.org/event/free-for-good-2/2023-06-12/
LOCATION:Lounge
END:VEVENT
BEGIN:VEVENT
DTSTART;TZID=America/New_York:20230613T190000
DTEND;TZID=America/New_York:20230613T193000
DTSTAMP:20260422T203856
CREATED:20210711T201005Z
LAST-MODIFIED:20220704T150145Z
UID:10000183-1686682800-1686684600@waverlychurch.org
SUMMARY:Al-Anon [Beginners' Meeting]
DESCRIPTION:The Frick Park Al-Anon group may still be virtual. \nContact frickparkafg85[at]gmail.com with any questions.
URL:https://waverlychurch.org/event/al-anon-beginners-meeting-2022-01-04-2022-04-05/2023-06-13/
LOCATION:Social Hall
END:VEVENT
BEGIN:VEVENT
DTSTART;TZID=UTC:20230613T193000
DTEND;TZID=UTC:20230613T203000
DTSTAMP:20260422T203856
CREATED:20190310T185001Z
LAST-MODIFIED:20220331T225559Z
UID:10002412-1686684600-1686688200@waverlychurch.org
SUMMARY:Al-Anon
DESCRIPTION:The Frick Park Al-Anon is holding in-person meetings in the Social Hall. \nContact frickparkafg85[at]gmail.com with any questions.
URL:https://waverlychurch.org/event/al-anon-2020-03-24-2021-07-06-2021-07-13/2023-06-13/
END:VEVENT
BEGIN:VEVENT
DTSTART;TZID=UTC:20230617T090000
DTEND;TZID=UTC:20230617T102000
DTSTAMP:20260422T203856
CREATED:20190310T191142Z
LAST-MODIFIED:20230830T175415Z
UID:10001305-1686992400-1686997200@waverlychurch.org
SUMMARY:Narcotics Anonymous
DESCRIPTION:Narcotics Anonymous is holding in-person meetings in the Social Hall.
URL:https://waverlychurch.org/event/na-2020-03-21-2021-07-10/2023-06-17/
END:VEVENT
BEGIN:VEVENT
DTSTART;TZID=America/New_York:20230617T110000
DTEND;TZID=America/New_York:20230617T130000
DTSTAMP:20260422T203856
CREATED:20230529T215510Z
LAST-MODIFIED:20230529T215510Z
UID:10005918-1686999600-1687006800@waverlychurch.org
SUMMARY:Juneteenth Parade
DESCRIPTION:Waverly will be joining the National Black Presbyterian Caucus in the Juneteenth Parade.
URL:https://waverlychurch.org/event/juneteenth-parade/
END:VEVENT
BEGIN:VEVENT
DTSTART;TZID=America/New_York:20230618T100000
DTEND;TZID=America/New_York:20230618T111500
DTSTAMP:20260422T203856
CREATED:20230529T213322Z
LAST-MODIFIED:20230529T213322Z
UID:10005630-1687082400-1687086900@waverlychurch.org
SUMMARY:Worship Service (Summer Hours)
DESCRIPTION:We meet on Sundays in our Sanctuary at 10am during the summer and stream services online. \nSunday’s worship service will be live-streamed over our Facebook page on Sunday mornings. \nhttps://waverlychurch.org/worship/guidelines-for-in-person-worship/ \nhttps://www.facebook.com/pg/WaverlyChurch/videos/ \n 
URL:https://waverlychurch.org/event/worship-service-summer-hours/2023-06-18/
END:VEVENT
BEGIN:VEVENT
DTSTART;TZID=America/New_York:20230618T110000
DTEND;TZID=America/New_York:20230618T123000
DTSTAMP:20260422T203856
CREATED:20230529T213651Z
LAST-MODIFIED:20230529T214108Z
UID:10005083-1687086000-1687091400@waverlychurch.org
SUMMARY:Coffee Hour
DESCRIPTION:Immediately following the service\, we hope you can stay to enjoy this special mission-focused coffee hour with the Waverly community.
URL:https://waverlychurch.org/event/coffee-hour-2-2/
LOCATION:Lounge
END:VEVENT
BEGIN:VEVENT
DTSTART;TZID=America/New_York:20230618T193000
DTEND;TZID=America/New_York:20230618T210000
DTSTAMP:20260422T203856
CREATED:20190310T184702Z
LAST-MODIFIED:20220704T145322Z
UID:10000535-1687116600-1687122000@waverlychurch.org
SUMMARY:Alcoholics Anonymous
DESCRIPTION:The Frick Park Group of Alcoholics Anonymous is holding in-person meetings in the Social Hall. \nAdditional links for AA groups are posted online at the AA Central Office.\nhttps://www.pghaa.org/
URL:https://waverlychurch.org/event/aa-2020-03-22-2021-07-04/2023-06-18/
LOCATION:Social Hall
END:VEVENT
BEGIN:VEVENT
DTSTART;TZID=America/New_York:20230619T190000
DTEND;TZID=America/New_York:20230619T203000
DTSTAMP:20260422T203856
CREATED:20230529T214514Z
LAST-MODIFIED:20230529T214531Z
UID:10005657-1687201200-1687206600@waverlychurch.org
SUMMARY:Free for Good
DESCRIPTION:Join us for accountability\, vulnerability\, and connection as we seek to free ourselves for good through collective support and personal spiritual growth.
URL:https://waverlychurch.org/event/free-for-good-2/2023-06-19/
LOCATION:Lounge
END:VEVENT
BEGIN:VEVENT
DTSTART;TZID=America/New_York:20230620T190000
DTEND;TZID=America/New_York:20230620T193000
DTSTAMP:20260422T203856
CREATED:20210711T201005Z
LAST-MODIFIED:20220704T150145Z
UID:10000184-1687287600-1687289400@waverlychurch.org
SUMMARY:Al-Anon [Beginners' Meeting]
DESCRIPTION:The Frick Park Al-Anon group may still be virtual. \nContact frickparkafg85[at]gmail.com with any questions.
URL:https://waverlychurch.org/event/al-anon-beginners-meeting-2022-01-04-2022-04-05/2023-06-20/
LOCATION:Social Hall
END:VEVENT
BEGIN:VEVENT
DTSTART;TZID=UTC:20230620T193000
DTEND;TZID=UTC:20230620T203000
DTSTAMP:20260422T203856
CREATED:20190310T185001Z
LAST-MODIFIED:20220331T225559Z
UID:10002413-1687289400-1687293000@waverlychurch.org
SUMMARY:Al-Anon
DESCRIPTION:The Frick Park Al-Anon is holding in-person meetings in the Social Hall. \nContact frickparkafg85[at]gmail.com with any questions.
URL:https://waverlychurch.org/event/al-anon-2020-03-24-2021-07-06-2021-07-13/2023-06-20/
END:VEVENT
BEGIN:VEVENT
DTSTART;TZID=UTC:20230624T090000
DTEND;TZID=UTC:20230624T102000
DTSTAMP:20260422T203856
CREATED:20190310T191142Z
LAST-MODIFIED:20230830T175415Z
UID:10001306-1687597200-1687602000@waverlychurch.org
SUMMARY:Narcotics Anonymous
DESCRIPTION:Narcotics Anonymous is holding in-person meetings in the Social Hall.
URL:https://waverlychurch.org/event/na-2020-03-21-2021-07-10/2023-06-24/
END:VEVENT
BEGIN:VEVENT
DTSTART;VALUE=DATE:20230625
DTEND;VALUE=DATE:20230702
DTSTAMP:20260422T203856
CREATED:20230529T214637Z
LAST-MODIFIED:20230529T214637Z
UID:10005916-1687651200-1688255999@waverlychurch.org
SUMMARY:Trip to Kentucky
DESCRIPTION:A team from Waverly will be in Calvert City\, Kentucky helping with Presbyterian Disaster Assistance.
URL:https://waverlychurch.org/event/trip-to-kentucky/
END:VEVENT
BEGIN:VEVENT
DTSTART;TZID=America/New_York:20230625T100000
DTEND;TZID=America/New_York:20230625T111500
DTSTAMP:20260422T203856
CREATED:20230529T213322Z
LAST-MODIFIED:20230529T213322Z
UID:10005631-1687687200-1687691700@waverlychurch.org
SUMMARY:Worship Service (Summer Hours)
DESCRIPTION:We meet on Sundays in our Sanctuary at 10am during the summer and stream services online. \nSunday’s worship service will be live-streamed over our Facebook page on Sunday mornings. \nhttps://waverlychurch.org/worship/guidelines-for-in-person-worship/ \nhttps://www.facebook.com/pg/WaverlyChurch/videos/ \n 
URL:https://waverlychurch.org/event/worship-service-summer-hours/2023-06-25/
END:VEVENT
BEGIN:VEVENT
DTSTART;TZID=America/New_York:20230625T193000
DTEND;TZID=America/New_York:20230625T210000
DTSTAMP:20260422T203856
CREATED:20190310T184702Z
LAST-MODIFIED:20220704T145322Z
UID:10000536-1687721400-1687726800@waverlychurch.org
SUMMARY:Alcoholics Anonymous
DESCRIPTION:The Frick Park Group of Alcoholics Anonymous is holding in-person meetings in the Social Hall. \nAdditional links for AA groups are posted online at the AA Central Office.\nhttps://www.pghaa.org/
URL:https://waverlychurch.org/event/aa-2020-03-22-2021-07-04/2023-06-25/
LOCATION:Social Hall
END:VEVENT
BEGIN:VEVENT
DTSTART;TZID=America/New_York:20230626T190000
DTEND;TZID=America/New_York:20230626T203000
DTSTAMP:20260422T203856
CREATED:20230529T214514Z
LAST-MODIFIED:20230529T214531Z
UID:10005658-1687806000-1687811400@waverlychurch.org
SUMMARY:Free for Good
DESCRIPTION:Join us for accountability\, vulnerability\, and connection as we seek to free ourselves for good through collective support and personal spiritual growth.
URL:https://waverlychurch.org/event/free-for-good-2/2023-06-26/
LOCATION:Lounge
END:VEVENT
BEGIN:VEVENT
DTSTART;TZID=America/New_York:20230627T190000
DTEND;TZID=America/New_York:20230627T193000
DTSTAMP:20260422T203856
CREATED:20210711T201005Z
LAST-MODIFIED:20220704T150145Z
UID:10000185-1687892400-1687894200@waverlychurch.org
SUMMARY:Al-Anon [Beginners' Meeting]
DESCRIPTION:The Frick Park Al-Anon group may still be virtual. \nContact frickparkafg85[at]gmail.com with any questions.
URL:https://waverlychurch.org/event/al-anon-beginners-meeting-2022-01-04-2022-04-05/2023-06-27/
LOCATION:Social Hall
END:VEVENT
BEGIN:VEVENT
DTSTART;TZID=UTC:20230627T193000
DTEND;TZID=UTC:20230627T203000
DTSTAMP:20260422T203856
CREATED:20190310T185001Z
LAST-MODIFIED:20220331T225559Z
UID:10002414-1687894200-1687897800@waverlychurch.org
SUMMARY:Al-Anon
DESCRIPTION:The Frick Park Al-Anon is holding in-person meetings in the Social Hall. \nContact frickparkafg85[at]gmail.com with any questions.
URL:https://waverlychurch.org/event/al-anon-2020-03-24-2021-07-06-2021-07-13/2023-06-27/
END:VEVENT
END:VCALENDAR