BEGIN:VCALENDAR
VERSION:2.0
PRODID:-//Waverly Presbyterian Church - ECPv6.15.20//NONSGML v1.0//EN
CALSCALE:GREGORIAN
METHOD:PUBLISH
X-ORIGINAL-URL:https://waverlychurch.org
X-WR-CALDESC:Events for Waverly Presbyterian Church
REFRESH-INTERVAL;VALUE=DURATION:PT1H
X-Robots-Tag:noindex
X-PUBLISHED-TTL:PT1H
BEGIN:VTIMEZONE
TZID:America/New_York
BEGIN:DAYLIGHT
TZOFFSETFROM:-0500
TZOFFSETTO:-0400
TZNAME:EDT
DTSTART:20280312T070000
END:DAYLIGHT
BEGIN:STANDARD
TZOFFSETFROM:-0400
TZOFFSETTO:-0500
TZNAME:EST
DTSTART:20281105T060000
END:STANDARD
BEGIN:DAYLIGHT
TZOFFSETFROM:-0500
TZOFFSETTO:-0400
TZNAME:EDT
DTSTART:20290311T070000
END:DAYLIGHT
BEGIN:STANDARD
TZOFFSETFROM:-0400
TZOFFSETTO:-0500
TZNAME:EST
DTSTART:20291104T060000
END:STANDARD
BEGIN:DAYLIGHT
TZOFFSETFROM:-0500
TZOFFSETTO:-0400
TZNAME:EDT
DTSTART:20300310T070000
END:DAYLIGHT
BEGIN:STANDARD
TZOFFSETFROM:-0400
TZOFFSETTO:-0500
TZNAME:EST
DTSTART:20301103T060000
END:STANDARD
END:VTIMEZONE
BEGIN:VEVENT
DTSTART;TZID=America/New_York:20290701T093000
DTEND;TZID=America/New_York:20290701T100000
DTSTAMP:20260422T203509
CREATED:20251125T184126Z
LAST-MODIFIED:20251125T184126Z
UID:10132781-1877592600-1877594400@waverlychurch.org
SUMMARY:Choir Rehearsal in Sanctuary
DESCRIPTION:
URL:https://waverlychurch.org/event/choir-rehearsal-in-sanctuary/2029-07-01/
END:VEVENT
BEGIN:VEVENT
DTSTART;TZID=America/New_York:20290701T100000
DTEND;TZID=America/New_York:20290701T105500
DTSTAMP:20260422T203509
CREATED:20260305T170350Z
LAST-MODIFIED:20260305T170351Z
UID:10008715-1877594400-1877597700@waverlychurch.org
SUMMARY:Sunday School
DESCRIPTION:All ages are welcome to join us each week for Sunday School in the following locations: \nChildren up through 1st grade: nursery (downstairs\, right side of front entrance – ring bell to enter) \nChildren and Youth 2nd grade through 12th grade in the “Wonka Room” – room off of our lower floor Social Hall. \nAdults: lounge (upstairs in back of church)
URL:https://waverlychurch.org/event/sunday-school-3-2-2-2-2-2-2-2/2029-07-01/
END:VEVENT
BEGIN:VEVENT
DTSTART;TZID=America/New_York:20290701T110000
DTEND;TZID=America/New_York:20290701T121500
DTSTAMP:20260422T203509
CREATED:20250923T171614Z
LAST-MODIFIED:20250923T171615Z
UID:10129105-1877598000-1877602500@waverlychurch.org
SUMMARY:Worship Service
DESCRIPTION:We meet on Sundays in our Sanctuary at 11am during the school year and stream services online. \nSunday’s worship service will be live-streamed over our Facebook page on Sunday mornings. \n \nhttps://www.facebook.com/pg/WaverlyChurch/videos/
URL:https://waverlychurch.org/event/worship-service-5-2-2/2029-07-01/
END:VEVENT
BEGIN:VEVENT
DTSTART;TZID=America/New_York:20290701T121500
DTEND;TZID=America/New_York:20290701T133000
DTSTAMP:20260422T203509
CREATED:20260305T165302Z
LAST-MODIFIED:20260305T170242Z
UID:10008524-1877602500-1877607000@waverlychurch.org
SUMMARY:Coffee Hour
DESCRIPTION:Join us after service weekly for a chance to share fellowship over coffee and snacks
URL:https://waverlychurch.org/event/coffee-hour-3-2-2-2-2-2/2029-07-01/
LOCATION:Lounge
END:VEVENT
BEGIN:VEVENT
DTSTART;TZID=America/New_York:20290702T090000
DTEND;TZID=America/New_York:20290702T200000
DTSTAMP:20260422T203509
CREATED:20251030T152456Z
LAST-MODIFIED:20251030T152456Z
UID:10132106-1877677200-1877716800@waverlychurch.org
SUMMARY:Guitar Lessons
DESCRIPTION:ian@cainsmusiclessons.com
URL:https://waverlychurch.org/event/guitar-lessons/2029-07-02/
LOCATION:Frog Room
END:VEVENT
BEGIN:VEVENT
DTSTART;TZID=America/New_York:20290704T090000
DTEND;TZID=America/New_York:20290704T200000
DTSTAMP:20260422T203509
CREATED:20251030T152456Z
LAST-MODIFIED:20251030T152456Z
UID:10132107-1877850000-1877889600@waverlychurch.org
SUMMARY:Guitar Lessons
DESCRIPTION:ian@cainsmusiclessons.com
URL:https://waverlychurch.org/event/guitar-lessons/2029-07-04/
LOCATION:Frog Room
END:VEVENT
BEGIN:VEVENT
DTSTART;TZID=America/New_York:20290705T190000
DTEND;TZID=America/New_York:20290705T203000
DTSTAMP:20260422T203509
CREATED:20251125T183555Z
LAST-MODIFIED:20251125T183747Z
UID:10132521-1877972400-1877977800@waverlychurch.org
SUMMARY:Choir Rehearsal in Lounge
DESCRIPTION:
URL:https://waverlychurch.org/event/choir-rehearsal-in-lounge/2029-07-05/
LOCATION:Lounge
END:VEVENT
BEGIN:VEVENT
DTSTART;TZID=America/New_York:20290707T110000
DTEND;TZID=America/New_York:20290707T143000
DTSTAMP:20260422T203509
CREATED:20251125T184526Z
LAST-MODIFIED:20251125T184526Z
UID:10132898-1878116400-1878129000@waverlychurch.org
SUMMARY:East End N.A. Business Meeting/Social Hall
DESCRIPTION:
URL:https://waverlychurch.org/event/east-end-n-a-business-meeting-social-hall/2029-07-07/
END:VEVENT
BEGIN:VEVENT
DTSTART;TZID=America/New_York:20290708T093000
DTEND;TZID=America/New_York:20290708T100000
DTSTAMP:20260422T203509
CREATED:20251125T184126Z
LAST-MODIFIED:20251125T184126Z
UID:10132782-1878197400-1878199200@waverlychurch.org
SUMMARY:Choir Rehearsal in Sanctuary
DESCRIPTION:
URL:https://waverlychurch.org/event/choir-rehearsal-in-sanctuary/2029-07-08/
END:VEVENT
BEGIN:VEVENT
DTSTART;TZID=America/New_York:20290708T100000
DTEND;TZID=America/New_York:20290708T105500
DTSTAMP:20260422T203509
CREATED:20260305T170350Z
LAST-MODIFIED:20260305T170351Z
UID:10008716-1878199200-1878202500@waverlychurch.org
SUMMARY:Sunday School
DESCRIPTION:All ages are welcome to join us each week for Sunday School in the following locations: \nChildren up through 1st grade: nursery (downstairs\, right side of front entrance – ring bell to enter) \nChildren and Youth 2nd grade through 12th grade in the “Wonka Room” – room off of our lower floor Social Hall. \nAdults: lounge (upstairs in back of church)
URL:https://waverlychurch.org/event/sunday-school-3-2-2-2-2-2-2-2/2029-07-08/
END:VEVENT
BEGIN:VEVENT
DTSTART;TZID=America/New_York:20290708T110000
DTEND;TZID=America/New_York:20290708T121500
DTSTAMP:20260422T203509
CREATED:20250923T171614Z
LAST-MODIFIED:20250923T171615Z
UID:10129106-1878202800-1878207300@waverlychurch.org
SUMMARY:Worship Service
DESCRIPTION:We meet on Sundays in our Sanctuary at 11am during the school year and stream services online. \nSunday’s worship service will be live-streamed over our Facebook page on Sunday mornings. \n \nhttps://www.facebook.com/pg/WaverlyChurch/videos/
URL:https://waverlychurch.org/event/worship-service-5-2-2/2029-07-08/
END:VEVENT
BEGIN:VEVENT
DTSTART;TZID=America/New_York:20290708T121500
DTEND;TZID=America/New_York:20290708T133000
DTSTAMP:20260422T203509
CREATED:20260305T165302Z
LAST-MODIFIED:20260305T170242Z
UID:10008525-1878207300-1878211800@waverlychurch.org
SUMMARY:Coffee Hour
DESCRIPTION:Join us after service weekly for a chance to share fellowship over coffee and snacks
URL:https://waverlychurch.org/event/coffee-hour-3-2-2-2-2-2/2029-07-08/
LOCATION:Lounge
END:VEVENT
BEGIN:VEVENT
DTSTART;TZID=America/New_York:20290709T090000
DTEND;TZID=America/New_York:20290709T200000
DTSTAMP:20260422T203509
CREATED:20251030T152456Z
LAST-MODIFIED:20251030T152456Z
UID:10132108-1878282000-1878321600@waverlychurch.org
SUMMARY:Guitar Lessons
DESCRIPTION:ian@cainsmusiclessons.com
URL:https://waverlychurch.org/event/guitar-lessons/2029-07-09/
LOCATION:Frog Room
END:VEVENT
BEGIN:VEVENT
DTSTART;TZID=America/New_York:20290709T190000
DTEND;TZID=America/New_York:20290709T203000
DTSTAMP:20260422T203509
CREATED:20251125T185647Z
LAST-MODIFIED:20251125T185647Z
UID:10132958-1878318000-1878323400@waverlychurch.org
SUMMARY:Amnesty Meeting-Social Hall
DESCRIPTION:
URL:https://waverlychurch.org/event/amnesty-meeting-social-hall/2029-07-09/
END:VEVENT
BEGIN:VEVENT
DTSTART;TZID=America/New_York:20290711T090000
DTEND;TZID=America/New_York:20290711T200000
DTSTAMP:20260422T203509
CREATED:20251030T152456Z
LAST-MODIFIED:20251030T152456Z
UID:10132109-1878454800-1878494400@waverlychurch.org
SUMMARY:Guitar Lessons
DESCRIPTION:ian@cainsmusiclessons.com
URL:https://waverlychurch.org/event/guitar-lessons/2029-07-11/
LOCATION:Frog Room
END:VEVENT
BEGIN:VEVENT
DTSTART;TZID=America/New_York:20290712T190000
DTEND;TZID=America/New_York:20290712T203000
DTSTAMP:20260422T203509
CREATED:20251125T183555Z
LAST-MODIFIED:20251125T183747Z
UID:10132522-1878577200-1878582600@waverlychurch.org
SUMMARY:Choir Rehearsal in Lounge
DESCRIPTION:
URL:https://waverlychurch.org/event/choir-rehearsal-in-lounge/2029-07-12/
LOCATION:Lounge
END:VEVENT
BEGIN:VEVENT
DTSTART;TZID=America/New_York:20290715T093000
DTEND;TZID=America/New_York:20290715T100000
DTSTAMP:20260422T203509
CREATED:20251125T184126Z
LAST-MODIFIED:20251125T184126Z
UID:10132783-1878802200-1878804000@waverlychurch.org
SUMMARY:Choir Rehearsal in Sanctuary
DESCRIPTION:
URL:https://waverlychurch.org/event/choir-rehearsal-in-sanctuary/2029-07-15/
END:VEVENT
BEGIN:VEVENT
DTSTART;TZID=America/New_York:20290715T100000
DTEND;TZID=America/New_York:20290715T105500
DTSTAMP:20260422T203509
CREATED:20260305T170350Z
LAST-MODIFIED:20260305T170351Z
UID:10008717-1878804000-1878807300@waverlychurch.org
SUMMARY:Sunday School
DESCRIPTION:All ages are welcome to join us each week for Sunday School in the following locations: \nChildren up through 1st grade: nursery (downstairs\, right side of front entrance – ring bell to enter) \nChildren and Youth 2nd grade through 12th grade in the “Wonka Room” – room off of our lower floor Social Hall. \nAdults: lounge (upstairs in back of church)
URL:https://waverlychurch.org/event/sunday-school-3-2-2-2-2-2-2-2/2029-07-15/
END:VEVENT
BEGIN:VEVENT
DTSTART;TZID=America/New_York:20290715T110000
DTEND;TZID=America/New_York:20290715T121500
DTSTAMP:20260422T203509
CREATED:20250923T171614Z
LAST-MODIFIED:20250923T171615Z
UID:10129107-1878807600-1878812100@waverlychurch.org
SUMMARY:Worship Service
DESCRIPTION:We meet on Sundays in our Sanctuary at 11am during the school year and stream services online. \nSunday’s worship service will be live-streamed over our Facebook page on Sunday mornings. \n \nhttps://www.facebook.com/pg/WaverlyChurch/videos/
URL:https://waverlychurch.org/event/worship-service-5-2-2/2029-07-15/
END:VEVENT
BEGIN:VEVENT
DTSTART;TZID=America/New_York:20290715T121500
DTEND;TZID=America/New_York:20290715T133000
DTSTAMP:20260422T203509
CREATED:20260305T165302Z
LAST-MODIFIED:20260305T170242Z
UID:10008526-1878812100-1878816600@waverlychurch.org
SUMMARY:Coffee Hour
DESCRIPTION:Join us after service weekly for a chance to share fellowship over coffee and snacks
URL:https://waverlychurch.org/event/coffee-hour-3-2-2-2-2-2/2029-07-15/
LOCATION:Lounge
END:VEVENT
BEGIN:VEVENT
DTSTART;TZID=America/New_York:20290716T090000
DTEND;TZID=America/New_York:20290716T200000
DTSTAMP:20260422T203509
CREATED:20251030T152456Z
LAST-MODIFIED:20251030T152456Z
UID:10132110-1878886800-1878926400@waverlychurch.org
SUMMARY:Guitar Lessons
DESCRIPTION:ian@cainsmusiclessons.com
URL:https://waverlychurch.org/event/guitar-lessons/2029-07-16/
LOCATION:Frog Room
END:VEVENT
BEGIN:VEVENT
DTSTART;TZID=America/New_York:20290718T090000
DTEND;TZID=America/New_York:20290718T200000
DTSTAMP:20260422T203509
CREATED:20251030T152456Z
LAST-MODIFIED:20251030T152456Z
UID:10132111-1879059600-1879099200@waverlychurch.org
SUMMARY:Guitar Lessons
DESCRIPTION:ian@cainsmusiclessons.com
URL:https://waverlychurch.org/event/guitar-lessons/2029-07-18/
LOCATION:Frog Room
END:VEVENT
BEGIN:VEVENT
DTSTART;TZID=America/New_York:20290719T190000
DTEND;TZID=America/New_York:20290719T203000
DTSTAMP:20260422T203509
CREATED:20251125T183555Z
LAST-MODIFIED:20251125T183747Z
UID:10132523-1879182000-1879187400@waverlychurch.org
SUMMARY:Choir Rehearsal in Lounge
DESCRIPTION:
URL:https://waverlychurch.org/event/choir-rehearsal-in-lounge/2029-07-19/
LOCATION:Lounge
END:VEVENT
BEGIN:VEVENT
DTSTART;TZID=America/New_York:20290722T093000
DTEND;TZID=America/New_York:20290722T100000
DTSTAMP:20260422T203509
CREATED:20251125T184126Z
LAST-MODIFIED:20251125T184126Z
UID:10132784-1879407000-1879408800@waverlychurch.org
SUMMARY:Choir Rehearsal in Sanctuary
DESCRIPTION:
URL:https://waverlychurch.org/event/choir-rehearsal-in-sanctuary/2029-07-22/
END:VEVENT
BEGIN:VEVENT
DTSTART;TZID=America/New_York:20290722T100000
DTEND;TZID=America/New_York:20290722T105500
DTSTAMP:20260422T203509
CREATED:20260305T170350Z
LAST-MODIFIED:20260305T170351Z
UID:10008718-1879408800-1879412100@waverlychurch.org
SUMMARY:Sunday School
DESCRIPTION:All ages are welcome to join us each week for Sunday School in the following locations: \nChildren up through 1st grade: nursery (downstairs\, right side of front entrance – ring bell to enter) \nChildren and Youth 2nd grade through 12th grade in the “Wonka Room” – room off of our lower floor Social Hall. \nAdults: lounge (upstairs in back of church)
URL:https://waverlychurch.org/event/sunday-school-3-2-2-2-2-2-2-2/2029-07-22/
END:VEVENT
BEGIN:VEVENT
DTSTART;TZID=America/New_York:20290722T110000
DTEND;TZID=America/New_York:20290722T121500
DTSTAMP:20260422T203509
CREATED:20250923T171614Z
LAST-MODIFIED:20250923T171615Z
UID:10129108-1879412400-1879416900@waverlychurch.org
SUMMARY:Worship Service
DESCRIPTION:We meet on Sundays in our Sanctuary at 11am during the school year and stream services online. \nSunday’s worship service will be live-streamed over our Facebook page on Sunday mornings. \n \nhttps://www.facebook.com/pg/WaverlyChurch/videos/
URL:https://waverlychurch.org/event/worship-service-5-2-2/2029-07-22/
END:VEVENT
BEGIN:VEVENT
DTSTART;TZID=America/New_York:20290722T121500
DTEND;TZID=America/New_York:20290722T133000
DTSTAMP:20260422T203509
CREATED:20260305T165302Z
LAST-MODIFIED:20260305T170242Z
UID:10008527-1879416900-1879421400@waverlychurch.org
SUMMARY:Coffee Hour
DESCRIPTION:Join us after service weekly for a chance to share fellowship over coffee and snacks
URL:https://waverlychurch.org/event/coffee-hour-3-2-2-2-2-2/2029-07-22/
LOCATION:Lounge
END:VEVENT
BEGIN:VEVENT
DTSTART;TZID=America/New_York:20290723T090000
DTEND;TZID=America/New_York:20290723T200000
DTSTAMP:20260422T203509
CREATED:20251030T152456Z
LAST-MODIFIED:20251030T152456Z
UID:10132112-1879491600-1879531200@waverlychurch.org
SUMMARY:Guitar Lessons
DESCRIPTION:ian@cainsmusiclessons.com
URL:https://waverlychurch.org/event/guitar-lessons/2029-07-23/
LOCATION:Frog Room
END:VEVENT
BEGIN:VEVENT
DTSTART;TZID=America/New_York:20290725T090000
DTEND;TZID=America/New_York:20290725T200000
DTSTAMP:20260422T203509
CREATED:20251030T152456Z
LAST-MODIFIED:20251030T152456Z
UID:10132113-1879664400-1879704000@waverlychurch.org
SUMMARY:Guitar Lessons
DESCRIPTION:ian@cainsmusiclessons.com
URL:https://waverlychurch.org/event/guitar-lessons/2029-07-25/
LOCATION:Frog Room
END:VEVENT
BEGIN:VEVENT
DTSTART;TZID=America/New_York:20290726T103000
DTEND;TZID=America/New_York:20290726T140000
DTSTAMP:20260422T203509
CREATED:20260324T153601Z
LAST-MODIFIED:20260324T153603Z
UID:10133106-1879756200-1879768800@waverlychurch.org
SUMMARY:Reiki with Bob Dove and Ross Marshall
DESCRIPTION:
URL:https://waverlychurch.org/event/reiki-with-bob-dove-and-ross-marshall-2-2/2029-07-26/
LOCATION:Social Hall
END:VEVENT
END:VCALENDAR