BEGIN:VCALENDAR
VERSION:2.0
PRODID:-//Waverly Presbyterian Church - ECPv6.15.20//NONSGML v1.0//EN
CALSCALE:GREGORIAN
METHOD:PUBLISH
X-WR-CALNAME:Waverly Presbyterian Church
X-ORIGINAL-URL:https://waverlychurch.org
X-WR-CALDESC:Events for Waverly Presbyterian Church
REFRESH-INTERVAL;VALUE=DURATION:PT1H
X-Robots-Tag:noindex
X-PUBLISHED-TTL:PT1H
BEGIN:VTIMEZONE
TZID:UTC
BEGIN:STANDARD
TZOFFSETFROM:+0000
TZOFFSETTO:+0000
TZNAME:UTC
DTSTART:20210101T000000
END:STANDARD
END:VTIMEZONE
BEGIN:VTIMEZONE
TZID:America/New_York
BEGIN:DAYLIGHT
TZOFFSETFROM:-0500
TZOFFSETTO:-0400
TZNAME:EDT
DTSTART:20210314T070000
END:DAYLIGHT
BEGIN:STANDARD
TZOFFSETFROM:-0400
TZOFFSETTO:-0500
TZNAME:EST
DTSTART:20211107T060000
END:STANDARD
BEGIN:DAYLIGHT
TZOFFSETFROM:-0500
TZOFFSETTO:-0400
TZNAME:EDT
DTSTART:20220313T070000
END:DAYLIGHT
BEGIN:STANDARD
TZOFFSETFROM:-0400
TZOFFSETTO:-0500
TZNAME:EST
DTSTART:20221106T060000
END:STANDARD
BEGIN:DAYLIGHT
TZOFFSETFROM:-0500
TZOFFSETTO:-0400
TZNAME:EDT
DTSTART:20230312T070000
END:DAYLIGHT
BEGIN:STANDARD
TZOFFSETFROM:-0400
TZOFFSETTO:-0500
TZNAME:EST
DTSTART:20231105T060000
END:STANDARD
END:VTIMEZONE
BEGIN:VEVENT
DTSTART;TZID=UTC:20220515T110000
DTEND;TZID=UTC:20220515T120000
DTSTAMP:20260424T123328
CREATED:20210715T194724Z
LAST-MODIFIED:20210715T194934Z
UID:10000823-1652612400-1652616000@waverlychurch.org
SUMMARY:Worship Service
DESCRIPTION:We meet on Sundays in our Sanctuary at 11am (click below for guidelines) and stream services online. \nSunday’s worship service will be live-streamed over our Facebook page at 11:00 on Sunday morning and the scripture and sermon will be on SoundCloud. \nhttps://waverlychurch.org/worship/guidelines-for-in-person-worship/ \nhttps://www.facebook.com/pg/WaverlyChurch/videos/ \n  \n 
URL:https://waverlychurch.org/event/worship-service-3/2022-05-15/
LOCATION:Sanctuary
END:VEVENT
BEGIN:VEVENT
DTSTART;TZID=America/New_York:20220515T193000
DTEND;TZID=America/New_York:20220515T210000
DTSTAMP:20260424T123328
CREATED:20190310T184702Z
LAST-MODIFIED:20220704T145322Z
UID:10000478-1652643000-1652648400@waverlychurch.org
SUMMARY:Alcoholics Anonymous
DESCRIPTION:The Frick Park Group of Alcoholics Anonymous is holding in-person meetings in the Social Hall. \nAdditional links for AA groups are posted online at the AA Central Office.\nhttps://www.pghaa.org/
URL:https://waverlychurch.org/event/aa-2020-03-22-2021-07-04/2022-05-15/
LOCATION:Social Hall
END:VEVENT
BEGIN:VEVENT
DTSTART;TZID=America/New_York:20220517T190000
DTEND;TZID=America/New_York:20220517T193000
DTSTAMP:20260424T123328
CREATED:20210711T201005Z
LAST-MODIFIED:20220704T150145Z
UID:10000127-1652814000-1652815800@waverlychurch.org
SUMMARY:Al-Anon [Beginners' Meeting]
DESCRIPTION:The Frick Park Al-Anon group may still be virtual. \nContact frickparkafg85[at]gmail.com with any questions.
URL:https://waverlychurch.org/event/al-anon-beginners-meeting-2022-01-04-2022-04-05/2022-05-17/
LOCATION:Social Hall
END:VEVENT
BEGIN:VEVENT
DTSTART;TZID=UTC:20220517T193000
DTEND;TZID=UTC:20220517T203000
DTSTAMP:20260424T123328
CREATED:20190310T185001Z
LAST-MODIFIED:20220331T225559Z
UID:10002356-1652815800-1652819400@waverlychurch.org
SUMMARY:Al-Anon
DESCRIPTION:The Frick Park Al-Anon is holding in-person meetings in the Social Hall. \nContact frickparkafg85[at]gmail.com with any questions.
URL:https://waverlychurch.org/event/al-anon-2020-03-24-2021-07-06-2021-07-13/2022-05-17/
END:VEVENT
BEGIN:VEVENT
DTSTART;TZID=America/New_York:20220517T193000
DTEND;TZID=America/New_York:20220517T203000
DTSTAMP:20260424T123328
CREATED:20190310T185001Z
LAST-MODIFIED:20220704T150031Z
UID:10004116-1652815800-1652819400@waverlychurch.org
SUMMARY:Al-Anon
DESCRIPTION:The Frick Park Al-Anon group may still be virtual. \nContact frickparkafg85[at]gmail.com with any questions.
URL:https://waverlychurch.org/event/al-anon-2020-03-24-2021-07-06-2021-07-20-2022-01-04-2022-04-05/2022-05-17/
END:VEVENT
BEGIN:VEVENT
DTSTART;TZID=UTC:20220517T193000
DTEND;TZID=UTC:20220517T210000
DTSTAMP:20260424T123328
CREATED:20190310T185001Z
LAST-MODIFIED:20201211T021356Z
UID:10001663-1652815800-1652821200@waverlychurch.org
SUMMARY:Al-Anon [Virtual Meeting]
DESCRIPTION:Due to COVID-19 precautions\, the Frick Park Al-Anon is meeting virtually. \nContact frickparkafg85[at]gmail.com for the link. \nIn-person meetings will resume when it is safe to do so.
URL:https://waverlychurch.org/event/al-anon-2020-03-24/2022-05-17/
END:VEVENT
BEGIN:VEVENT
DTSTART;TZID=UTC:20220521T090000
DTEND;TZID=UTC:20220521T102000
DTSTAMP:20260424T123328
CREATED:20190310T191142Z
LAST-MODIFIED:20230830T175415Z
UID:10001249-1653123600-1653128400@waverlychurch.org
SUMMARY:Narcotics Anonymous
DESCRIPTION:Narcotics Anonymous is holding in-person meetings in the Social Hall.
URL:https://waverlychurch.org/event/na-2020-03-21-2021-07-10/2022-05-21/
END:VEVENT
END:VCALENDAR