BEGIN:VCALENDAR
VERSION:2.0
PRODID:-//Waverly Presbyterian Church - ECPv6.15.20//NONSGML v1.0//EN
CALSCALE:GREGORIAN
METHOD:PUBLISH
X-WR-CALNAME:Waverly Presbyterian Church
X-ORIGINAL-URL:https://waverlychurch.org
X-WR-CALDESC:Events for Waverly Presbyterian Church
REFRESH-INTERVAL;VALUE=DURATION:PT1H
X-Robots-Tag:noindex
X-PUBLISHED-TTL:PT1H
BEGIN:VTIMEZONE
TZID:America/New_York
BEGIN:DAYLIGHT
TZOFFSETFROM:-0500
TZOFFSETTO:-0400
TZNAME:EDT
DTSTART:20210314T070000
END:DAYLIGHT
BEGIN:STANDARD
TZOFFSETFROM:-0400
TZOFFSETTO:-0500
TZNAME:EST
DTSTART:20211107T060000
END:STANDARD
BEGIN:DAYLIGHT
TZOFFSETFROM:-0500
TZOFFSETTO:-0400
TZNAME:EDT
DTSTART:20220313T070000
END:DAYLIGHT
BEGIN:STANDARD
TZOFFSETFROM:-0400
TZOFFSETTO:-0500
TZNAME:EST
DTSTART:20221106T060000
END:STANDARD
BEGIN:DAYLIGHT
TZOFFSETFROM:-0500
TZOFFSETTO:-0400
TZNAME:EDT
DTSTART:20230312T070000
END:DAYLIGHT
BEGIN:STANDARD
TZOFFSETFROM:-0400
TZOFFSETTO:-0500
TZNAME:EST
DTSTART:20231105T060000
END:STANDARD
END:VTIMEZONE
BEGIN:VTIMEZONE
TZID:UTC
BEGIN:STANDARD
TZOFFSETFROM:+0000
TZOFFSETTO:+0000
TZNAME:UTC
DTSTART:20210101T000000
END:STANDARD
END:VTIMEZONE
BEGIN:VEVENT
DTSTART;TZID=America/New_York:20220814T110000
DTEND;TZID=America/New_York:20220814T120000
DTSTAMP:20260424T074125
CREATED:20220704T145509Z
LAST-MODIFIED:20220724T202308Z
UID:10003540-1660474800-1660478400@waverlychurch.org
SUMMARY:Worship Service & Picnic
DESCRIPTION:Join us for a special outdoor service and picnic on August 14! We will begin at 11am. \nPavilion #1 | Monroeville Park West \nNote: This service will not be live streamed.
URL:https://waverlychurch.org/event/worship-service-4-2022-08-14/
LOCATION:Pavilion #1 | Monroeville Park West\, 2399 Tilbrook Rd\, Monroeville\, PA\, 15146\, United States
END:VEVENT
BEGIN:VEVENT
DTSTART;TZID=America/New_York:20220814T193000
DTEND;TZID=America/New_York:20220814T210000
DTSTAMP:20260424T074125
CREATED:20190310T184702Z
LAST-MODIFIED:20220704T145322Z
UID:10000491-1660505400-1660510800@waverlychurch.org
SUMMARY:Alcoholics Anonymous
DESCRIPTION:The Frick Park Group of Alcoholics Anonymous is holding in-person meetings in the Social Hall. \nAdditional links for AA groups are posted online at the AA Central Office.\nhttps://www.pghaa.org/
URL:https://waverlychurch.org/event/aa-2020-03-22-2021-07-04/2022-08-14/
LOCATION:Social Hall
END:VEVENT
BEGIN:VEVENT
DTSTART;TZID=America/New_York:20220816T090000
DTEND;TZID=America/New_York:20220816T140000
DTSTAMP:20260424T074125
CREATED:20220512T233522Z
LAST-MODIFIED:20220704T145940Z
UID:10003551-1660640400-1660658400@waverlychurch.org
SUMMARY:Foundation of HOPE Aftercare Program
DESCRIPTION:Aftercare support for anyone who was previously incarcerated by appointment only – Tuesdays from 9am – 2pm and Thursdays from 12pm – 5pm – call 412-321-3343 to schedule; www.foundationofhope.org for more information.
URL:https://waverlychurch.org/event/foundation-of-hope-aftercare-program/2022-08-16/
LOCATION:Social Hall
END:VEVENT
BEGIN:VEVENT
DTSTART;TZID=America/New_York:20220816T190000
DTEND;TZID=America/New_York:20220816T193000
DTSTAMP:20260424T074125
CREATED:20210711T201005Z
LAST-MODIFIED:20220704T150145Z
UID:10000140-1660676400-1660678200@waverlychurch.org
SUMMARY:Al-Anon [Beginners' Meeting]
DESCRIPTION:The Frick Park Al-Anon group may still be virtual. \nContact frickparkafg85[at]gmail.com with any questions.
URL:https://waverlychurch.org/event/al-anon-beginners-meeting-2022-01-04-2022-04-05/2022-08-16/
LOCATION:Social Hall
END:VEVENT
BEGIN:VEVENT
DTSTART;TZID=UTC:20220816T193000
DTEND;TZID=UTC:20220816T203000
DTSTAMP:20260424T074125
CREATED:20190310T185001Z
LAST-MODIFIED:20220331T225559Z
UID:10002369-1660678200-1660681800@waverlychurch.org
SUMMARY:Al-Anon
DESCRIPTION:The Frick Park Al-Anon is holding in-person meetings in the Social Hall. \nContact frickparkafg85[at]gmail.com with any questions.
URL:https://waverlychurch.org/event/al-anon-2020-03-24-2021-07-06-2021-07-13/2022-08-16/
END:VEVENT
BEGIN:VEVENT
DTSTART;TZID=America/New_York:20220816T193000
DTEND;TZID=America/New_York:20220816T203000
DTSTAMP:20260424T074125
CREATED:20190310T185001Z
LAST-MODIFIED:20220704T150031Z
UID:10004129-1660678200-1660681800@waverlychurch.org
SUMMARY:Al-Anon
DESCRIPTION:The Frick Park Al-Anon group may still be virtual. \nContact frickparkafg85[at]gmail.com with any questions.
URL:https://waverlychurch.org/event/al-anon-2020-03-24-2021-07-06-2021-07-20-2022-01-04-2022-04-05/2022-08-16/
END:VEVENT
BEGIN:VEVENT
DTSTART;TZID=UTC:20220816T193000
DTEND;TZID=UTC:20220816T210000
DTSTAMP:20260424T074125
CREATED:20190310T185001Z
LAST-MODIFIED:20201211T021356Z
UID:10001676-1660678200-1660683600@waverlychurch.org
SUMMARY:Al-Anon [Virtual Meeting]
DESCRIPTION:Due to COVID-19 precautions\, the Frick Park Al-Anon is meeting virtually. \nContact frickparkafg85[at]gmail.com for the link. \nIn-person meetings will resume when it is safe to do so.
URL:https://waverlychurch.org/event/al-anon-2020-03-24/2022-08-16/
END:VEVENT
BEGIN:VEVENT
DTSTART;TZID=America/New_York:20220818T120000
DTEND;TZID=America/New_York:20220818T170000
DTSTAMP:20260424T074125
CREATED:20220512T233651Z
LAST-MODIFIED:20220623T205155Z
UID:10003216-1660824000-1660842000@waverlychurch.org
SUMMARY:Foundation of HOPE Aftercare Program
DESCRIPTION:Aftercare support for anyone who was previously incarcerated by appointment only – Tuesdays from 9am – 2pm and Thursdays from 12pm – 5pm – call 412-321-3343 to schedule; www.foundationofhope.org for more information.
URL:https://waverlychurch.org/event/foundation-of-hope-aftercare-program-2/2022-08-18/
LOCATION:Social Hall
END:VEVENT
BEGIN:VEVENT
DTSTART;TZID=UTC:20220820T090000
DTEND;TZID=UTC:20220820T102000
DTSTAMP:20260424T074125
CREATED:20190310T191142Z
LAST-MODIFIED:20230830T175415Z
UID:10001262-1660986000-1660990800@waverlychurch.org
SUMMARY:Narcotics Anonymous
DESCRIPTION:Narcotics Anonymous is holding in-person meetings in the Social Hall.
URL:https://waverlychurch.org/event/na-2020-03-21-2021-07-10/2022-08-20/
END:VEVENT
END:VCALENDAR