BEGIN:VCALENDAR
VERSION:2.0
PRODID:-//Waverly Presbyterian Church - ECPv6.15.20//NONSGML v1.0//EN
CALSCALE:GREGORIAN
METHOD:PUBLISH
X-ORIGINAL-URL:https://waverlychurch.org
X-WR-CALDESC:Events for Waverly Presbyterian Church
REFRESH-INTERVAL;VALUE=DURATION:PT1H
X-Robots-Tag:noindex
X-PUBLISHED-TTL:PT1H
BEGIN:VTIMEZONE
TZID:America/New_York
BEGIN:DAYLIGHT
TZOFFSETFROM:-0500
TZOFFSETTO:-0400
TZNAME:EDT
DTSTART:20220313T070000
END:DAYLIGHT
BEGIN:STANDARD
TZOFFSETFROM:-0400
TZOFFSETTO:-0500
TZNAME:EST
DTSTART:20221106T060000
END:STANDARD
BEGIN:DAYLIGHT
TZOFFSETFROM:-0500
TZOFFSETTO:-0400
TZNAME:EDT
DTSTART:20230312T070000
END:DAYLIGHT
BEGIN:STANDARD
TZOFFSETFROM:-0400
TZOFFSETTO:-0500
TZNAME:EST
DTSTART:20231105T060000
END:STANDARD
BEGIN:DAYLIGHT
TZOFFSETFROM:-0500
TZOFFSETTO:-0400
TZNAME:EDT
DTSTART:20240310T070000
END:DAYLIGHT
BEGIN:STANDARD
TZOFFSETFROM:-0400
TZOFFSETTO:-0500
TZNAME:EST
DTSTART:20241103T060000
END:STANDARD
END:VTIMEZONE
BEGIN:VTIMEZONE
TZID:UTC
BEGIN:STANDARD
TZOFFSETFROM:+0000
TZOFFSETTO:+0000
TZNAME:UTC
DTSTART:20220101T000000
END:STANDARD
END:VTIMEZONE
BEGIN:VEVENT
DTSTART;TZID=America/New_York:20230226T110000
DTEND;TZID=America/New_York:20230226T120000
DTSTAMP:20260423T171913
CREATED:20210715T194724Z
LAST-MODIFIED:20230529T213105Z
UID:10000864-1677409200-1677412800@waverlychurch.org
SUMMARY:Worship Service
DESCRIPTION:We meet on Sundays in our Sanctuary at 11am and stream services online. \nSunday’s worship service will be live-streamed over our Facebook page on Sunday morning and the scripture and sermon will be on SoundCloud. \nhttps://waverlychurch.org/worship/guidelines-for-in-person-worship/ \nhttps://www.facebook.com/pg/WaverlyChurch/videos/ \n  \n 
URL:https://waverlychurch.org/event/worship-service-3-2022-06-05-2022-08-07-2022-09-11/2023-02-26/
LOCATION:Sanctuary
END:VEVENT
BEGIN:VEVENT
DTSTART;TZID=America/New_York:20230226T120000
DTEND;TZID=America/New_York:20230226T123000
DTSTAMP:20260423T171913
CREATED:20220623T210815Z
LAST-MODIFIED:20220623T210831Z
UID:10005070-1677412800-1677414600@waverlychurch.org
SUMMARY:Coffee Hour
DESCRIPTION:Immediately following the service\, we hope you can stay to enjoy fellowship with the Waverly community.
URL:https://waverlychurch.org/event/coffee-hour-2/2023-02-26/
LOCATION:Social Hall
END:VEVENT
BEGIN:VEVENT
DTSTART;TZID=America/New_York:20230226T193000
DTEND;TZID=America/New_York:20230226T210000
DTSTAMP:20260423T171913
CREATED:20190310T184702Z
LAST-MODIFIED:20220704T145322Z
UID:10000519-1677439800-1677445200@waverlychurch.org
SUMMARY:Alcoholics Anonymous
DESCRIPTION:The Frick Park Group of Alcoholics Anonymous is holding in-person meetings in the Social Hall. \nAdditional links for AA groups are posted online at the AA Central Office.\nhttps://www.pghaa.org/
URL:https://waverlychurch.org/event/aa-2020-03-22-2021-07-04/2023-02-26/
LOCATION:Social Hall
END:VEVENT
BEGIN:VEVENT
DTSTART;TZID=America/New_York:20230227T190000
DTEND;TZID=America/New_York:20230227T200000
DTSTAMP:20260423T171913
CREATED:20230109T224328Z
LAST-MODIFIED:20230109T224328Z
UID:10005354-1677524400-1677528000@waverlychurch.org
SUMMARY:Free for Good
DESCRIPTION:Free for Good is a recovery-style group for anyone looking to live freely in faith. Mondays Feb 27 – April 3\, 7pm in the lounge
URL:https://waverlychurch.org/event/free-for-good/2023-02-27/
LOCATION:Lounge
END:VEVENT
BEGIN:VEVENT
DTSTART;TZID=America/New_York:20230228T090000
DTEND;TZID=America/New_York:20230228T140000
DTSTAMP:20260423T171913
CREATED:20220512T233522Z
LAST-MODIFIED:20220704T145940Z
UID:10003579-1677574800-1677592800@waverlychurch.org
SUMMARY:Foundation of HOPE Aftercare Program
DESCRIPTION:Aftercare support for anyone who was previously incarcerated by appointment only – Tuesdays from 9am – 2pm and Thursdays from 12pm – 5pm – call 412-321-3343 to schedule; www.foundationofhope.org for more information.
URL:https://waverlychurch.org/event/foundation-of-hope-aftercare-program/2023-02-28/
LOCATION:Social Hall
END:VEVENT
BEGIN:VEVENT
DTSTART;TZID=America/New_York:20230228T190000
DTEND;TZID=America/New_York:20230228T193000
DTSTAMP:20260423T171913
CREATED:20210711T201005Z
LAST-MODIFIED:20220704T150145Z
UID:10000168-1677610800-1677612600@waverlychurch.org
SUMMARY:Al-Anon [Beginners' Meeting]
DESCRIPTION:The Frick Park Al-Anon group may still be virtual. \nContact frickparkafg85[at]gmail.com with any questions.
URL:https://waverlychurch.org/event/al-anon-beginners-meeting-2022-01-04-2022-04-05/2023-02-28/
LOCATION:Social Hall
END:VEVENT
BEGIN:VEVENT
DTSTART;TZID=UTC:20230228T193000
DTEND;TZID=UTC:20230228T203000
DTSTAMP:20260423T171913
CREATED:20190310T185001Z
LAST-MODIFIED:20220331T225559Z
UID:10002397-1677612600-1677616200@waverlychurch.org
SUMMARY:Al-Anon
DESCRIPTION:The Frick Park Al-Anon is holding in-person meetings in the Social Hall. \nContact frickparkafg85[at]gmail.com with any questions.
URL:https://waverlychurch.org/event/al-anon-2020-03-24-2021-07-06-2021-07-13/2023-02-28/
END:VEVENT
BEGIN:VEVENT
DTSTART;TZID=America/New_York:20230228T193000
DTEND;TZID=America/New_York:20230228T203000
DTSTAMP:20260423T171914
CREATED:20190310T185001Z
LAST-MODIFIED:20220704T150031Z
UID:10004157-1677612600-1677616200@waverlychurch.org
SUMMARY:Al-Anon
DESCRIPTION:The Frick Park Al-Anon group may still be virtual. \nContact frickparkafg85[at]gmail.com with any questions.
URL:https://waverlychurch.org/event/al-anon-2020-03-24-2021-07-06-2021-07-20-2022-01-04-2022-04-05/2023-02-28/
END:VEVENT
BEGIN:VEVENT
DTSTART;TZID=UTC:20230228T193000
DTEND;TZID=UTC:20230228T210000
DTSTAMP:20260423T171914
CREATED:20190310T185001Z
LAST-MODIFIED:20201211T021356Z
UID:10001704-1677612600-1677618000@waverlychurch.org
SUMMARY:Al-Anon [Virtual Meeting]
DESCRIPTION:Due to COVID-19 precautions\, the Frick Park Al-Anon is meeting virtually. \nContact frickparkafg85[at]gmail.com for the link. \nIn-person meetings will resume when it is safe to do so.
URL:https://waverlychurch.org/event/al-anon-2020-03-24/2023-02-28/
END:VEVENT
BEGIN:VEVENT
DTSTART;TZID=America/New_York:20230302T120000
DTEND;TZID=America/New_York:20230302T170000
DTSTAMP:20260423T171914
CREATED:20220512T233651Z
LAST-MODIFIED:20220623T205155Z
UID:10003244-1677758400-1677776400@waverlychurch.org
SUMMARY:Foundation of HOPE Aftercare Program
DESCRIPTION:Aftercare support for anyone who was previously incarcerated by appointment only – Tuesdays from 9am – 2pm and Thursdays from 12pm – 5pm – call 412-321-3343 to schedule; www.foundationofhope.org for more information.
URL:https://waverlychurch.org/event/foundation-of-hope-aftercare-program-2/2023-03-02/
LOCATION:Social Hall
END:VEVENT
BEGIN:VEVENT
DTSTART;VALUE=DATE:20230303
DTEND;VALUE=DATE:20230305
DTSTAMP:20260423T171914
CREATED:20230109T224411Z
LAST-MODIFIED:20230109T224411Z
UID:10005360-1677801600-1677974399@waverlychurch.org
SUMMARY:Men's Retreat
DESCRIPTION:Join us at the Waverly Men’s Retreat\, Fri-Sat\, March 3-4.
URL:https://waverlychurch.org/event/mens-retreat/
END:VEVENT
BEGIN:VEVENT
DTSTART;TZID=UTC:20230304T090000
DTEND;TZID=UTC:20230304T102000
DTSTAMP:20260423T171914
CREATED:20190310T191142Z
LAST-MODIFIED:20230830T175415Z
UID:10001290-1677920400-1677925200@waverlychurch.org
SUMMARY:Narcotics Anonymous
DESCRIPTION:Narcotics Anonymous is holding in-person meetings in the Social Hall.
URL:https://waverlychurch.org/event/na-2020-03-21-2021-07-10/2023-03-04/
END:VEVENT
END:VCALENDAR