BEGIN:VCALENDAR
VERSION:2.0
PRODID:-//Waverly Presbyterian Church - ECPv6.15.20//NONSGML v1.0//EN
CALSCALE:GREGORIAN
METHOD:PUBLISH
X-ORIGINAL-URL:https://waverlychurch.org
X-WR-CALDESC:Events for Waverly Presbyterian Church
REFRESH-INTERVAL;VALUE=DURATION:PT1H
X-Robots-Tag:noindex
X-PUBLISHED-TTL:PT1H
BEGIN:VTIMEZONE
TZID:America/New_York
BEGIN:DAYLIGHT
TZOFFSETFROM:-0500
TZOFFSETTO:-0400
TZNAME:EDT
DTSTART:20220313T070000
END:DAYLIGHT
BEGIN:STANDARD
TZOFFSETFROM:-0400
TZOFFSETTO:-0500
TZNAME:EST
DTSTART:20221106T060000
END:STANDARD
BEGIN:DAYLIGHT
TZOFFSETFROM:-0500
TZOFFSETTO:-0400
TZNAME:EDT
DTSTART:20230312T070000
END:DAYLIGHT
BEGIN:STANDARD
TZOFFSETFROM:-0400
TZOFFSETTO:-0500
TZNAME:EST
DTSTART:20231105T060000
END:STANDARD
BEGIN:DAYLIGHT
TZOFFSETFROM:-0500
TZOFFSETTO:-0400
TZNAME:EDT
DTSTART:20240310T070000
END:DAYLIGHT
BEGIN:STANDARD
TZOFFSETFROM:-0400
TZOFFSETTO:-0500
TZNAME:EST
DTSTART:20241103T060000
END:STANDARD
END:VTIMEZONE
BEGIN:VTIMEZONE
TZID:UTC
BEGIN:STANDARD
TZOFFSETFROM:+0000
TZOFFSETTO:+0000
TZNAME:UTC
DTSTART:20220101T000000
END:STANDARD
END:VTIMEZONE
BEGIN:VEVENT
DTSTART;TZID=America/New_York:20231119T100000
DTEND;TZID=America/New_York:20231119T105500
DTSTAMP:20260422T182205
CREATED:20230830T170506Z
LAST-MODIFIED:20231113T180304Z
UID:10005991-1700388000-1700391300@waverlychurch.org
SUMMARY:Sunday School
DESCRIPTION:All ages are welcome to join us each week for Sunday School in the following locations: \nChildren up through 1st grade: nursery (downstairs\, right side of front entrance – ring bell to enter) \nChildren in 2nd-5th grade: the “Frog Pond” – room off of our lower floor social hall \nYouth in 6th-12th grade” the “Wonka Room” – room off of our lower floor social hall \nAdults: lounge (upstairs in back of church)
URL:https://waverlychurch.org/event/sunday-school-3/2023-11-19/
END:VEVENT
BEGIN:VEVENT
DTSTART;TZID=America/New_York:20231119T110000
DTEND;TZID=America/New_York:20231119T121500
DTSTAMP:20260422T182205
CREATED:20230830T170132Z
LAST-MODIFIED:20230830T170527Z
UID:10006250-1700391600-1700396100@waverlychurch.org
SUMMARY:Worship Service
DESCRIPTION:We meet on Sundays in our Sanctuary at 11am during the school year and stream services online. \nSunday’s worship service will be live-streamed over our Facebook page on Sunday mornings. \n \nhttps://www.facebook.com/pg/WaverlyChurch/videos/
URL:https://waverlychurch.org/event/worship-2/2023-11-19/
LOCATION:Sanctuary
END:VEVENT
BEGIN:VEVENT
DTSTART;TZID=America/New_York:20231119T121500
DTEND;TZID=America/New_York:20231119T133000
DTSTAMP:20260422T182205
CREATED:20230903T190321Z
LAST-MODIFIED:20231113T180559Z
UID:10006535-1700396100-1700400600@waverlychurch.org
SUMMARY:Coffee Hour
DESCRIPTION:Join us after service weekly for a chance to share fellowship over coffee and snacks
URL:https://waverlychurch.org/event/coffee-hour-3/2023-11-19/
LOCATION:Lounge
END:VEVENT
BEGIN:VEVENT
DTSTART;TZID=America/New_York:20231119T193000
DTEND;TZID=America/New_York:20231119T210000
DTSTAMP:20260422T182205
CREATED:20190310T184702Z
LAST-MODIFIED:20220704T145322Z
UID:10000557-1700422200-1700427600@waverlychurch.org
SUMMARY:Alcoholics Anonymous
DESCRIPTION:The Frick Park Group of Alcoholics Anonymous is holding in-person meetings in the Social Hall. \nAdditional links for AA groups are posted online at the AA Central Office.\nhttps://www.pghaa.org/
URL:https://waverlychurch.org/event/aa-2020-03-22-2021-07-04/2023-11-19/
LOCATION:Social Hall
END:VEVENT
BEGIN:VEVENT
DTSTART;TZID=America/New_York:20231121T190000
DTEND;TZID=America/New_York:20231121T193000
DTSTAMP:20260422T182205
CREATED:20210711T201005Z
LAST-MODIFIED:20220704T150145Z
UID:10000206-1700593200-1700595000@waverlychurch.org
SUMMARY:Al-Anon [Beginners' Meeting]
DESCRIPTION:The Frick Park Al-Anon group may still be virtual. \nContact frickparkafg85[at]gmail.com with any questions.
URL:https://waverlychurch.org/event/al-anon-beginners-meeting-2022-01-04-2022-04-05/2023-11-21/
LOCATION:Social Hall
END:VEVENT
BEGIN:VEVENT
DTSTART;TZID=America/New_York:20231121T190000
DTEND;TZID=America/New_York:20231121T193000
DTSTAMP:20260422T182205
CREATED:20231115T174343Z
LAST-MODIFIED:20231115T174343Z
UID:10006922-1700593200-1700595000@waverlychurch.org
SUMMARY:Thanksgiving Candlelight Prayer Vigil
DESCRIPTION:Join us to connect and pray in gratitude and for justice and mercy across the world. Bundle up if the weather is cold as though the service will be brief\, it will be held outside on our front steps.
URL:https://waverlychurch.org/event/thanksgiving-candlelight-prayer-vigil/
END:VEVENT
BEGIN:VEVENT
DTSTART;TZID=UTC:20231121T193000
DTEND;TZID=UTC:20231121T203000
DTSTAMP:20260422T182205
CREATED:20190310T185001Z
LAST-MODIFIED:20220331T225559Z
UID:10002435-1700595000-1700598600@waverlychurch.org
SUMMARY:Al-Anon
DESCRIPTION:The Frick Park Al-Anon is holding in-person meetings in the Social Hall. \nContact frickparkafg85[at]gmail.com with any questions.
URL:https://waverlychurch.org/event/al-anon-2020-03-24-2021-07-06-2021-07-13/2023-11-21/
END:VEVENT
BEGIN:VEVENT
DTSTART;TZID=America/New_York:20231124T103000
DTEND;TZID=America/New_York:20231124T113000
DTSTAMP:20260422T182205
CREATED:20230821T174554Z
LAST-MODIFIED:20230821T175211Z
UID:10005964-1700821800-1700825400@waverlychurch.org
SUMMARY:Tai Chi for Health Part I
DESCRIPTION:Learn or return to Tai Chi for Health Part 1! This tai chi form focuses on posture and stability while enhancing the connection between the brain and the body. \nNew movements will be added each class as we explore concepts of tai chi practice and enjoy performing this moving meditation. \nThis class requires no props but does require standing.  \nThe full form will be taught over the course of two six-week sessions. Regular attendance and practice at home is necessary to learn and benefit from tai chi. \n$40 for a six-week session. Contact laurakbudde@gmail.com to register.
URL:https://waverlychurch.org/event/tai-chi-for-health-part-i/2023-11-24/
END:VEVENT
BEGIN:VEVENT
DTSTART;TZID=UTC:20231125T090000
DTEND;TZID=UTC:20231125T102000
DTSTAMP:20260422T182205
CREATED:20190310T191142Z
LAST-MODIFIED:20230830T175415Z
UID:10001328-1700902800-1700907600@waverlychurch.org
SUMMARY:Narcotics Anonymous
DESCRIPTION:Narcotics Anonymous is holding in-person meetings in the Social Hall.
URL:https://waverlychurch.org/event/na-2020-03-21-2021-07-10/2023-11-25/
END:VEVENT
END:VCALENDAR