BEGIN:VCALENDAR
VERSION:2.0
PRODID:-//Waverly Presbyterian Church - ECPv6.15.20//NONSGML v1.0//EN
CALSCALE:GREGORIAN
METHOD:PUBLISH
X-ORIGINAL-URL:https://waverlychurch.org
X-WR-CALDESC:Events for Waverly Presbyterian Church
REFRESH-INTERVAL;VALUE=DURATION:PT1H
X-Robots-Tag:noindex
X-PUBLISHED-TTL:PT1H
BEGIN:VTIMEZONE
TZID:America/New_York
BEGIN:DAYLIGHT
TZOFFSETFROM:-0500
TZOFFSETTO:-0400
TZNAME:EDT
DTSTART:20230312T070000
END:DAYLIGHT
BEGIN:STANDARD
TZOFFSETFROM:-0400
TZOFFSETTO:-0500
TZNAME:EST
DTSTART:20231105T060000
END:STANDARD
BEGIN:DAYLIGHT
TZOFFSETFROM:-0500
TZOFFSETTO:-0400
TZNAME:EDT
DTSTART:20240310T070000
END:DAYLIGHT
BEGIN:STANDARD
TZOFFSETFROM:-0400
TZOFFSETTO:-0500
TZNAME:EST
DTSTART:20241103T060000
END:STANDARD
BEGIN:DAYLIGHT
TZOFFSETFROM:-0500
TZOFFSETTO:-0400
TZNAME:EDT
DTSTART:20250309T070000
END:DAYLIGHT
BEGIN:STANDARD
TZOFFSETFROM:-0400
TZOFFSETTO:-0500
TZNAME:EST
DTSTART:20251102T060000
END:STANDARD
END:VTIMEZONE
BEGIN:VTIMEZONE
TZID:UTC
BEGIN:STANDARD
TZOFFSETFROM:+0000
TZOFFSETTO:+0000
TZNAME:UTC
DTSTART:20230101T000000
END:STANDARD
END:VTIMEZONE
BEGIN:VEVENT
DTSTART;TZID=America/New_York:20241027T100000
DTEND;TZID=America/New_York:20241027T105500
DTSTAMP:20260421T105048
CREATED:20240507T172228Z
LAST-MODIFIED:20240507T173402Z
UID:10007100-1730023200-1730026500@waverlychurch.org
SUMMARY:Sunday School
DESCRIPTION:All ages are welcome to join us each week for Sunday School in the following locations: \nChildren up through 1st grade: nursery (downstairs\, right side of front entrance – ring bell to enter) \nChildren in 2nd-5th grade: the “Frog Pond” – room off of our lower floor social hall \nYouth in 6th-12th grade” the “Wonka Room” – room off of our lower floor social hall \nAdults: lounge (upstairs in back of church)
URL:https://waverlychurch.org/event/sunday-school-3-2-2/2024-10-27/
END:VEVENT
BEGIN:VEVENT
DTSTART;TZID=America/New_York:20241027T110000
DTEND;TZID=America/New_York:20241027T121500
DTSTAMP:20260421T105048
CREATED:20240507T182308Z
LAST-MODIFIED:20240507T182315Z
UID:10007668-1730026800-1730031300@waverlychurch.org
SUMMARY:Worship Service
DESCRIPTION:We meet on Sundays in our Sanctuary at 11am during the school year and stream services online. \nSunday’s worship service will be live-streamed over our Facebook page on Sunday mornings. \n \nhttps://www.facebook.com/pg/WaverlyChurch/videos/
URL:https://waverlychurch.org/event/worship-service-5/2024-10-27/
END:VEVENT
BEGIN:VEVENT
DTSTART;TZID=America/New_York:20241027T193000
DTEND;TZID=America/New_York:20241027T210000
DTSTAMP:20260421T105048
CREATED:20190310T184702Z
LAST-MODIFIED:20220704T145322Z
UID:10000606-1730057400-1730062800@waverlychurch.org
SUMMARY:Alcoholics Anonymous
DESCRIPTION:The Frick Park Group of Alcoholics Anonymous is holding in-person meetings in the Social Hall. \nAdditional links for AA groups are posted online at the AA Central Office.\nhttps://www.pghaa.org/
URL:https://waverlychurch.org/event/aa-2020-03-22-2021-07-04/2024-10-27/
LOCATION:Social Hall
END:VEVENT
BEGIN:VEVENT
DTSTART;TZID=America/New_York:20241028T170000
DTEND;TZID=America/New_York:20241028T180000
DTSTAMP:20260421T105048
CREATED:20240827T181303Z
LAST-MODIFIED:20260309T184828Z
UID:10008233-1730134800-1730138400@waverlychurch.org
SUMMARY:Drawing Closer - Meeting on Zoom
DESCRIPTION:This time of contemplative prayer and exploration of poetry is different every week and open to all\, no matter your beliefs. \nClick here for the Zoom link or call by phone:\n929-436-2866\nMeeting ID: 829 0407 0235\nPasscode: 056654
URL:https://waverlychurch.org/event/drawing-closer/2024-10-28/
LOCATION:https://waverlychurch.org/event/drawing-closer/2024-10-28/
END:VEVENT
BEGIN:VEVENT
DTSTART;TZID=America/New_York:20241029T190000
DTEND;TZID=America/New_York:20241029T193000
DTSTAMP:20260421T105048
CREATED:20210711T201005Z
LAST-MODIFIED:20220704T150145Z
UID:10000255-1730228400-1730230200@waverlychurch.org
SUMMARY:Al-Anon [Beginners' Meeting]
DESCRIPTION:The Frick Park Al-Anon group may still be virtual. \nContact frickparkafg85[at]gmail.com with any questions.
URL:https://waverlychurch.org/event/al-anon-beginners-meeting-2022-01-04-2022-04-05/2024-10-29/
LOCATION:Social Hall
END:VEVENT
BEGIN:VEVENT
DTSTART;TZID=UTC:20241029T193000
DTEND;TZID=UTC:20241029T203000
DTSTAMP:20260421T105048
CREATED:20190310T185001Z
LAST-MODIFIED:20220331T225559Z
UID:10002484-1730230200-1730233800@waverlychurch.org
SUMMARY:Al-Anon
DESCRIPTION:The Frick Park Al-Anon is holding in-person meetings in the Social Hall. \nContact frickparkafg85[at]gmail.com with any questions.
URL:https://waverlychurch.org/event/al-anon-2020-03-24-2021-07-06-2021-07-13/2024-10-29/
END:VEVENT
BEGIN:VEVENT
DTSTART;TZID=America/New_York:20241101T180000
DTEND;TZID=America/New_York:20241101T200000
DTSTAMP:20260421T105048
CREATED:20240919T174048Z
LAST-MODIFIED:20240919T174048Z
UID:10008537-1730484000-1730491200@waverlychurch.org
SUMMARY:First Friday Fellowship - Craft Night and Pizza (donations welcome)
DESCRIPTION:The first Friday of every month with a different theme each month.   Meeting in the Social Hall. \n 
URL:https://waverlychurch.org/event/first-friday-fellowship-craft-night-and-pizza-donations-welcome/
LOCATION:Social Hall
END:VEVENT
BEGIN:VEVENT
DTSTART;TZID=UTC:20241102T090000
DTEND;TZID=UTC:20241102T102000
DTSTAMP:20260421T105048
CREATED:20190310T191142Z
LAST-MODIFIED:20230830T175415Z
UID:10001377-1730538000-1730542800@waverlychurch.org
SUMMARY:Narcotics Anonymous
DESCRIPTION:Narcotics Anonymous is holding in-person meetings in the Social Hall.
URL:https://waverlychurch.org/event/na-2020-03-21-2021-07-10/2024-11-02/
END:VEVENT
END:VCALENDAR