BEGIN:VCALENDAR
VERSION:2.0
PRODID:-//Waverly Presbyterian Church - ECPv6.15.20//NONSGML v1.0//EN
CALSCALE:GREGORIAN
METHOD:PUBLISH
X-ORIGINAL-URL:https://waverlychurch.org
X-WR-CALDESC:Events for Waverly Presbyterian Church
REFRESH-INTERVAL;VALUE=DURATION:PT1H
X-Robots-Tag:noindex
X-PUBLISHED-TTL:PT1H
BEGIN:VTIMEZONE
TZID:America/New_York
BEGIN:DAYLIGHT
TZOFFSETFROM:-0500
TZOFFSETTO:-0400
TZNAME:EDT
DTSTART:20230312T070000
END:DAYLIGHT
BEGIN:STANDARD
TZOFFSETFROM:-0400
TZOFFSETTO:-0500
TZNAME:EST
DTSTART:20231105T060000
END:STANDARD
BEGIN:DAYLIGHT
TZOFFSETFROM:-0500
TZOFFSETTO:-0400
TZNAME:EDT
DTSTART:20240310T070000
END:DAYLIGHT
BEGIN:STANDARD
TZOFFSETFROM:-0400
TZOFFSETTO:-0500
TZNAME:EST
DTSTART:20241103T060000
END:STANDARD
BEGIN:DAYLIGHT
TZOFFSETFROM:-0500
TZOFFSETTO:-0400
TZNAME:EDT
DTSTART:20250309T070000
END:DAYLIGHT
BEGIN:STANDARD
TZOFFSETFROM:-0400
TZOFFSETTO:-0500
TZNAME:EST
DTSTART:20251102T060000
END:STANDARD
END:VTIMEZONE
BEGIN:VTIMEZONE
TZID:UTC
BEGIN:STANDARD
TZOFFSETFROM:+0000
TZOFFSETTO:+0000
TZNAME:UTC
DTSTART:20230101T000000
END:STANDARD
END:VTIMEZONE
BEGIN:VEVENT
DTSTART;TZID=America/New_York:20241215T100000
DTEND;TZID=America/New_York:20241215T105500
DTSTAMP:20260421T192113
CREATED:20240507T172228Z
LAST-MODIFIED:20240507T173402Z
UID:10007107-1734256800-1734260100@waverlychurch.org
SUMMARY:Sunday School
DESCRIPTION:All ages are welcome to join us each week for Sunday School in the following locations: \nChildren up through 1st grade: nursery (downstairs\, right side of front entrance – ring bell to enter) \nChildren in 2nd-5th grade: the “Frog Pond” – room off of our lower floor social hall \nYouth in 6th-12th grade” the “Wonka Room” – room off of our lower floor social hall \nAdults: lounge (upstairs in back of church)
URL:https://waverlychurch.org/event/sunday-school-3-2-2/2024-12-15/
END:VEVENT
BEGIN:VEVENT
DTSTART;TZID=America/New_York:20241215T110000
DTEND;TZID=America/New_York:20241215T121500
DTSTAMP:20260421T192113
CREATED:20240507T182308Z
LAST-MODIFIED:20240507T182315Z
UID:10007675-1734260400-1734264900@waverlychurch.org
SUMMARY:Worship Service
DESCRIPTION:We meet on Sundays in our Sanctuary at 11am during the school year and stream services online. \nSunday’s worship service will be live-streamed over our Facebook page on Sunday mornings. \n \nhttps://www.facebook.com/pg/WaverlyChurch/videos/
URL:https://waverlychurch.org/event/worship-service-5/2024-12-15/
END:VEVENT
BEGIN:VEVENT
DTSTART;TZID=America/New_York:20241215T193000
DTEND;TZID=America/New_York:20241215T210000
DTSTAMP:20260421T192113
CREATED:20190310T184702Z
LAST-MODIFIED:20220704T145322Z
UID:10000613-1734291000-1734296400@waverlychurch.org
SUMMARY:Alcoholics Anonymous
DESCRIPTION:The Frick Park Group of Alcoholics Anonymous is holding in-person meetings in the Social Hall. \nAdditional links for AA groups are posted online at the AA Central Office.\nhttps://www.pghaa.org/
URL:https://waverlychurch.org/event/aa-2020-03-22-2021-07-04/2024-12-15/
LOCATION:Social Hall
END:VEVENT
BEGIN:VEVENT
DTSTART;TZID=America/New_York:20241216T170000
DTEND;TZID=America/New_York:20241216T180000
DTSTAMP:20260421T192113
CREATED:20240827T181303Z
LAST-MODIFIED:20260309T184828Z
UID:10008240-1734368400-1734372000@waverlychurch.org
SUMMARY:Drawing Closer - Meeting on Zoom
DESCRIPTION:This time of contemplative prayer and exploration of poetry is different every week and open to all\, no matter your beliefs. \nClick here for the Zoom link or call by phone:\n929-436-2866\nMeeting ID: 829 0407 0235\nPasscode: 056654
URL:https://waverlychurch.org/event/drawing-closer/2024-12-16/
LOCATION:https://waverlychurch.org/event/drawing-closer/2024-12-16/
END:VEVENT
BEGIN:VEVENT
DTSTART;TZID=America/New_York:20241217T190000
DTEND;TZID=America/New_York:20241217T193000
DTSTAMP:20260421T192113
CREATED:20210711T201005Z
LAST-MODIFIED:20220704T150145Z
UID:10000262-1734462000-1734463800@waverlychurch.org
SUMMARY:Al-Anon [Beginners' Meeting]
DESCRIPTION:The Frick Park Al-Anon group may still be virtual. \nContact frickparkafg85[at]gmail.com with any questions.
URL:https://waverlychurch.org/event/al-anon-beginners-meeting-2022-01-04-2022-04-05/2024-12-17/
LOCATION:Social Hall
END:VEVENT
BEGIN:VEVENT
DTSTART;TZID=America/New_York:20241217T190000
DTEND;TZID=America/New_York:20241217T210000
DTSTAMP:20260421T192113
CREATED:20240919T174616Z
LAST-MODIFIED:20240919T174616Z
UID:10008541-1734462000-1734469200@waverlychurch.org
SUMMARY:Third Tuesday Theology Talks - Theology of Childhood
DESCRIPTION:RSVP requested
URL:https://waverlychurch.org/event/third-tuesday-theology-talks-theology-of-childhood/
END:VEVENT
BEGIN:VEVENT
DTSTART;TZID=UTC:20241217T193000
DTEND;TZID=UTC:20241217T203000
DTSTAMP:20260421T192113
CREATED:20190310T185001Z
LAST-MODIFIED:20220331T225559Z
UID:10002491-1734463800-1734467400@waverlychurch.org
SUMMARY:Al-Anon
DESCRIPTION:The Frick Park Al-Anon is holding in-person meetings in the Social Hall. \nContact frickparkafg85[at]gmail.com with any questions.
URL:https://waverlychurch.org/event/al-anon-2020-03-24-2021-07-06-2021-07-13/2024-12-17/
END:VEVENT
BEGIN:VEVENT
DTSTART;TZID=America/New_York:20241219T090000
DTEND;TZID=America/New_York:20241219T100000
DTSTAMP:20260421T192113
CREATED:20240627T163733Z
LAST-MODIFIED:20240627T163733Z
UID:10008005-1734598800-1734602400@waverlychurch.org
SUMMARY:Five Element Qigong Class - Fall Session Two
DESCRIPTION:Qigong is a practice that encourages the circulation of “qi” or life energy. In this class we will utilize gentle movements and stretching\, acupressure\, breath awareness and visualization to encourage the flow of qi. \nBased in Taoist Five Element Theory\, this style of qigong highlights the dynamic relationship between yin (organizing\, receptive\, cooling) and yang (animating\, expressive\, warming). \nThrough persistent effort we can strengthen our connection to the rhythms of nature and optimize our functionality. \n$40 for a six-week session. This practice requires no props and can be enjoyed standing or seated in a chair. Contact laurakbudde@gmail.com to register.
URL:https://waverlychurch.org/event/five-element-qigong-class-fall-session-two/2024-12-19/
LOCATION:Social Hall
END:VEVENT
BEGIN:VEVENT
DTSTART;TZID=America/New_York:20241219T103000
DTEND;TZID=America/New_York:20241219T113000
DTSTAMP:20260421T192113
CREATED:20240627T164534Z
LAST-MODIFIED:20240627T165137Z
UID:10008041-1734604200-1734607800@waverlychurch.org
SUMMARY:Yoga Fall Session Two
DESCRIPTION:Nurture a meaningful yoga practice that promotes a balanced body and mind. \nClasses incorporate gentle and hatha yoga with strengthening and restorative postures. Sequencing and anatomical awareness is structured to increase enjoyment and accessibility. \nWhether you have an established yoga practice or are interested in trying it out for the first time you will be encouraged to listen to your body\, and make adjustments that speak to your experience. \nThis class requires a yoga mat and a towel or blanket\, with yoga blocks and a strap highly suggested. \n$40 for a six-week session. Contact laurakbudde@gmail.com to register.
URL:https://waverlychurch.org/event/yoga-fall-session-one-2/2024-12-19/
LOCATION:Social Hall
END:VEVENT
BEGIN:VEVENT
DTSTART;TZID=America/New_York:20241220T110000
DTEND;TZID=America/New_York:20241220T120000
DTSTAMP:20260421T192113
CREATED:20240627T164711Z
LAST-MODIFIED:20240627T164711Z
UID:10008029-1734692400-1734696000@waverlychurch.org
SUMMARY:Tai Chi - Fall Session Two
DESCRIPTION:Learn or return to Tai Chi for Health! This tai chi form focuses on posture and stability while enhancing the connection between the brain and the body. \nNew movements will be added each class as we explore concepts of tai chi practice and enjoy performing this moving meditation. \nThis class requires no props but does require standing.  \nThe full form will be taught over the course of two six-week sessions. Regular attendance and practice at home is necessary to learn and benefit from tai chi. \n$40 for a six-week session. Contact laurakbudde@gmail.com to register.
URL:https://waverlychurch.org/event/tai-chi-fall-session-two/2024-12-20/
LOCATION:Social Hall
END:VEVENT
BEGIN:VEVENT
DTSTART;TZID=America/New_York:20241220T180000
DTEND;TZID=America/New_York:20241220T210000
DTSTAMP:20260421T192113
CREATED:20240926T135050Z
LAST-MODIFIED:20240926T135050Z
UID:10008542-1734717600-1734728400@waverlychurch.org
SUMMARY:East Shore Christmas Concert - Sanctuary
DESCRIPTION:About The EastShore Chorale\nThe EastShore Chorale is a non-sectarian\, intergenerational community choir based in Regent Square\, Pittsburgh. As part of Eastman Community Projects\, a non-profit that focuses communities on becoming more art-centric\, the choir seeks to uplift and enrich the community through the performance of a wide range of music\, and to provide an opportunity for people to contribute to Pittsburgh’s thriving arts scene.  \nFounded in 2018 by artist-designer John Eastman\, and directed since its inception by Ben Filippone\, the choir continues to strive for ever higher levels of artistry\, attract talent from across the city\, and to make a lasting positive impact on its members as they hone their singing skills together and forge new friendships.
URL:https://waverlychurch.org/event/east-shore-christmas-concert-sanctuary/
LOCATION:Sanctuary
END:VEVENT
BEGIN:VEVENT
DTSTART;TZID=UTC:20241221T090000
DTEND;TZID=UTC:20241221T102000
DTSTAMP:20260421T192113
CREATED:20190310T191142Z
LAST-MODIFIED:20230830T175415Z
UID:10001384-1734771600-1734776400@waverlychurch.org
SUMMARY:Narcotics Anonymous
DESCRIPTION:Narcotics Anonymous is holding in-person meetings in the Social Hall.
URL:https://waverlychurch.org/event/na-2020-03-21-2021-07-10/2024-12-21/
END:VEVENT
END:VCALENDAR