BEGIN:VCALENDAR
VERSION:2.0
PRODID:-//Waverly Presbyterian Church - ECPv6.15.20//NONSGML v1.0//EN
CALSCALE:GREGORIAN
METHOD:PUBLISH
X-ORIGINAL-URL:https://waverlychurch.org
X-WR-CALDESC:Events for Waverly Presbyterian Church
REFRESH-INTERVAL;VALUE=DURATION:PT1H
X-Robots-Tag:noindex
X-PUBLISHED-TTL:PT1H
BEGIN:VTIMEZONE
TZID:America/New_York
BEGIN:DAYLIGHT
TZOFFSETFROM:-0500
TZOFFSETTO:-0400
TZNAME:EDT
DTSTART:20240310T070000
END:DAYLIGHT
BEGIN:STANDARD
TZOFFSETFROM:-0400
TZOFFSETTO:-0500
TZNAME:EST
DTSTART:20241103T060000
END:STANDARD
BEGIN:DAYLIGHT
TZOFFSETFROM:-0500
TZOFFSETTO:-0400
TZNAME:EDT
DTSTART:20250309T070000
END:DAYLIGHT
BEGIN:STANDARD
TZOFFSETFROM:-0400
TZOFFSETTO:-0500
TZNAME:EST
DTSTART:20251102T060000
END:STANDARD
BEGIN:DAYLIGHT
TZOFFSETFROM:-0500
TZOFFSETTO:-0400
TZNAME:EDT
DTSTART:20260308T070000
END:DAYLIGHT
BEGIN:STANDARD
TZOFFSETFROM:-0400
TZOFFSETTO:-0500
TZNAME:EST
DTSTART:20261101T060000
END:STANDARD
END:VTIMEZONE
BEGIN:VTIMEZONE
TZID:UTC
BEGIN:STANDARD
TZOFFSETFROM:+0000
TZOFFSETTO:+0000
TZNAME:UTC
DTSTART:20240101T000000
END:STANDARD
END:VTIMEZONE
BEGIN:VEVENT
DTSTART;TZID=America/New_York:20250216T100000
DTEND;TZID=America/New_York:20250216T105500
DTSTAMP:20260421T215141
CREATED:20250128T174710Z
LAST-MODIFIED:20250128T174711Z
UID:10007116-1739700000-1739703300@waverlychurch.org
SUMMARY:Sunday School
DESCRIPTION:All ages are welcome to join us each week for Sunday School in the following locations: \nChildren up through 1st grade: nursery (downstairs\, right side of front entrance – ring bell to enter) \nChildren and Youth 2nd grade through 12th grade in the “Wonka Room” – room off of our lower floor Social Hall. \nAdults: lounge (upstairs in back of church)
URL:https://waverlychurch.org/event/sunday-school-3-2-2-2/2025-02-16/
END:VEVENT
BEGIN:VEVENT
DTSTART;TZID=America/New_York:20250216T110000
DTEND;TZID=America/New_York:20250216T121500
DTSTAMP:20260421T215141
CREATED:20240507T182308Z
LAST-MODIFIED:20240507T182315Z
UID:10007684-1739703600-1739708100@waverlychurch.org
SUMMARY:Worship Service
DESCRIPTION:We meet on Sundays in our Sanctuary at 11am during the school year and stream services online. \nSunday’s worship service will be live-streamed over our Facebook page on Sunday mornings. \n \nhttps://www.facebook.com/pg/WaverlyChurch/videos/
URL:https://waverlychurch.org/event/worship-service-5/2025-02-16/
END:VEVENT
BEGIN:VEVENT
DTSTART;TZID=America/New_York:20250216T121500
DTEND;TZID=America/New_York:20250216T133000
DTSTAMP:20260421T215141
CREATED:20250313T173302Z
LAST-MODIFIED:20250313T173951Z
UID:10009033-1739708100-1739712600@waverlychurch.org
SUMMARY:Coffee Hour
DESCRIPTION:Join us after service weekly for a chance to share fellowship over coffee and snacks
URL:https://waverlychurch.org/event/coffee-hour-3-2-2/2025-02-16/
LOCATION:Lounge
END:VEVENT
BEGIN:VEVENT
DTSTART;TZID=America/New_York:20250216T193000
DTEND;TZID=America/New_York:20250216T210000
DTSTAMP:20260421T215141
CREATED:20190310T184702Z
LAST-MODIFIED:20220704T145322Z
UID:10000622-1739734200-1739739600@waverlychurch.org
SUMMARY:Alcoholics Anonymous
DESCRIPTION:The Frick Park Group of Alcoholics Anonymous is holding in-person meetings in the Social Hall. \nAdditional links for AA groups are posted online at the AA Central Office.\nhttps://www.pghaa.org/
URL:https://waverlychurch.org/event/aa-2020-03-22-2021-07-04/2025-02-16/
LOCATION:Social Hall
END:VEVENT
BEGIN:VEVENT
DTSTART;TZID=America/New_York:20250217T170000
DTEND;TZID=America/New_York:20250217T180000
DTSTAMP:20260421T215141
CREATED:20240827T181303Z
LAST-MODIFIED:20260309T184828Z
UID:10008249-1739811600-1739815200@waverlychurch.org
SUMMARY:Drawing Closer - Meeting on Zoom
DESCRIPTION:This time of contemplative prayer and exploration of poetry is different every week and open to all\, no matter your beliefs. \nClick here for the Zoom link or call by phone:\n929-436-2866\nMeeting ID: 829 0407 0235\nPasscode: 056654
URL:https://waverlychurch.org/event/drawing-closer/2025-02-17/
LOCATION:https://waverlychurch.org/event/drawing-closer/2025-02-17/
END:VEVENT
BEGIN:VEVENT
DTSTART;TZID=America/New_York:20250217T190000
DTEND;TZID=America/New_York:20250217T210000
DTSTAMP:20260421T215141
CREATED:20250109T151630Z
LAST-MODIFIED:20250109T151630Z
UID:10008667-1739818800-1739826000@waverlychurch.org
SUMMARY:Book Study Group - "The Artists' Way" by Julia Cameron
DESCRIPTION:A book study of “The Artists’ Way” by Julia Cameron.
URL:https://waverlychurch.org/event/book-study-group-the-artists-way-by-julia-cameron/2025-02-17/
LOCATION:Lounge
END:VEVENT
BEGIN:VEVENT
DTSTART;TZID=America/New_York:20250218T190000
DTEND;TZID=America/New_York:20250218T193000
DTSTAMP:20260421T215141
CREATED:20210711T201005Z
LAST-MODIFIED:20220704T150145Z
UID:10000271-1739905200-1739907000@waverlychurch.org
SUMMARY:Al-Anon [Beginners' Meeting]
DESCRIPTION:The Frick Park Al-Anon group may still be virtual. \nContact frickparkafg85[at]gmail.com with any questions.
URL:https://waverlychurch.org/event/al-anon-beginners-meeting-2022-01-04-2022-04-05/2025-02-18/
LOCATION:Social Hall
END:VEVENT
BEGIN:VEVENT
DTSTART;TZID=UTC:20250218T193000
DTEND;TZID=UTC:20250218T203000
DTSTAMP:20260421T215141
CREATED:20190310T185001Z
LAST-MODIFIED:20220331T225559Z
UID:10002500-1739907000-1739910600@waverlychurch.org
SUMMARY:Al-Anon
DESCRIPTION:The Frick Park Al-Anon is holding in-person meetings in the Social Hall. \nContact frickparkafg85[at]gmail.com with any questions.
URL:https://waverlychurch.org/event/al-anon-2020-03-24-2021-07-06-2021-07-13/2025-02-18/
END:VEVENT
BEGIN:VEVENT
DTSTART;TZID=America/New_York:20250220T103000
DTEND;TZID=America/New_York:20250220T140000
DTSTAMP:20260421T215141
CREATED:20241211T164945Z
LAST-MODIFIED:20241211T164945Z
UID:10008592-1740047400-1740060000@waverlychurch.org
SUMMARY:Reiki with Bob Dove and Ross Marshall
DESCRIPTION:
URL:https://waverlychurch.org/event/reiki-with-bob-dove-and-ross-marshall-2/2025-02-20/
LOCATION:Social Hall
END:VEVENT
BEGIN:VEVENT
DTSTART;TZID=UTC:20250222T090000
DTEND;TZID=UTC:20250222T102000
DTSTAMP:20260421T215141
CREATED:20240827T142513Z
LAST-MODIFIED:20240827T142513Z
UID:10001393-1740214800-1740219600@waverlychurch.org
SUMMARY:Narcotics Anonymous-Meeting in the Lounge this week.
DESCRIPTION:Narcotics Anonymous is holding in-person meetings in the Lounge this week. Entrance on Briar Cliff Road off of Braddock Ave.
URL:https://waverlychurch.org/event/na-2020-03-21-2021-07-10-3/
END:VEVENT
BEGIN:VEVENT
DTSTART;TZID=America/New_York:20250222T100000
DTEND;TZID=America/New_York:20250222T144500
DTSTAMP:20260421T215141
CREATED:20240827T173502Z
LAST-MODIFIED:20240827T173553Z
UID:10008225-1740218400-1740235500@waverlychurch.org
SUMMARY:Blood Drive in the Social Hall
DESCRIPTION:Donate your life-saving blood at this very important event.
URL:https://waverlychurch.org/event/blood-drive-2/
LOCATION:Social Hall
END:VEVENT
END:VCALENDAR