BEGIN:VCALENDAR
VERSION:2.0
PRODID:-//Waverly Presbyterian Church - ECPv6.15.20//NONSGML v1.0//EN
CALSCALE:GREGORIAN
METHOD:PUBLISH
X-WR-CALNAME:Waverly Presbyterian Church
X-ORIGINAL-URL:https://waverlychurch.org
X-WR-CALDESC:Events for Waverly Presbyterian Church
REFRESH-INTERVAL;VALUE=DURATION:PT1H
X-Robots-Tag:noindex
X-PUBLISHED-TTL:PT1H
BEGIN:VTIMEZONE
TZID:America/New_York
BEGIN:DAYLIGHT
TZOFFSETFROM:-0500
TZOFFSETTO:-0400
TZNAME:EDT
DTSTART:20240310T070000
END:DAYLIGHT
BEGIN:STANDARD
TZOFFSETFROM:-0400
TZOFFSETTO:-0500
TZNAME:EST
DTSTART:20241103T060000
END:STANDARD
BEGIN:DAYLIGHT
TZOFFSETFROM:-0500
TZOFFSETTO:-0400
TZNAME:EDT
DTSTART:20250309T070000
END:DAYLIGHT
BEGIN:STANDARD
TZOFFSETFROM:-0400
TZOFFSETTO:-0500
TZNAME:EST
DTSTART:20251102T060000
END:STANDARD
BEGIN:DAYLIGHT
TZOFFSETFROM:-0500
TZOFFSETTO:-0400
TZNAME:EDT
DTSTART:20260308T070000
END:DAYLIGHT
BEGIN:STANDARD
TZOFFSETFROM:-0400
TZOFFSETTO:-0500
TZNAME:EST
DTSTART:20261101T060000
END:STANDARD
END:VTIMEZONE
BEGIN:VTIMEZONE
TZID:UTC
BEGIN:STANDARD
TZOFFSETFROM:+0000
TZOFFSETTO:+0000
TZNAME:UTC
DTSTART:20240101T000000
END:STANDARD
END:VTIMEZONE
BEGIN:VEVENT
DTSTART;TZID=America/New_York:20251130T093000
DTEND;TZID=America/New_York:20251130T100000
DTSTAMP:20260421T205836
CREATED:20251125T184126Z
LAST-MODIFIED:20251125T184126Z
UID:10132594-1764495000-1764496800@waverlychurch.org
SUMMARY:Choir Rehearsal in Sanctuary
DESCRIPTION:
URL:https://waverlychurch.org/event/choir-rehearsal-in-sanctuary/2025-11-30/
END:VEVENT
BEGIN:VEVENT
DTSTART;TZID=America/New_York:20251130T100000
DTEND;TZID=America/New_York:20251130T105500
DTSTAMP:20260421T205836
CREATED:20250923T174238Z
LAST-MODIFIED:20250923T174239Z
UID:10007157-1764496800-1764500100@waverlychurch.org
SUMMARY:Sunday School
DESCRIPTION:All ages are welcome to join us each week for Sunday School in the following locations: \nChildren up through 1st grade: nursery (downstairs\, right side of front entrance – ring bell to enter) \nChildren and Youth 2nd grade through 12th grade in the “Wonka Room” – room off of our lower floor Social Hall. \nAdults: lounge (upstairs in back of church)
URL:https://waverlychurch.org/event/sunday-school-3-2-2-2-2-2-2/2025-11-30/
END:VEVENT
BEGIN:VEVENT
DTSTART;TZID=America/New_York:20251130T110000
DTEND;TZID=America/New_York:20251130T121500
DTSTAMP:20260421T205836
CREATED:20250923T171614Z
LAST-MODIFIED:20250923T171615Z
UID:10007725-1764500400-1764504900@waverlychurch.org
SUMMARY:Worship Service
DESCRIPTION:We meet on Sundays in our Sanctuary at 11am during the school year and stream services online. \nSunday’s worship service will be live-streamed over our Facebook page on Sunday mornings. \n \nhttps://www.facebook.com/pg/WaverlyChurch/videos/
URL:https://waverlychurch.org/event/worship-service-5-2-2/2025-11-30/
END:VEVENT
BEGIN:VEVENT
DTSTART;TZID=America/New_York:20251130T121500
DTEND;TZID=America/New_York:20251130T133000
DTSTAMP:20260421T205836
CREATED:20250923T170705Z
LAST-MODIFIED:20250923T170706Z
UID:10006641-1764504900-1764509400@waverlychurch.org
SUMMARY:Coffee Hour
DESCRIPTION:Join us after service weekly for a chance to share fellowship over coffee and snacks
URL:https://waverlychurch.org/event/coffee-hour-3-2-2-2-2/2025-11-30/
LOCATION:Lounge
END:VEVENT
BEGIN:VEVENT
DTSTART;TZID=America/New_York:20251130T193000
DTEND;TZID=America/New_York:20251130T210000
DTSTAMP:20260421T205836
CREATED:20190310T184702Z
LAST-MODIFIED:20220704T145322Z
UID:10000663-1764531000-1764536400@waverlychurch.org
SUMMARY:Alcoholics Anonymous
DESCRIPTION:The Frick Park Group of Alcoholics Anonymous is holding in-person meetings in the Social Hall. \nAdditional links for AA groups are posted online at the AA Central Office.\nhttps://www.pghaa.org/
URL:https://waverlychurch.org/event/aa-2020-03-22-2021-07-04/2025-11-30/
LOCATION:Social Hall
END:VEVENT
BEGIN:VEVENT
DTSTART;TZID=America/New_York:20251201T090000
DTEND;TZID=America/New_York:20251201T200000
DTSTAMP:20260421T205836
CREATED:20251030T152456Z
LAST-MODIFIED:20251030T152456Z
UID:10131732-1764579600-1764619200@waverlychurch.org
SUMMARY:Guitar Lessons
DESCRIPTION:ian@cainsmusiclessons.com
URL:https://waverlychurch.org/event/guitar-lessons/2025-12-01/
LOCATION:Frog Room
END:VEVENT
BEGIN:VEVENT
DTSTART;TZID=America/New_York:20251201T170000
DTEND;TZID=America/New_York:20251201T180000
DTSTAMP:20260421T205836
CREATED:20240827T181303Z
LAST-MODIFIED:20260309T184828Z
UID:10008290-1764608400-1764612000@waverlychurch.org
SUMMARY:Drawing Closer - Meeting on Zoom
DESCRIPTION:This time of contemplative prayer and exploration of poetry is different every week and open to all\, no matter your beliefs. \nClick here for the Zoom link or call by phone:\n929-436-2866\nMeeting ID: 829 0407 0235\nPasscode: 056654
URL:https://waverlychurch.org/event/drawing-closer/2025-12-01/
LOCATION:https://waverlychurch.org/event/drawing-closer/2025-12-01/
END:VEVENT
BEGIN:VEVENT
DTSTART;TZID=America/New_York:20251201T190000
DTEND;TZID=America/New_York:20251201T203000
DTSTAMP:20260421T205836
CREATED:20251111T154605Z
LAST-MODIFIED:20251125T185244Z
UID:10132246-1764615600-1764621000@waverlychurch.org
SUMMARY:Tough Questions: Free For Good Series meeting in the Lounge
DESCRIPTION:A time to explore tough faith questions in vulnerable connection.
URL:https://waverlychurch.org/event/free-for-good-meeting-in-the-lounge/2025-12-01/
LOCATION:Lounge
END:VEVENT
BEGIN:VEVENT
DTSTART;TZID=America/New_York:20251202T190000
DTEND;TZID=America/New_York:20251202T193000
DTSTAMP:20260421T205836
CREATED:20210711T201005Z
LAST-MODIFIED:20220704T150145Z
UID:10000312-1764702000-1764703800@waverlychurch.org
SUMMARY:Al-Anon [Beginners' Meeting]
DESCRIPTION:The Frick Park Al-Anon group may still be virtual. \nContact frickparkafg85[at]gmail.com with any questions.
URL:https://waverlychurch.org/event/al-anon-beginners-meeting-2022-01-04-2022-04-05/2025-12-02/
LOCATION:Social Hall
END:VEVENT
BEGIN:VEVENT
DTSTART;TZID=UTC:20251202T193000
DTEND;TZID=UTC:20251202T203000
DTSTAMP:20260421T205836
CREATED:20190310T185001Z
LAST-MODIFIED:20220331T225559Z
UID:10002541-1764703800-1764707400@waverlychurch.org
SUMMARY:Al-Anon
DESCRIPTION:The Frick Park Al-Anon is holding in-person meetings in the Social Hall. \nContact frickparkafg85[at]gmail.com with any questions.
URL:https://waverlychurch.org/event/al-anon-2020-03-24-2021-07-06-2021-07-13/2025-12-02/
END:VEVENT
BEGIN:VEVENT
DTSTART;TZID=America/New_York:20251203T090000
DTEND;TZID=America/New_York:20251203T200000
DTSTAMP:20260421T205836
CREATED:20251030T152456Z
LAST-MODIFIED:20251030T152456Z
UID:10131733-1764752400-1764792000@waverlychurch.org
SUMMARY:Guitar Lessons
DESCRIPTION:ian@cainsmusiclessons.com
URL:https://waverlychurch.org/event/guitar-lessons/2025-12-03/
LOCATION:Frog Room
END:VEVENT
BEGIN:VEVENT
DTSTART;TZID=America/New_York:20251204T190000
DTEND;TZID=America/New_York:20251204T203000
DTSTAMP:20260421T205836
CREATED:20251125T183555Z
LAST-MODIFIED:20251125T183747Z
UID:10132334-1764874800-1764880200@waverlychurch.org
SUMMARY:Choir Rehearsal in Lounge
DESCRIPTION:
URL:https://waverlychurch.org/event/choir-rehearsal-in-lounge/2025-12-04/
LOCATION:Lounge
END:VEVENT
BEGIN:VEVENT
DTSTART;TZID=America/New_York:20251205T100000
DTEND;TZID=America/New_York:20251205T104500
DTSTAMP:20260421T205836
CREATED:20250529T155446Z
LAST-MODIFIED:20250529T155446Z
UID:10126570-1764928800-1764931500@waverlychurch.org
SUMMARY:Five Elements Qigong Fall Session 2 (Drop-ins Welcome)
DESCRIPTION:Contact Laura at laurakbudde@gmail.com or 618-210-3672.
URL:https://waverlychurch.org/event/five-elements-qigong-fall-session-2-drop-ins-welcome/2025-12-05/
LOCATION:Social Hall
END:VEVENT
BEGIN:VEVENT
DTSTART;TZID=America/New_York:20251205T110000
DTEND;TZID=America/New_York:20251205T120000
DTSTAMP:20260421T205836
CREATED:20250529T155620Z
LAST-MODIFIED:20250529T160727Z
UID:10126582-1764932400-1764936000@waverlychurch.org
SUMMARY:Tai Chi for Health Part 2 Fall Session 2 (Continuation of Part 1)
DESCRIPTION:Contact Laura at laurakbudde@gmail.com or 618-210-3672. \nRegular attendance is necessary to learn and benefit from a complete tai chi form.
URL:https://waverlychurch.org/event/tai-chi-for-health-part-2-fall-session-2-a-continuation-of-part-1/2025-12-05/
LOCATION:Social Hall
END:VEVENT
BEGIN:VEVENT
DTSTART;TZID=America/New_York:20251205T180000
DTEND;TZID=America/New_York:20251205T200000
DTSTAMP:20260421T205836
CREATED:20250821T164621Z
LAST-MODIFIED:20250821T164621Z
UID:10129192-1764957600-1764964800@waverlychurch.org
SUMMARY:First Friday Fellowship
DESCRIPTION:
URL:https://waverlychurch.org/event/first-friday-fellowship/2025-12-05/
LOCATION:Social Hall
END:VEVENT
BEGIN:VEVENT
DTSTART;TZID=America/New_York:20251206T110000
DTEND;TZID=America/New_York:20251206T143000
DTSTAMP:20260421T205836
CREATED:20251125T184526Z
LAST-MODIFIED:20251125T184526Z
UID:10132855-1765018800-1765031400@waverlychurch.org
SUMMARY:East End N.A. Business Meeting/Social Hall
DESCRIPTION:
URL:https://waverlychurch.org/event/east-end-n-a-business-meeting-social-hall/2025-12-06/
END:VEVENT
END:VCALENDAR