BEGIN:VCALENDAR
VERSION:2.0
PRODID:-//Waverly Presbyterian Church - ECPv6.15.20//NONSGML v1.0//EN
CALSCALE:GREGORIAN
METHOD:PUBLISH
X-WR-CALNAME:Waverly Presbyterian Church
X-ORIGINAL-URL:https://waverlychurch.org
X-WR-CALDESC:Events for Waverly Presbyterian Church
REFRESH-INTERVAL;VALUE=DURATION:PT1H
X-Robots-Tag:noindex
X-PUBLISHED-TTL:PT1H
BEGIN:VTIMEZONE
TZID:America/New_York
BEGIN:DAYLIGHT
TZOFFSETFROM:-0500
TZOFFSETTO:-0400
TZNAME:EDT
DTSTART:20280312T070000
END:DAYLIGHT
BEGIN:STANDARD
TZOFFSETFROM:-0400
TZOFFSETTO:-0500
TZNAME:EST
DTSTART:20281105T060000
END:STANDARD
BEGIN:DAYLIGHT
TZOFFSETFROM:-0500
TZOFFSETTO:-0400
TZNAME:EDT
DTSTART:20290311T070000
END:DAYLIGHT
BEGIN:STANDARD
TZOFFSETFROM:-0400
TZOFFSETTO:-0500
TZNAME:EST
DTSTART:20291104T060000
END:STANDARD
BEGIN:DAYLIGHT
TZOFFSETFROM:-0500
TZOFFSETTO:-0400
TZNAME:EDT
DTSTART:20300310T070000
END:DAYLIGHT
BEGIN:STANDARD
TZOFFSETFROM:-0400
TZOFFSETTO:-0500
TZNAME:EST
DTSTART:20301103T060000
END:STANDARD
END:VTIMEZONE
BEGIN:VEVENT
DTSTART;TZID=America/New_York:20290401T093000
DTEND;TZID=America/New_York:20290401T100000
DTSTAMP:20260422T183729
CREATED:20251125T184126Z
LAST-MODIFIED:20251125T184126Z
UID:10132768-1869730200-1869732000@waverlychurch.org
SUMMARY:Choir Rehearsal in Sanctuary
DESCRIPTION:
URL:https://waverlychurch.org/event/choir-rehearsal-in-sanctuary/2029-04-01/
END:VEVENT
BEGIN:VEVENT
DTSTART;TZID=America/New_York:20290401T100000
DTEND;TZID=America/New_York:20290401T105500
DTSTAMP:20260422T183729
CREATED:20260305T170350Z
LAST-MODIFIED:20260305T170351Z
UID:10007331-1869732000-1869735300@waverlychurch.org
SUMMARY:Sunday School
DESCRIPTION:All ages are welcome to join us each week for Sunday School in the following locations: \nChildren up through 1st grade: nursery (downstairs\, right side of front entrance – ring bell to enter) \nChildren and Youth 2nd grade through 12th grade in the “Wonka Room” – room off of our lower floor Social Hall. \nAdults: lounge (upstairs in back of church)
URL:https://waverlychurch.org/event/sunday-school-3-2-2-2-2-2-2-2/2029-04-01/
END:VEVENT
BEGIN:VEVENT
DTSTART;TZID=America/New_York:20290401T110000
DTEND;TZID=America/New_York:20290401T121500
DTSTAMP:20260422T183729
CREATED:20250923T171614Z
LAST-MODIFIED:20250923T171615Z
UID:10007899-1869735600-1869740100@waverlychurch.org
SUMMARY:Worship Service
DESCRIPTION:We meet on Sundays in our Sanctuary at 11am during the school year and stream services online. \nSunday’s worship service will be live-streamed over our Facebook page on Sunday mornings. \n \nhttps://www.facebook.com/pg/WaverlyChurch/videos/
URL:https://waverlychurch.org/event/worship-service-5-2-2/2029-04-01/
END:VEVENT
BEGIN:VEVENT
DTSTART;TZID=America/New_York:20290401T121500
DTEND;TZID=America/New_York:20290401T133000
DTSTAMP:20260422T183729
CREATED:20260305T165302Z
LAST-MODIFIED:20260305T170242Z
UID:10007924-1869740100-1869744600@waverlychurch.org
SUMMARY:Coffee Hour
DESCRIPTION:Join us after service weekly for a chance to share fellowship over coffee and snacks
URL:https://waverlychurch.org/event/coffee-hour-3-2-2-2-2-2/2029-04-01/
LOCATION:Lounge
END:VEVENT
BEGIN:VEVENT
DTSTART;TZID=America/New_York:20290402T090000
DTEND;TZID=America/New_York:20290402T200000
DTSTAMP:20260422T183729
CREATED:20251030T152456Z
LAST-MODIFIED:20251030T152456Z
UID:10132080-1869814800-1869854400@waverlychurch.org
SUMMARY:Guitar Lessons
DESCRIPTION:ian@cainsmusiclessons.com
URL:https://waverlychurch.org/event/guitar-lessons/2029-04-02/
LOCATION:Frog Room
END:VEVENT
BEGIN:VEVENT
DTSTART;TZID=America/New_York:20290404T090000
DTEND;TZID=America/New_York:20290404T200000
DTSTAMP:20260422T183729
CREATED:20251030T152456Z
LAST-MODIFIED:20251030T152456Z
UID:10132081-1869987600-1870027200@waverlychurch.org
SUMMARY:Guitar Lessons
DESCRIPTION:ian@cainsmusiclessons.com
URL:https://waverlychurch.org/event/guitar-lessons/2029-04-04/
LOCATION:Frog Room
END:VEVENT
BEGIN:VEVENT
DTSTART;TZID=America/New_York:20290405T190000
DTEND;TZID=America/New_York:20290405T203000
DTSTAMP:20260422T183729
CREATED:20251125T183555Z
LAST-MODIFIED:20251125T183747Z
UID:10132508-1870110000-1870115400@waverlychurch.org
SUMMARY:Choir Rehearsal in Lounge
DESCRIPTION:
URL:https://waverlychurch.org/event/choir-rehearsal-in-lounge/2029-04-05/
LOCATION:Lounge
END:VEVENT
BEGIN:VEVENT
DTSTART;TZID=America/New_York:20290407T110000
DTEND;TZID=America/New_York:20290407T143000
DTSTAMP:20260422T183729
CREATED:20251125T184526Z
LAST-MODIFIED:20251125T184526Z
UID:10132895-1870254000-1870266600@waverlychurch.org
SUMMARY:East End N.A. Business Meeting/Social Hall
DESCRIPTION:
URL:https://waverlychurch.org/event/east-end-n-a-business-meeting-social-hall/2029-04-07/
END:VEVENT
END:VCALENDAR