BEGIN:VCALENDAR
VERSION:2.0
PRODID:-//Waverly Presbyterian Church - ECPv6.15.20//NONSGML v1.0//EN
CALSCALE:GREGORIAN
METHOD:PUBLISH
X-ORIGINAL-URL:https://waverlychurch.org
X-WR-CALDESC:Events for Waverly Presbyterian Church
REFRESH-INTERVAL;VALUE=DURATION:PT1H
X-Robots-Tag:noindex
X-PUBLISHED-TTL:PT1H
BEGIN:VTIMEZONE
TZID:America/New_York
BEGIN:DAYLIGHT
TZOFFSETFROM:-0500
TZOFFSETTO:-0400
TZNAME:EDT
DTSTART:20280312T070000
END:DAYLIGHT
BEGIN:STANDARD
TZOFFSETFROM:-0400
TZOFFSETTO:-0500
TZNAME:EST
DTSTART:20281105T060000
END:STANDARD
BEGIN:DAYLIGHT
TZOFFSETFROM:-0500
TZOFFSETTO:-0400
TZNAME:EDT
DTSTART:20290311T070000
END:DAYLIGHT
BEGIN:STANDARD
TZOFFSETFROM:-0400
TZOFFSETTO:-0500
TZNAME:EST
DTSTART:20291104T060000
END:STANDARD
BEGIN:DAYLIGHT
TZOFFSETFROM:-0500
TZOFFSETTO:-0400
TZNAME:EDT
DTSTART:20300310T070000
END:DAYLIGHT
BEGIN:STANDARD
TZOFFSETFROM:-0400
TZOFFSETTO:-0500
TZNAME:EST
DTSTART:20301103T060000
END:STANDARD
END:VTIMEZONE
BEGIN:VEVENT
DTSTART;TZID=America/New_York:20290729T093000
DTEND;TZID=America/New_York:20290729T100000
DTSTAMP:20260424T123419
CREATED:20251125T184126Z
LAST-MODIFIED:20251125T184126Z
UID:10132785-1880011800-1880013600@waverlychurch.org
SUMMARY:Choir Rehearsal in Sanctuary
DESCRIPTION:
URL:https://waverlychurch.org/event/choir-rehearsal-in-sanctuary/2029-07-29/
END:VEVENT
BEGIN:VEVENT
DTSTART;TZID=America/New_York:20290729T100000
DTEND;TZID=America/New_York:20290729T105500
DTSTAMP:20260424T123419
CREATED:20260305T170350Z
LAST-MODIFIED:20260305T170351Z
UID:10008719-1880013600-1880016900@waverlychurch.org
SUMMARY:Sunday School
DESCRIPTION:All ages are welcome to join us each week for Sunday School in the following locations: \nChildren up through 1st grade: nursery (downstairs\, right side of front entrance – ring bell to enter) \nChildren and Youth 2nd grade through 12th grade in the “Wonka Room” – room off of our lower floor Social Hall. \nAdults: lounge (upstairs in back of church)
URL:https://waverlychurch.org/event/sunday-school-3-2-2-2-2-2-2-2/2029-07-29/
END:VEVENT
BEGIN:VEVENT
DTSTART;TZID=America/New_York:20290729T110000
DTEND;TZID=America/New_York:20290729T121500
DTSTAMP:20260424T123419
CREATED:20250923T171614Z
LAST-MODIFIED:20250923T171615Z
UID:10129109-1880017200-1880021700@waverlychurch.org
SUMMARY:Worship Service
DESCRIPTION:We meet on Sundays in our Sanctuary at 11am during the school year and stream services online. \nSunday’s worship service will be live-streamed over our Facebook page on Sunday mornings. \n \nhttps://www.facebook.com/pg/WaverlyChurch/videos/
URL:https://waverlychurch.org/event/worship-service-5-2-2/2029-07-29/
END:VEVENT
BEGIN:VEVENT
DTSTART;TZID=America/New_York:20290729T121500
DTEND;TZID=America/New_York:20290729T133000
DTSTAMP:20260424T123419
CREATED:20260305T165302Z
LAST-MODIFIED:20260423T181455Z
UID:10008528-1880021700-1880026200@waverlychurch.org
SUMMARY:Coffee Hour
DESCRIPTION:Join us after service weekly for a chance to share fellowship over coffee and snacks
URL:https://waverlychurch.org/event/coffee-hour-3-2-2-2-2-2/2029-07-29/
LOCATION:Lounge
END:VEVENT
BEGIN:VEVENT
DTSTART;TZID=America/New_York:20290730T090000
DTEND;TZID=America/New_York:20290730T200000
DTSTAMP:20260424T123419
CREATED:20251030T152456Z
LAST-MODIFIED:20251030T152456Z
UID:10132114-1880096400-1880136000@waverlychurch.org
SUMMARY:Guitar Lessons
DESCRIPTION:ian@cainsmusiclessons.com
URL:https://waverlychurch.org/event/guitar-lessons/2029-07-30/
LOCATION:Frog Room
END:VEVENT
BEGIN:VEVENT
DTSTART;TZID=America/New_York:20290801T090000
DTEND;TZID=America/New_York:20290801T200000
DTSTAMP:20260424T123419
CREATED:20251030T152456Z
LAST-MODIFIED:20251030T152456Z
UID:10132115-1880269200-1880308800@waverlychurch.org
SUMMARY:Guitar Lessons
DESCRIPTION:ian@cainsmusiclessons.com
URL:https://waverlychurch.org/event/guitar-lessons/2029-08-01/
LOCATION:Frog Room
END:VEVENT
BEGIN:VEVENT
DTSTART;TZID=America/New_York:20290802T190000
DTEND;TZID=America/New_York:20290802T203000
DTSTAMP:20260424T123419
CREATED:20251125T183555Z
LAST-MODIFIED:20251125T183747Z
UID:10132525-1880391600-1880397000@waverlychurch.org
SUMMARY:Choir Rehearsal in Lounge
DESCRIPTION:
URL:https://waverlychurch.org/event/choir-rehearsal-in-lounge/2029-08-02/
LOCATION:Lounge
END:VEVENT
BEGIN:VEVENT
DTSTART;TZID=America/New_York:20290804T110000
DTEND;TZID=America/New_York:20290804T143000
DTSTAMP:20260424T123419
CREATED:20251125T184526Z
LAST-MODIFIED:20251125T184526Z
UID:10132899-1880535600-1880548200@waverlychurch.org
SUMMARY:East End N.A. Business Meeting/Social Hall
DESCRIPTION:
URL:https://waverlychurch.org/event/east-end-n-a-business-meeting-social-hall/2029-08-04/
END:VEVENT
END:VCALENDAR