BEGIN:VCALENDAR
VERSION:2.0
PRODID:-//Waverly Presbyterian Church - ECPv6.15.20//NONSGML v1.0//EN
CALSCALE:GREGORIAN
METHOD:PUBLISH
X-ORIGINAL-URL:https://waverlychurch.org
X-WR-CALDESC:Events for Waverly Presbyterian Church
REFRESH-INTERVAL;VALUE=DURATION:PT1H
X-Robots-Tag:noindex
X-PUBLISHED-TTL:PT1H
BEGIN:VTIMEZONE
TZID:America/New_York
BEGIN:DAYLIGHT
TZOFFSETFROM:-0500
TZOFFSETTO:-0400
TZNAME:EDT
DTSTART:20250309T070000
END:DAYLIGHT
BEGIN:STANDARD
TZOFFSETFROM:-0400
TZOFFSETTO:-0500
TZNAME:EST
DTSTART:20251102T060000
END:STANDARD
BEGIN:DAYLIGHT
TZOFFSETFROM:-0500
TZOFFSETTO:-0400
TZNAME:EDT
DTSTART:20260308T070000
END:DAYLIGHT
BEGIN:STANDARD
TZOFFSETFROM:-0400
TZOFFSETTO:-0500
TZNAME:EST
DTSTART:20261101T060000
END:STANDARD
BEGIN:DAYLIGHT
TZOFFSETFROM:-0500
TZOFFSETTO:-0400
TZNAME:EDT
DTSTART:20270314T070000
END:DAYLIGHT
BEGIN:STANDARD
TZOFFSETFROM:-0400
TZOFFSETTO:-0500
TZNAME:EST
DTSTART:20271107T060000
END:STANDARD
END:VTIMEZONE
BEGIN:VEVENT
DTSTART;TZID=America/New_York:20260420T090000
DTEND;TZID=America/New_York:20260420T200000
DTSTAMP:20260420T062149
CREATED:20251030T152456Z
LAST-MODIFIED:20251030T152456Z
UID:10131772-1776675600-1776715200@waverlychurch.org
SUMMARY:Guitar Lessons
DESCRIPTION:ian@cainsmusiclessons.com
URL:https://waverlychurch.org/event/guitar-lessons/2026-04-20/
LOCATION:Frog Room
END:VEVENT
BEGIN:VEVENT
DTSTART;TZID=America/New_York:20260422T090000
DTEND;TZID=America/New_York:20260422T200000
DTSTAMP:20260420T062149
CREATED:20251030T152456Z
LAST-MODIFIED:20251030T152456Z
UID:10131773-1776848400-1776888000@waverlychurch.org
SUMMARY:Guitar Lessons
DESCRIPTION:ian@cainsmusiclessons.com
URL:https://waverlychurch.org/event/guitar-lessons/2026-04-22/
LOCATION:Frog Room
END:VEVENT
BEGIN:VEVENT
DTSTART;TZID=America/New_York:20260427T090000
DTEND;TZID=America/New_York:20260427T200000
DTSTAMP:20260420T062149
CREATED:20251030T152456Z
LAST-MODIFIED:20251030T152456Z
UID:10131774-1777280400-1777320000@waverlychurch.org
SUMMARY:Guitar Lessons
DESCRIPTION:ian@cainsmusiclessons.com
URL:https://waverlychurch.org/event/guitar-lessons/2026-04-27/
LOCATION:Frog Room
END:VEVENT
BEGIN:VEVENT
DTSTART;TZID=America/New_York:20260429T090000
DTEND;TZID=America/New_York:20260429T200000
DTSTAMP:20260420T062149
CREATED:20251030T152456Z
LAST-MODIFIED:20251030T152456Z
UID:10131775-1777453200-1777492800@waverlychurch.org
SUMMARY:Guitar Lessons
DESCRIPTION:ian@cainsmusiclessons.com
URL:https://waverlychurch.org/event/guitar-lessons/2026-04-29/
LOCATION:Frog Room
END:VEVENT
BEGIN:VEVENT
DTSTART;TZID=America/New_York:20260504T090000
DTEND;TZID=America/New_York:20260504T200000
DTSTAMP:20260420T062149
CREATED:20251030T152456Z
LAST-MODIFIED:20251030T152456Z
UID:10131776-1777885200-1777924800@waverlychurch.org
SUMMARY:Guitar Lessons
DESCRIPTION:ian@cainsmusiclessons.com
URL:https://waverlychurch.org/event/guitar-lessons/2026-05-04/
LOCATION:Frog Room
END:VEVENT
BEGIN:VEVENT
DTSTART;TZID=America/New_York:20260506T090000
DTEND;TZID=America/New_York:20260506T200000
DTSTAMP:20260420T062149
CREATED:20251030T152456Z
LAST-MODIFIED:20251030T152456Z
UID:10131777-1778058000-1778097600@waverlychurch.org
SUMMARY:Guitar Lessons
DESCRIPTION:ian@cainsmusiclessons.com
URL:https://waverlychurch.org/event/guitar-lessons/2026-05-06/
LOCATION:Frog Room
END:VEVENT
BEGIN:VEVENT
DTSTART;TZID=America/New_York:20260511T090000
DTEND;TZID=America/New_York:20260511T200000
DTSTAMP:20260420T062149
CREATED:20251030T152456Z
LAST-MODIFIED:20251030T152456Z
UID:10131778-1778490000-1778529600@waverlychurch.org
SUMMARY:Guitar Lessons
DESCRIPTION:ian@cainsmusiclessons.com
URL:https://waverlychurch.org/event/guitar-lessons/2026-05-11/
LOCATION:Frog Room
END:VEVENT
BEGIN:VEVENT
DTSTART;TZID=America/New_York:20260513T090000
DTEND;TZID=America/New_York:20260513T200000
DTSTAMP:20260420T062149
CREATED:20251030T152456Z
LAST-MODIFIED:20251030T152456Z
UID:10131779-1778662800-1778702400@waverlychurch.org
SUMMARY:Guitar Lessons
DESCRIPTION:ian@cainsmusiclessons.com
URL:https://waverlychurch.org/event/guitar-lessons/2026-05-13/
LOCATION:Frog Room
END:VEVENT
BEGIN:VEVENT
DTSTART;TZID=America/New_York:20260518T090000
DTEND;TZID=America/New_York:20260518T200000
DTSTAMP:20260420T062149
CREATED:20251030T152456Z
LAST-MODIFIED:20251030T152456Z
UID:10131780-1779094800-1779134400@waverlychurch.org
SUMMARY:Guitar Lessons
DESCRIPTION:ian@cainsmusiclessons.com
URL:https://waverlychurch.org/event/guitar-lessons/2026-05-18/
LOCATION:Frog Room
END:VEVENT
BEGIN:VEVENT
DTSTART;TZID=America/New_York:20260520T090000
DTEND;TZID=America/New_York:20260520T200000
DTSTAMP:20260420T062149
CREATED:20251030T152456Z
LAST-MODIFIED:20251030T152456Z
UID:10131781-1779267600-1779307200@waverlychurch.org
SUMMARY:Guitar Lessons
DESCRIPTION:ian@cainsmusiclessons.com
URL:https://waverlychurch.org/event/guitar-lessons/2026-05-20/
LOCATION:Frog Room
END:VEVENT
BEGIN:VEVENT
DTSTART;TZID=America/New_York:20260525T090000
DTEND;TZID=America/New_York:20260525T200000
DTSTAMP:20260420T062149
CREATED:20251030T152456Z
LAST-MODIFIED:20251030T152456Z
UID:10131782-1779699600-1779739200@waverlychurch.org
SUMMARY:Guitar Lessons
DESCRIPTION:ian@cainsmusiclessons.com
URL:https://waverlychurch.org/event/guitar-lessons/2026-05-25/
LOCATION:Frog Room
END:VEVENT
BEGIN:VEVENT
DTSTART;TZID=America/New_York:20260527T090000
DTEND;TZID=America/New_York:20260527T200000
DTSTAMP:20260420T062149
CREATED:20251030T152456Z
LAST-MODIFIED:20251030T152456Z
UID:10131783-1779872400-1779912000@waverlychurch.org
SUMMARY:Guitar Lessons
DESCRIPTION:ian@cainsmusiclessons.com
URL:https://waverlychurch.org/event/guitar-lessons/2026-05-27/
LOCATION:Frog Room
END:VEVENT
BEGIN:VEVENT
DTSTART;TZID=America/New_York:20260601T090000
DTEND;TZID=America/New_York:20260601T200000
DTSTAMP:20260420T062149
CREATED:20251030T152456Z
LAST-MODIFIED:20251030T152456Z
UID:10131784-1780304400-1780344000@waverlychurch.org
SUMMARY:Guitar Lessons
DESCRIPTION:ian@cainsmusiclessons.com
URL:https://waverlychurch.org/event/guitar-lessons/2026-06-01/
LOCATION:Frog Room
END:VEVENT
BEGIN:VEVENT
DTSTART;TZID=America/New_York:20260603T090000
DTEND;TZID=America/New_York:20260603T200000
DTSTAMP:20260420T062149
CREATED:20251030T152456Z
LAST-MODIFIED:20251030T152456Z
UID:10131785-1780477200-1780516800@waverlychurch.org
SUMMARY:Guitar Lessons
DESCRIPTION:ian@cainsmusiclessons.com
URL:https://waverlychurch.org/event/guitar-lessons/2026-06-03/
LOCATION:Frog Room
END:VEVENT
BEGIN:VEVENT
DTSTART;TZID=America/New_York:20260608T090000
DTEND;TZID=America/New_York:20260608T200000
DTSTAMP:20260420T062149
CREATED:20251030T152456Z
LAST-MODIFIED:20251030T152456Z
UID:10131786-1780909200-1780948800@waverlychurch.org
SUMMARY:Guitar Lessons
DESCRIPTION:ian@cainsmusiclessons.com
URL:https://waverlychurch.org/event/guitar-lessons/2026-06-08/
LOCATION:Frog Room
END:VEVENT
BEGIN:VEVENT
DTSTART;TZID=America/New_York:20260610T090000
DTEND;TZID=America/New_York:20260610T200000
DTSTAMP:20260420T062149
CREATED:20251030T152456Z
LAST-MODIFIED:20251030T152456Z
UID:10131787-1781082000-1781121600@waverlychurch.org
SUMMARY:Guitar Lessons
DESCRIPTION:ian@cainsmusiclessons.com
URL:https://waverlychurch.org/event/guitar-lessons/2026-06-10/
LOCATION:Frog Room
END:VEVENT
BEGIN:VEVENT
DTSTART;TZID=America/New_York:20260615T090000
DTEND;TZID=America/New_York:20260615T200000
DTSTAMP:20260420T062149
CREATED:20251030T152456Z
LAST-MODIFIED:20251030T152456Z
UID:10131788-1781514000-1781553600@waverlychurch.org
SUMMARY:Guitar Lessons
DESCRIPTION:ian@cainsmusiclessons.com
URL:https://waverlychurch.org/event/guitar-lessons/2026-06-15/
LOCATION:Frog Room
END:VEVENT
BEGIN:VEVENT
DTSTART;TZID=America/New_York:20260617T090000
DTEND;TZID=America/New_York:20260617T200000
DTSTAMP:20260420T062149
CREATED:20251030T152456Z
LAST-MODIFIED:20251030T152456Z
UID:10131789-1781686800-1781726400@waverlychurch.org
SUMMARY:Guitar Lessons
DESCRIPTION:ian@cainsmusiclessons.com
URL:https://waverlychurch.org/event/guitar-lessons/2026-06-17/
LOCATION:Frog Room
END:VEVENT
BEGIN:VEVENT
DTSTART;TZID=America/New_York:20260622T090000
DTEND;TZID=America/New_York:20260622T200000
DTSTAMP:20260420T062149
CREATED:20251030T152456Z
LAST-MODIFIED:20251030T152456Z
UID:10131790-1782118800-1782158400@waverlychurch.org
SUMMARY:Guitar Lessons
DESCRIPTION:ian@cainsmusiclessons.com
URL:https://waverlychurch.org/event/guitar-lessons/2026-06-22/
LOCATION:Frog Room
END:VEVENT
BEGIN:VEVENT
DTSTART;TZID=America/New_York:20260624T090000
DTEND;TZID=America/New_York:20260624T200000
DTSTAMP:20260420T062149
CREATED:20251030T152456Z
LAST-MODIFIED:20251030T152456Z
UID:10131791-1782291600-1782331200@waverlychurch.org
SUMMARY:Guitar Lessons
DESCRIPTION:ian@cainsmusiclessons.com
URL:https://waverlychurch.org/event/guitar-lessons/2026-06-24/
LOCATION:Frog Room
END:VEVENT
BEGIN:VEVENT
DTSTART;TZID=America/New_York:20260629T090000
DTEND;TZID=America/New_York:20260629T200000
DTSTAMP:20260420T062149
CREATED:20251030T152456Z
LAST-MODIFIED:20251030T152456Z
UID:10131792-1782723600-1782763200@waverlychurch.org
SUMMARY:Guitar Lessons
DESCRIPTION:ian@cainsmusiclessons.com
URL:https://waverlychurch.org/event/guitar-lessons/2026-06-29/
LOCATION:Frog Room
END:VEVENT
BEGIN:VEVENT
DTSTART;TZID=America/New_York:20260701T090000
DTEND;TZID=America/New_York:20260701T200000
DTSTAMP:20260420T062149
CREATED:20251030T152456Z
LAST-MODIFIED:20251030T152456Z
UID:10131793-1782896400-1782936000@waverlychurch.org
SUMMARY:Guitar Lessons
DESCRIPTION:ian@cainsmusiclessons.com
URL:https://waverlychurch.org/event/guitar-lessons/2026-07-01/
LOCATION:Frog Room
END:VEVENT
BEGIN:VEVENT
DTSTART;TZID=America/New_York:20260706T090000
DTEND;TZID=America/New_York:20260706T200000
DTSTAMP:20260420T062149
CREATED:20251030T152456Z
LAST-MODIFIED:20251030T152456Z
UID:10131794-1783328400-1783368000@waverlychurch.org
SUMMARY:Guitar Lessons
DESCRIPTION:ian@cainsmusiclessons.com
URL:https://waverlychurch.org/event/guitar-lessons/2026-07-06/
LOCATION:Frog Room
END:VEVENT
BEGIN:VEVENT
DTSTART;TZID=America/New_York:20260708T090000
DTEND;TZID=America/New_York:20260708T200000
DTSTAMP:20260420T062149
CREATED:20251030T152456Z
LAST-MODIFIED:20251030T152456Z
UID:10131795-1783501200-1783540800@waverlychurch.org
SUMMARY:Guitar Lessons
DESCRIPTION:ian@cainsmusiclessons.com
URL:https://waverlychurch.org/event/guitar-lessons/2026-07-08/
LOCATION:Frog Room
END:VEVENT
BEGIN:VEVENT
DTSTART;TZID=America/New_York:20260713T090000
DTEND;TZID=America/New_York:20260713T200000
DTSTAMP:20260420T062149
CREATED:20251030T152456Z
LAST-MODIFIED:20251030T152456Z
UID:10131796-1783933200-1783972800@waverlychurch.org
SUMMARY:Guitar Lessons
DESCRIPTION:ian@cainsmusiclessons.com
URL:https://waverlychurch.org/event/guitar-lessons/2026-07-13/
LOCATION:Frog Room
END:VEVENT
BEGIN:VEVENT
DTSTART;TZID=America/New_York:20260715T090000
DTEND;TZID=America/New_York:20260715T200000
DTSTAMP:20260420T062149
CREATED:20251030T152456Z
LAST-MODIFIED:20251030T152456Z
UID:10131797-1784106000-1784145600@waverlychurch.org
SUMMARY:Guitar Lessons
DESCRIPTION:ian@cainsmusiclessons.com
URL:https://waverlychurch.org/event/guitar-lessons/2026-07-15/
LOCATION:Frog Room
END:VEVENT
BEGIN:VEVENT
DTSTART;TZID=America/New_York:20260720T090000
DTEND;TZID=America/New_York:20260720T200000
DTSTAMP:20260420T062149
CREATED:20251030T152456Z
LAST-MODIFIED:20251030T152456Z
UID:10131798-1784538000-1784577600@waverlychurch.org
SUMMARY:Guitar Lessons
DESCRIPTION:ian@cainsmusiclessons.com
URL:https://waverlychurch.org/event/guitar-lessons/2026-07-20/
LOCATION:Frog Room
END:VEVENT
BEGIN:VEVENT
DTSTART;TZID=America/New_York:20260722T090000
DTEND;TZID=America/New_York:20260722T200000
DTSTAMP:20260420T062149
CREATED:20251030T152456Z
LAST-MODIFIED:20251030T152456Z
UID:10131799-1784710800-1784750400@waverlychurch.org
SUMMARY:Guitar Lessons
DESCRIPTION:ian@cainsmusiclessons.com
URL:https://waverlychurch.org/event/guitar-lessons/2026-07-22/
LOCATION:Frog Room
END:VEVENT
BEGIN:VEVENT
DTSTART;TZID=America/New_York:20260727T090000
DTEND;TZID=America/New_York:20260727T200000
DTSTAMP:20260420T062149
CREATED:20251030T152456Z
LAST-MODIFIED:20251030T152456Z
UID:10131800-1785142800-1785182400@waverlychurch.org
SUMMARY:Guitar Lessons
DESCRIPTION:ian@cainsmusiclessons.com
URL:https://waverlychurch.org/event/guitar-lessons/2026-07-27/
LOCATION:Frog Room
END:VEVENT
BEGIN:VEVENT
DTSTART;TZID=America/New_York:20260729T090000
DTEND;TZID=America/New_York:20260729T200000
DTSTAMP:20260420T062149
CREATED:20251030T152456Z
LAST-MODIFIED:20251030T152456Z
UID:10131801-1785315600-1785355200@waverlychurch.org
SUMMARY:Guitar Lessons
DESCRIPTION:ian@cainsmusiclessons.com
URL:https://waverlychurch.org/event/guitar-lessons/2026-07-29/
LOCATION:Frog Room
END:VEVENT
END:VCALENDAR