BEGIN:VCALENDAR
VERSION:2.0
PRODID:-//Waverly Presbyterian Church - ECPv6.15.20//NONSGML v1.0//EN
CALSCALE:GREGORIAN
METHOD:PUBLISH
X-WR-CALNAME:Waverly Presbyterian Church
X-ORIGINAL-URL:https://waverlychurch.org
X-WR-CALDESC:Events for Waverly Presbyterian Church
REFRESH-INTERVAL;VALUE=DURATION:PT1H
X-Robots-Tag:noindex
X-PUBLISHED-TTL:PT1H
BEGIN:VTIMEZONE
TZID:America/New_York
BEGIN:DAYLIGHT
TZOFFSETFROM:-0500
TZOFFSETTO:-0400
TZNAME:EDT
DTSTART:20260308T070000
END:DAYLIGHT
BEGIN:STANDARD
TZOFFSETFROM:-0400
TZOFFSETTO:-0500
TZNAME:EST
DTSTART:20261101T060000
END:STANDARD
BEGIN:DAYLIGHT
TZOFFSETFROM:-0500
TZOFFSETTO:-0400
TZNAME:EDT
DTSTART:20270314T070000
END:DAYLIGHT
BEGIN:STANDARD
TZOFFSETFROM:-0400
TZOFFSETTO:-0500
TZNAME:EST
DTSTART:20271107T060000
END:STANDARD
BEGIN:DAYLIGHT
TZOFFSETFROM:-0500
TZOFFSETTO:-0400
TZNAME:EDT
DTSTART:20280312T070000
END:DAYLIGHT
BEGIN:STANDARD
TZOFFSETFROM:-0400
TZOFFSETTO:-0500
TZNAME:EST
DTSTART:20281105T060000
END:STANDARD
END:VTIMEZONE
BEGIN:VEVENT
DTSTART;TZID=America/New_York:20270616T090000
DTEND;TZID=America/New_York:20270616T200000
DTSTAMP:20260421T032448
CREATED:20251030T152456Z
LAST-MODIFIED:20251030T152456Z
UID:10131893-1813136400-1813176000@waverlychurch.org
SUMMARY:Guitar Lessons
DESCRIPTION:ian@cainsmusiclessons.com
URL:https://waverlychurch.org/event/guitar-lessons/2027-06-16/
LOCATION:Frog Room
END:VEVENT
BEGIN:VEVENT
DTSTART;TZID=America/New_York:20270621T090000
DTEND;TZID=America/New_York:20270621T200000
DTSTAMP:20260421T032448
CREATED:20251030T152456Z
LAST-MODIFIED:20251030T152456Z
UID:10131894-1813568400-1813608000@waverlychurch.org
SUMMARY:Guitar Lessons
DESCRIPTION:ian@cainsmusiclessons.com
URL:https://waverlychurch.org/event/guitar-lessons/2027-06-21/
LOCATION:Frog Room
END:VEVENT
BEGIN:VEVENT
DTSTART;TZID=America/New_York:20270623T090000
DTEND;TZID=America/New_York:20270623T200000
DTSTAMP:20260421T032448
CREATED:20251030T152456Z
LAST-MODIFIED:20251030T152456Z
UID:10131895-1813741200-1813780800@waverlychurch.org
SUMMARY:Guitar Lessons
DESCRIPTION:ian@cainsmusiclessons.com
URL:https://waverlychurch.org/event/guitar-lessons/2027-06-23/
LOCATION:Frog Room
END:VEVENT
BEGIN:VEVENT
DTSTART;TZID=America/New_York:20270628T090000
DTEND;TZID=America/New_York:20270628T200000
DTSTAMP:20260421T032448
CREATED:20251030T152456Z
LAST-MODIFIED:20251030T152456Z
UID:10131896-1814173200-1814212800@waverlychurch.org
SUMMARY:Guitar Lessons
DESCRIPTION:ian@cainsmusiclessons.com
URL:https://waverlychurch.org/event/guitar-lessons/2027-06-28/
LOCATION:Frog Room
END:VEVENT
BEGIN:VEVENT
DTSTART;TZID=America/New_York:20270630T090000
DTEND;TZID=America/New_York:20270630T200000
DTSTAMP:20260421T032448
CREATED:20251030T152456Z
LAST-MODIFIED:20251030T152456Z
UID:10131897-1814346000-1814385600@waverlychurch.org
SUMMARY:Guitar Lessons
DESCRIPTION:ian@cainsmusiclessons.com
URL:https://waverlychurch.org/event/guitar-lessons/2027-06-30/
LOCATION:Frog Room
END:VEVENT
BEGIN:VEVENT
DTSTART;TZID=America/New_York:20270705T090000
DTEND;TZID=America/New_York:20270705T200000
DTSTAMP:20260421T032448
CREATED:20251030T152456Z
LAST-MODIFIED:20251030T152456Z
UID:10131898-1814778000-1814817600@waverlychurch.org
SUMMARY:Guitar Lessons
DESCRIPTION:ian@cainsmusiclessons.com
URL:https://waverlychurch.org/event/guitar-lessons/2027-07-05/
LOCATION:Frog Room
END:VEVENT
BEGIN:VEVENT
DTSTART;TZID=America/New_York:20270707T090000
DTEND;TZID=America/New_York:20270707T200000
DTSTAMP:20260421T032448
CREATED:20251030T152456Z
LAST-MODIFIED:20251030T152456Z
UID:10131899-1814950800-1814990400@waverlychurch.org
SUMMARY:Guitar Lessons
DESCRIPTION:ian@cainsmusiclessons.com
URL:https://waverlychurch.org/event/guitar-lessons/2027-07-07/
LOCATION:Frog Room
END:VEVENT
BEGIN:VEVENT
DTSTART;TZID=America/New_York:20270712T090000
DTEND;TZID=America/New_York:20270712T200000
DTSTAMP:20260421T032448
CREATED:20251030T152456Z
LAST-MODIFIED:20251030T152456Z
UID:10131900-1815382800-1815422400@waverlychurch.org
SUMMARY:Guitar Lessons
DESCRIPTION:ian@cainsmusiclessons.com
URL:https://waverlychurch.org/event/guitar-lessons/2027-07-12/
LOCATION:Frog Room
END:VEVENT
BEGIN:VEVENT
DTSTART;TZID=America/New_York:20270714T090000
DTEND;TZID=America/New_York:20270714T200000
DTSTAMP:20260421T032448
CREATED:20251030T152456Z
LAST-MODIFIED:20251030T152456Z
UID:10131901-1815555600-1815595200@waverlychurch.org
SUMMARY:Guitar Lessons
DESCRIPTION:ian@cainsmusiclessons.com
URL:https://waverlychurch.org/event/guitar-lessons/2027-07-14/
LOCATION:Frog Room
END:VEVENT
BEGIN:VEVENT
DTSTART;TZID=America/New_York:20270719T090000
DTEND;TZID=America/New_York:20270719T200000
DTSTAMP:20260421T032448
CREATED:20251030T152456Z
LAST-MODIFIED:20251030T152456Z
UID:10131902-1815987600-1816027200@waverlychurch.org
SUMMARY:Guitar Lessons
DESCRIPTION:ian@cainsmusiclessons.com
URL:https://waverlychurch.org/event/guitar-lessons/2027-07-19/
LOCATION:Frog Room
END:VEVENT
BEGIN:VEVENT
DTSTART;TZID=America/New_York:20270721T090000
DTEND;TZID=America/New_York:20270721T200000
DTSTAMP:20260421T032448
CREATED:20251030T152456Z
LAST-MODIFIED:20251030T152456Z
UID:10131903-1816160400-1816200000@waverlychurch.org
SUMMARY:Guitar Lessons
DESCRIPTION:ian@cainsmusiclessons.com
URL:https://waverlychurch.org/event/guitar-lessons/2027-07-21/
LOCATION:Frog Room
END:VEVENT
BEGIN:VEVENT
DTSTART;TZID=America/New_York:20270726T090000
DTEND;TZID=America/New_York:20270726T200000
DTSTAMP:20260421T032448
CREATED:20251030T152456Z
LAST-MODIFIED:20251030T152456Z
UID:10131904-1816592400-1816632000@waverlychurch.org
SUMMARY:Guitar Lessons
DESCRIPTION:ian@cainsmusiclessons.com
URL:https://waverlychurch.org/event/guitar-lessons/2027-07-26/
LOCATION:Frog Room
END:VEVENT
BEGIN:VEVENT
DTSTART;TZID=America/New_York:20270728T090000
DTEND;TZID=America/New_York:20270728T200000
DTSTAMP:20260421T032448
CREATED:20251030T152456Z
LAST-MODIFIED:20251030T152456Z
UID:10131905-1816765200-1816804800@waverlychurch.org
SUMMARY:Guitar Lessons
DESCRIPTION:ian@cainsmusiclessons.com
URL:https://waverlychurch.org/event/guitar-lessons/2027-07-28/
LOCATION:Frog Room
END:VEVENT
BEGIN:VEVENT
DTSTART;TZID=America/New_York:20270802T090000
DTEND;TZID=America/New_York:20270802T200000
DTSTAMP:20260421T032448
CREATED:20251030T152456Z
LAST-MODIFIED:20251030T152456Z
UID:10131906-1817197200-1817236800@waverlychurch.org
SUMMARY:Guitar Lessons
DESCRIPTION:ian@cainsmusiclessons.com
URL:https://waverlychurch.org/event/guitar-lessons/2027-08-02/
LOCATION:Frog Room
END:VEVENT
BEGIN:VEVENT
DTSTART;TZID=America/New_York:20270804T090000
DTEND;TZID=America/New_York:20270804T200000
DTSTAMP:20260421T032448
CREATED:20251030T152456Z
LAST-MODIFIED:20251030T152456Z
UID:10131907-1817370000-1817409600@waverlychurch.org
SUMMARY:Guitar Lessons
DESCRIPTION:ian@cainsmusiclessons.com
URL:https://waverlychurch.org/event/guitar-lessons/2027-08-04/
LOCATION:Frog Room
END:VEVENT
BEGIN:VEVENT
DTSTART;TZID=America/New_York:20270809T090000
DTEND;TZID=America/New_York:20270809T200000
DTSTAMP:20260421T032448
CREATED:20251030T152456Z
LAST-MODIFIED:20251030T152456Z
UID:10131908-1817802000-1817841600@waverlychurch.org
SUMMARY:Guitar Lessons
DESCRIPTION:ian@cainsmusiclessons.com
URL:https://waverlychurch.org/event/guitar-lessons/2027-08-09/
LOCATION:Frog Room
END:VEVENT
BEGIN:VEVENT
DTSTART;TZID=America/New_York:20270811T090000
DTEND;TZID=America/New_York:20270811T200000
DTSTAMP:20260421T032448
CREATED:20251030T152456Z
LAST-MODIFIED:20251030T152456Z
UID:10131909-1817974800-1818014400@waverlychurch.org
SUMMARY:Guitar Lessons
DESCRIPTION:ian@cainsmusiclessons.com
URL:https://waverlychurch.org/event/guitar-lessons/2027-08-11/
LOCATION:Frog Room
END:VEVENT
BEGIN:VEVENT
DTSTART;TZID=America/New_York:20270816T090000
DTEND;TZID=America/New_York:20270816T200000
DTSTAMP:20260421T032448
CREATED:20251030T152456Z
LAST-MODIFIED:20251030T152456Z
UID:10131910-1818406800-1818446400@waverlychurch.org
SUMMARY:Guitar Lessons
DESCRIPTION:ian@cainsmusiclessons.com
URL:https://waverlychurch.org/event/guitar-lessons/2027-08-16/
LOCATION:Frog Room
END:VEVENT
BEGIN:VEVENT
DTSTART;TZID=America/New_York:20270818T090000
DTEND;TZID=America/New_York:20270818T200000
DTSTAMP:20260421T032448
CREATED:20251030T152456Z
LAST-MODIFIED:20251030T152456Z
UID:10131911-1818579600-1818619200@waverlychurch.org
SUMMARY:Guitar Lessons
DESCRIPTION:ian@cainsmusiclessons.com
URL:https://waverlychurch.org/event/guitar-lessons/2027-08-18/
LOCATION:Frog Room
END:VEVENT
BEGIN:VEVENT
DTSTART;TZID=America/New_York:20270823T090000
DTEND;TZID=America/New_York:20270823T200000
DTSTAMP:20260421T032448
CREATED:20251030T152456Z
LAST-MODIFIED:20251030T152456Z
UID:10131912-1819011600-1819051200@waverlychurch.org
SUMMARY:Guitar Lessons
DESCRIPTION:ian@cainsmusiclessons.com
URL:https://waverlychurch.org/event/guitar-lessons/2027-08-23/
LOCATION:Frog Room
END:VEVENT
BEGIN:VEVENT
DTSTART;TZID=America/New_York:20270825T090000
DTEND;TZID=America/New_York:20270825T200000
DTSTAMP:20260421T032448
CREATED:20251030T152456Z
LAST-MODIFIED:20251030T152456Z
UID:10131913-1819184400-1819224000@waverlychurch.org
SUMMARY:Guitar Lessons
DESCRIPTION:ian@cainsmusiclessons.com
URL:https://waverlychurch.org/event/guitar-lessons/2027-08-25/
LOCATION:Frog Room
END:VEVENT
BEGIN:VEVENT
DTSTART;TZID=America/New_York:20270830T090000
DTEND;TZID=America/New_York:20270830T200000
DTSTAMP:20260421T032448
CREATED:20251030T152456Z
LAST-MODIFIED:20251030T152456Z
UID:10131914-1819616400-1819656000@waverlychurch.org
SUMMARY:Guitar Lessons
DESCRIPTION:ian@cainsmusiclessons.com
URL:https://waverlychurch.org/event/guitar-lessons/2027-08-30/
LOCATION:Frog Room
END:VEVENT
BEGIN:VEVENT
DTSTART;TZID=America/New_York:20270901T090000
DTEND;TZID=America/New_York:20270901T200000
DTSTAMP:20260421T032448
CREATED:20251030T152456Z
LAST-MODIFIED:20251030T152456Z
UID:10131915-1819789200-1819828800@waverlychurch.org
SUMMARY:Guitar Lessons
DESCRIPTION:ian@cainsmusiclessons.com
URL:https://waverlychurch.org/event/guitar-lessons/2027-09-01/
LOCATION:Frog Room
END:VEVENT
BEGIN:VEVENT
DTSTART;TZID=America/New_York:20270906T090000
DTEND;TZID=America/New_York:20270906T200000
DTSTAMP:20260421T032448
CREATED:20251030T152456Z
LAST-MODIFIED:20251030T152456Z
UID:10131916-1820221200-1820260800@waverlychurch.org
SUMMARY:Guitar Lessons
DESCRIPTION:ian@cainsmusiclessons.com
URL:https://waverlychurch.org/event/guitar-lessons/2027-09-06/
LOCATION:Frog Room
END:VEVENT
BEGIN:VEVENT
DTSTART;TZID=America/New_York:20270908T090000
DTEND;TZID=America/New_York:20270908T200000
DTSTAMP:20260421T032448
CREATED:20251030T152456Z
LAST-MODIFIED:20251030T152456Z
UID:10131917-1820394000-1820433600@waverlychurch.org
SUMMARY:Guitar Lessons
DESCRIPTION:ian@cainsmusiclessons.com
URL:https://waverlychurch.org/event/guitar-lessons/2027-09-08/
LOCATION:Frog Room
END:VEVENT
BEGIN:VEVENT
DTSTART;TZID=America/New_York:20270913T090000
DTEND;TZID=America/New_York:20270913T200000
DTSTAMP:20260421T032448
CREATED:20251030T152456Z
LAST-MODIFIED:20251030T152456Z
UID:10131918-1820826000-1820865600@waverlychurch.org
SUMMARY:Guitar Lessons
DESCRIPTION:ian@cainsmusiclessons.com
URL:https://waverlychurch.org/event/guitar-lessons/2027-09-13/
LOCATION:Frog Room
END:VEVENT
BEGIN:VEVENT
DTSTART;TZID=America/New_York:20270915T090000
DTEND;TZID=America/New_York:20270915T200000
DTSTAMP:20260421T032448
CREATED:20251030T152456Z
LAST-MODIFIED:20251030T152456Z
UID:10131919-1820998800-1821038400@waverlychurch.org
SUMMARY:Guitar Lessons
DESCRIPTION:ian@cainsmusiclessons.com
URL:https://waverlychurch.org/event/guitar-lessons/2027-09-15/
LOCATION:Frog Room
END:VEVENT
BEGIN:VEVENT
DTSTART;TZID=America/New_York:20270920T090000
DTEND;TZID=America/New_York:20270920T200000
DTSTAMP:20260421T032448
CREATED:20251030T152456Z
LAST-MODIFIED:20251030T152456Z
UID:10131920-1821430800-1821470400@waverlychurch.org
SUMMARY:Guitar Lessons
DESCRIPTION:ian@cainsmusiclessons.com
URL:https://waverlychurch.org/event/guitar-lessons/2027-09-20/
LOCATION:Frog Room
END:VEVENT
BEGIN:VEVENT
DTSTART;TZID=America/New_York:20270922T090000
DTEND;TZID=America/New_York:20270922T200000
DTSTAMP:20260421T032448
CREATED:20251030T152456Z
LAST-MODIFIED:20251030T152456Z
UID:10131921-1821603600-1821643200@waverlychurch.org
SUMMARY:Guitar Lessons
DESCRIPTION:ian@cainsmusiclessons.com
URL:https://waverlychurch.org/event/guitar-lessons/2027-09-22/
LOCATION:Frog Room
END:VEVENT
BEGIN:VEVENT
DTSTART;TZID=America/New_York:20270927T090000
DTEND;TZID=America/New_York:20270927T200000
DTSTAMP:20260421T032448
CREATED:20251030T152456Z
LAST-MODIFIED:20251030T152456Z
UID:10131922-1822035600-1822075200@waverlychurch.org
SUMMARY:Guitar Lessons
DESCRIPTION:ian@cainsmusiclessons.com
URL:https://waverlychurch.org/event/guitar-lessons/2027-09-27/
LOCATION:Frog Room
END:VEVENT
END:VCALENDAR