BEGIN:VCALENDAR
VERSION:2.0
PRODID:-//Waverly Presbyterian Church - ECPv6.15.20//NONSGML v1.0//EN
CALSCALE:GREGORIAN
METHOD:PUBLISH
X-WR-CALNAME:Waverly Presbyterian Church
X-ORIGINAL-URL:https://waverlychurch.org
X-WR-CALDESC:Events for Waverly Presbyterian Church
REFRESH-INTERVAL;VALUE=DURATION:PT1H
X-Robots-Tag:noindex
X-PUBLISHED-TTL:PT1H
BEGIN:VTIMEZONE
TZID:America/New_York
BEGIN:DAYLIGHT
TZOFFSETFROM:-0500
TZOFFSETTO:-0400
TZNAME:EDT
DTSTART:20270314T070000
END:DAYLIGHT
BEGIN:STANDARD
TZOFFSETFROM:-0400
TZOFFSETTO:-0500
TZNAME:EST
DTSTART:20271107T060000
END:STANDARD
BEGIN:DAYLIGHT
TZOFFSETFROM:-0500
TZOFFSETTO:-0400
TZNAME:EDT
DTSTART:20280312T070000
END:DAYLIGHT
BEGIN:STANDARD
TZOFFSETFROM:-0400
TZOFFSETTO:-0500
TZNAME:EST
DTSTART:20281105T060000
END:STANDARD
BEGIN:DAYLIGHT
TZOFFSETFROM:-0500
TZOFFSETTO:-0400
TZNAME:EDT
DTSTART:20290311T070000
END:DAYLIGHT
BEGIN:STANDARD
TZOFFSETFROM:-0400
TZOFFSETTO:-0500
TZNAME:EST
DTSTART:20291104T060000
END:STANDARD
END:VTIMEZONE
BEGIN:VEVENT
DTSTART;TZID=America/New_York:20280112T090000
DTEND;TZID=America/New_York:20280112T200000
DTSTAMP:20260421T133357
CREATED:20251030T152456Z
LAST-MODIFIED:20251030T152456Z
UID:10131953-1831280400-1831320000@waverlychurch.org
SUMMARY:Guitar Lessons
DESCRIPTION:ian@cainsmusiclessons.com
URL:https://waverlychurch.org/event/guitar-lessons/2028-01-12/
LOCATION:Frog Room
END:VEVENT
BEGIN:VEVENT
DTSTART;TZID=America/New_York:20280117T090000
DTEND;TZID=America/New_York:20280117T200000
DTSTAMP:20260421T133357
CREATED:20251030T152456Z
LAST-MODIFIED:20251030T152456Z
UID:10131954-1831712400-1831752000@waverlychurch.org
SUMMARY:Guitar Lessons
DESCRIPTION:ian@cainsmusiclessons.com
URL:https://waverlychurch.org/event/guitar-lessons/2028-01-17/
LOCATION:Frog Room
END:VEVENT
BEGIN:VEVENT
DTSTART;TZID=America/New_York:20280119T090000
DTEND;TZID=America/New_York:20280119T200000
DTSTAMP:20260421T133357
CREATED:20251030T152456Z
LAST-MODIFIED:20251030T152456Z
UID:10131955-1831885200-1831924800@waverlychurch.org
SUMMARY:Guitar Lessons
DESCRIPTION:ian@cainsmusiclessons.com
URL:https://waverlychurch.org/event/guitar-lessons/2028-01-19/
LOCATION:Frog Room
END:VEVENT
BEGIN:VEVENT
DTSTART;TZID=America/New_York:20280124T090000
DTEND;TZID=America/New_York:20280124T200000
DTSTAMP:20260421T133357
CREATED:20251030T152456Z
LAST-MODIFIED:20251030T152456Z
UID:10131956-1832317200-1832356800@waverlychurch.org
SUMMARY:Guitar Lessons
DESCRIPTION:ian@cainsmusiclessons.com
URL:https://waverlychurch.org/event/guitar-lessons/2028-01-24/
LOCATION:Frog Room
END:VEVENT
BEGIN:VEVENT
DTSTART;TZID=America/New_York:20280126T090000
DTEND;TZID=America/New_York:20280126T200000
DTSTAMP:20260421T133357
CREATED:20251030T152456Z
LAST-MODIFIED:20251030T152456Z
UID:10131957-1832490000-1832529600@waverlychurch.org
SUMMARY:Guitar Lessons
DESCRIPTION:ian@cainsmusiclessons.com
URL:https://waverlychurch.org/event/guitar-lessons/2028-01-26/
LOCATION:Frog Room
END:VEVENT
BEGIN:VEVENT
DTSTART;TZID=America/New_York:20280131T090000
DTEND;TZID=America/New_York:20280131T200000
DTSTAMP:20260421T133357
CREATED:20251030T152456Z
LAST-MODIFIED:20251030T152456Z
UID:10131958-1832922000-1832961600@waverlychurch.org
SUMMARY:Guitar Lessons
DESCRIPTION:ian@cainsmusiclessons.com
URL:https://waverlychurch.org/event/guitar-lessons/2028-01-31/
LOCATION:Frog Room
END:VEVENT
BEGIN:VEVENT
DTSTART;TZID=America/New_York:20280202T090000
DTEND;TZID=America/New_York:20280202T200000
DTSTAMP:20260421T133357
CREATED:20251030T152456Z
LAST-MODIFIED:20251030T152456Z
UID:10131959-1833094800-1833134400@waverlychurch.org
SUMMARY:Guitar Lessons
DESCRIPTION:ian@cainsmusiclessons.com
URL:https://waverlychurch.org/event/guitar-lessons/2028-02-02/
LOCATION:Frog Room
END:VEVENT
BEGIN:VEVENT
DTSTART;TZID=America/New_York:20280207T090000
DTEND;TZID=America/New_York:20280207T200000
DTSTAMP:20260421T133357
CREATED:20251030T152456Z
LAST-MODIFIED:20251030T152456Z
UID:10131960-1833526800-1833566400@waverlychurch.org
SUMMARY:Guitar Lessons
DESCRIPTION:ian@cainsmusiclessons.com
URL:https://waverlychurch.org/event/guitar-lessons/2028-02-07/
LOCATION:Frog Room
END:VEVENT
BEGIN:VEVENT
DTSTART;TZID=America/New_York:20280209T090000
DTEND;TZID=America/New_York:20280209T200000
DTSTAMP:20260421T133357
CREATED:20251030T152456Z
LAST-MODIFIED:20251030T152456Z
UID:10131961-1833699600-1833739200@waverlychurch.org
SUMMARY:Guitar Lessons
DESCRIPTION:ian@cainsmusiclessons.com
URL:https://waverlychurch.org/event/guitar-lessons/2028-02-09/
LOCATION:Frog Room
END:VEVENT
BEGIN:VEVENT
DTSTART;TZID=America/New_York:20280214T090000
DTEND;TZID=America/New_York:20280214T200000
DTSTAMP:20260421T133357
CREATED:20251030T152456Z
LAST-MODIFIED:20251030T152456Z
UID:10131962-1834131600-1834171200@waverlychurch.org
SUMMARY:Guitar Lessons
DESCRIPTION:ian@cainsmusiclessons.com
URL:https://waverlychurch.org/event/guitar-lessons/2028-02-14/
LOCATION:Frog Room
END:VEVENT
BEGIN:VEVENT
DTSTART;TZID=America/New_York:20280216T090000
DTEND;TZID=America/New_York:20280216T200000
DTSTAMP:20260421T133357
CREATED:20251030T152456Z
LAST-MODIFIED:20251030T152456Z
UID:10131963-1834304400-1834344000@waverlychurch.org
SUMMARY:Guitar Lessons
DESCRIPTION:ian@cainsmusiclessons.com
URL:https://waverlychurch.org/event/guitar-lessons/2028-02-16/
LOCATION:Frog Room
END:VEVENT
BEGIN:VEVENT
DTSTART;TZID=America/New_York:20280221T090000
DTEND;TZID=America/New_York:20280221T200000
DTSTAMP:20260421T133357
CREATED:20251030T152456Z
LAST-MODIFIED:20251030T152456Z
UID:10131964-1834736400-1834776000@waverlychurch.org
SUMMARY:Guitar Lessons
DESCRIPTION:ian@cainsmusiclessons.com
URL:https://waverlychurch.org/event/guitar-lessons/2028-02-21/
LOCATION:Frog Room
END:VEVENT
BEGIN:VEVENT
DTSTART;TZID=America/New_York:20280223T090000
DTEND;TZID=America/New_York:20280223T200000
DTSTAMP:20260421T133357
CREATED:20251030T152456Z
LAST-MODIFIED:20251030T152456Z
UID:10131965-1834909200-1834948800@waverlychurch.org
SUMMARY:Guitar Lessons
DESCRIPTION:ian@cainsmusiclessons.com
URL:https://waverlychurch.org/event/guitar-lessons/2028-02-23/
LOCATION:Frog Room
END:VEVENT
BEGIN:VEVENT
DTSTART;TZID=America/New_York:20280228T090000
DTEND;TZID=America/New_York:20280228T200000
DTSTAMP:20260421T133357
CREATED:20251030T152456Z
LAST-MODIFIED:20251030T152456Z
UID:10131966-1835341200-1835380800@waverlychurch.org
SUMMARY:Guitar Lessons
DESCRIPTION:ian@cainsmusiclessons.com
URL:https://waverlychurch.org/event/guitar-lessons/2028-02-28/
LOCATION:Frog Room
END:VEVENT
BEGIN:VEVENT
DTSTART;TZID=America/New_York:20280301T090000
DTEND;TZID=America/New_York:20280301T200000
DTSTAMP:20260421T133357
CREATED:20251030T152456Z
LAST-MODIFIED:20251030T152456Z
UID:10131967-1835514000-1835553600@waverlychurch.org
SUMMARY:Guitar Lessons
DESCRIPTION:ian@cainsmusiclessons.com
URL:https://waverlychurch.org/event/guitar-lessons/2028-03-01/
LOCATION:Frog Room
END:VEVENT
BEGIN:VEVENT
DTSTART;TZID=America/New_York:20280306T090000
DTEND;TZID=America/New_York:20280306T200000
DTSTAMP:20260421T133357
CREATED:20251030T152456Z
LAST-MODIFIED:20251030T152456Z
UID:10131968-1835946000-1835985600@waverlychurch.org
SUMMARY:Guitar Lessons
DESCRIPTION:ian@cainsmusiclessons.com
URL:https://waverlychurch.org/event/guitar-lessons/2028-03-06/
LOCATION:Frog Room
END:VEVENT
BEGIN:VEVENT
DTSTART;TZID=America/New_York:20280308T090000
DTEND;TZID=America/New_York:20280308T200000
DTSTAMP:20260421T133357
CREATED:20251030T152456Z
LAST-MODIFIED:20251030T152456Z
UID:10131969-1836118800-1836158400@waverlychurch.org
SUMMARY:Guitar Lessons
DESCRIPTION:ian@cainsmusiclessons.com
URL:https://waverlychurch.org/event/guitar-lessons/2028-03-08/
LOCATION:Frog Room
END:VEVENT
BEGIN:VEVENT
DTSTART;TZID=America/New_York:20280313T090000
DTEND;TZID=America/New_York:20280313T200000
DTSTAMP:20260421T133357
CREATED:20251030T152456Z
LAST-MODIFIED:20251030T152456Z
UID:10131970-1836550800-1836590400@waverlychurch.org
SUMMARY:Guitar Lessons
DESCRIPTION:ian@cainsmusiclessons.com
URL:https://waverlychurch.org/event/guitar-lessons/2028-03-13/
LOCATION:Frog Room
END:VEVENT
BEGIN:VEVENT
DTSTART;TZID=America/New_York:20280315T090000
DTEND;TZID=America/New_York:20280315T200000
DTSTAMP:20260421T133357
CREATED:20251030T152456Z
LAST-MODIFIED:20251030T152456Z
UID:10131971-1836723600-1836763200@waverlychurch.org
SUMMARY:Guitar Lessons
DESCRIPTION:ian@cainsmusiclessons.com
URL:https://waverlychurch.org/event/guitar-lessons/2028-03-15/
LOCATION:Frog Room
END:VEVENT
BEGIN:VEVENT
DTSTART;TZID=America/New_York:20280320T090000
DTEND;TZID=America/New_York:20280320T200000
DTSTAMP:20260421T133357
CREATED:20251030T152456Z
LAST-MODIFIED:20251030T152456Z
UID:10131972-1837155600-1837195200@waverlychurch.org
SUMMARY:Guitar Lessons
DESCRIPTION:ian@cainsmusiclessons.com
URL:https://waverlychurch.org/event/guitar-lessons/2028-03-20/
LOCATION:Frog Room
END:VEVENT
BEGIN:VEVENT
DTSTART;TZID=America/New_York:20280322T090000
DTEND;TZID=America/New_York:20280322T200000
DTSTAMP:20260421T133357
CREATED:20251030T152456Z
LAST-MODIFIED:20251030T152456Z
UID:10131973-1837328400-1837368000@waverlychurch.org
SUMMARY:Guitar Lessons
DESCRIPTION:ian@cainsmusiclessons.com
URL:https://waverlychurch.org/event/guitar-lessons/2028-03-22/
LOCATION:Frog Room
END:VEVENT
BEGIN:VEVENT
DTSTART;TZID=America/New_York:20280327T090000
DTEND;TZID=America/New_York:20280327T200000
DTSTAMP:20260421T133357
CREATED:20251030T152456Z
LAST-MODIFIED:20251030T152456Z
UID:10131974-1837760400-1837800000@waverlychurch.org
SUMMARY:Guitar Lessons
DESCRIPTION:ian@cainsmusiclessons.com
URL:https://waverlychurch.org/event/guitar-lessons/2028-03-27/
LOCATION:Frog Room
END:VEVENT
BEGIN:VEVENT
DTSTART;TZID=America/New_York:20280329T090000
DTEND;TZID=America/New_York:20280329T200000
DTSTAMP:20260421T133357
CREATED:20251030T152456Z
LAST-MODIFIED:20251030T152456Z
UID:10131975-1837933200-1837972800@waverlychurch.org
SUMMARY:Guitar Lessons
DESCRIPTION:ian@cainsmusiclessons.com
URL:https://waverlychurch.org/event/guitar-lessons/2028-03-29/
LOCATION:Frog Room
END:VEVENT
BEGIN:VEVENT
DTSTART;TZID=America/New_York:20280403T090000
DTEND;TZID=America/New_York:20280403T200000
DTSTAMP:20260421T133357
CREATED:20251030T152456Z
LAST-MODIFIED:20251030T152456Z
UID:10131976-1838365200-1838404800@waverlychurch.org
SUMMARY:Guitar Lessons
DESCRIPTION:ian@cainsmusiclessons.com
URL:https://waverlychurch.org/event/guitar-lessons/2028-04-03/
LOCATION:Frog Room
END:VEVENT
BEGIN:VEVENT
DTSTART;TZID=America/New_York:20280405T090000
DTEND;TZID=America/New_York:20280405T200000
DTSTAMP:20260421T133357
CREATED:20251030T152456Z
LAST-MODIFIED:20251030T152456Z
UID:10131977-1838538000-1838577600@waverlychurch.org
SUMMARY:Guitar Lessons
DESCRIPTION:ian@cainsmusiclessons.com
URL:https://waverlychurch.org/event/guitar-lessons/2028-04-05/
LOCATION:Frog Room
END:VEVENT
BEGIN:VEVENT
DTSTART;TZID=America/New_York:20280410T090000
DTEND;TZID=America/New_York:20280410T200000
DTSTAMP:20260421T133357
CREATED:20251030T152456Z
LAST-MODIFIED:20251030T152456Z
UID:10131978-1838970000-1839009600@waverlychurch.org
SUMMARY:Guitar Lessons
DESCRIPTION:ian@cainsmusiclessons.com
URL:https://waverlychurch.org/event/guitar-lessons/2028-04-10/
LOCATION:Frog Room
END:VEVENT
BEGIN:VEVENT
DTSTART;TZID=America/New_York:20280412T090000
DTEND;TZID=America/New_York:20280412T200000
DTSTAMP:20260421T133357
CREATED:20251030T152456Z
LAST-MODIFIED:20251030T152456Z
UID:10131979-1839142800-1839182400@waverlychurch.org
SUMMARY:Guitar Lessons
DESCRIPTION:ian@cainsmusiclessons.com
URL:https://waverlychurch.org/event/guitar-lessons/2028-04-12/
LOCATION:Frog Room
END:VEVENT
BEGIN:VEVENT
DTSTART;TZID=America/New_York:20280417T090000
DTEND;TZID=America/New_York:20280417T200000
DTSTAMP:20260421T133357
CREATED:20251030T152456Z
LAST-MODIFIED:20251030T152456Z
UID:10131980-1839574800-1839614400@waverlychurch.org
SUMMARY:Guitar Lessons
DESCRIPTION:ian@cainsmusiclessons.com
URL:https://waverlychurch.org/event/guitar-lessons/2028-04-17/
LOCATION:Frog Room
END:VEVENT
BEGIN:VEVENT
DTSTART;TZID=America/New_York:20280419T090000
DTEND;TZID=America/New_York:20280419T200000
DTSTAMP:20260421T133357
CREATED:20251030T152456Z
LAST-MODIFIED:20251030T152456Z
UID:10131981-1839747600-1839787200@waverlychurch.org
SUMMARY:Guitar Lessons
DESCRIPTION:ian@cainsmusiclessons.com
URL:https://waverlychurch.org/event/guitar-lessons/2028-04-19/
LOCATION:Frog Room
END:VEVENT
BEGIN:VEVENT
DTSTART;TZID=America/New_York:20280424T090000
DTEND;TZID=America/New_York:20280424T200000
DTSTAMP:20260421T133357
CREATED:20251030T152456Z
LAST-MODIFIED:20251030T152456Z
UID:10131982-1840179600-1840219200@waverlychurch.org
SUMMARY:Guitar Lessons
DESCRIPTION:ian@cainsmusiclessons.com
URL:https://waverlychurch.org/event/guitar-lessons/2028-04-24/
LOCATION:Frog Room
END:VEVENT
END:VCALENDAR