BEGIN:VCALENDAR
VERSION:2.0
PRODID:-//Waverly Presbyterian Church - ECPv6.15.20//NONSGML v1.0//EN
CALSCALE:GREGORIAN
METHOD:PUBLISH
X-ORIGINAL-URL:https://waverlychurch.org
X-WR-CALDESC:Events for Waverly Presbyterian Church
REFRESH-INTERVAL;VALUE=DURATION:PT1H
X-Robots-Tag:noindex
X-PUBLISHED-TTL:PT1H
BEGIN:VTIMEZONE
TZID:America/New_York
BEGIN:DAYLIGHT
TZOFFSETFROM:-0500
TZOFFSETTO:-0400
TZNAME:EDT
DTSTART:20280312T070000
END:DAYLIGHT
BEGIN:STANDARD
TZOFFSETFROM:-0400
TZOFFSETTO:-0500
TZNAME:EST
DTSTART:20281105T060000
END:STANDARD
BEGIN:DAYLIGHT
TZOFFSETFROM:-0500
TZOFFSETTO:-0400
TZNAME:EDT
DTSTART:20290311T070000
END:DAYLIGHT
BEGIN:STANDARD
TZOFFSETFROM:-0400
TZOFFSETTO:-0500
TZNAME:EST
DTSTART:20291104T060000
END:STANDARD
BEGIN:DAYLIGHT
TZOFFSETFROM:-0500
TZOFFSETTO:-0400
TZNAME:EDT
DTSTART:20300310T070000
END:DAYLIGHT
BEGIN:STANDARD
TZOFFSETFROM:-0400
TZOFFSETTO:-0500
TZNAME:EST
DTSTART:20301103T060000
END:STANDARD
END:VTIMEZONE
BEGIN:VEVENT
DTSTART;TZID=America/New_York:20290418T090000
DTEND;TZID=America/New_York:20290418T200000
DTSTAMP:20260422T193734
CREATED:20251030T152456Z
LAST-MODIFIED:20251030T152456Z
UID:10132085-1871197200-1871236800@waverlychurch.org
SUMMARY:Guitar Lessons
DESCRIPTION:ian@cainsmusiclessons.com
URL:https://waverlychurch.org/event/guitar-lessons/2029-04-18/
LOCATION:Frog Room
END:VEVENT
BEGIN:VEVENT
DTSTART;TZID=America/New_York:20290423T090000
DTEND;TZID=America/New_York:20290423T200000
DTSTAMP:20260422T193734
CREATED:20251030T152456Z
LAST-MODIFIED:20251030T152456Z
UID:10132086-1871629200-1871668800@waverlychurch.org
SUMMARY:Guitar Lessons
DESCRIPTION:ian@cainsmusiclessons.com
URL:https://waverlychurch.org/event/guitar-lessons/2029-04-23/
LOCATION:Frog Room
END:VEVENT
BEGIN:VEVENT
DTSTART;TZID=America/New_York:20290425T090000
DTEND;TZID=America/New_York:20290425T200000
DTSTAMP:20260422T193734
CREATED:20251030T152456Z
LAST-MODIFIED:20251030T152456Z
UID:10132087-1871802000-1871841600@waverlychurch.org
SUMMARY:Guitar Lessons
DESCRIPTION:ian@cainsmusiclessons.com
URL:https://waverlychurch.org/event/guitar-lessons/2029-04-25/
LOCATION:Frog Room
END:VEVENT
BEGIN:VEVENT
DTSTART;TZID=America/New_York:20290430T090000
DTEND;TZID=America/New_York:20290430T200000
DTSTAMP:20260422T193734
CREATED:20251030T152456Z
LAST-MODIFIED:20251030T152456Z
UID:10132088-1872234000-1872273600@waverlychurch.org
SUMMARY:Guitar Lessons
DESCRIPTION:ian@cainsmusiclessons.com
URL:https://waverlychurch.org/event/guitar-lessons/2029-04-30/
LOCATION:Frog Room
END:VEVENT
BEGIN:VEVENT
DTSTART;TZID=America/New_York:20290502T090000
DTEND;TZID=America/New_York:20290502T200000
DTSTAMP:20260422T193734
CREATED:20251030T152456Z
LAST-MODIFIED:20251030T152456Z
UID:10132089-1872406800-1872446400@waverlychurch.org
SUMMARY:Guitar Lessons
DESCRIPTION:ian@cainsmusiclessons.com
URL:https://waverlychurch.org/event/guitar-lessons/2029-05-02/
LOCATION:Frog Room
END:VEVENT
BEGIN:VEVENT
DTSTART;TZID=America/New_York:20290507T090000
DTEND;TZID=America/New_York:20290507T200000
DTSTAMP:20260422T193734
CREATED:20251030T152456Z
LAST-MODIFIED:20251030T152456Z
UID:10132090-1872838800-1872878400@waverlychurch.org
SUMMARY:Guitar Lessons
DESCRIPTION:ian@cainsmusiclessons.com
URL:https://waverlychurch.org/event/guitar-lessons/2029-05-07/
LOCATION:Frog Room
END:VEVENT
BEGIN:VEVENT
DTSTART;TZID=America/New_York:20290509T090000
DTEND;TZID=America/New_York:20290509T200000
DTSTAMP:20260422T193734
CREATED:20251030T152456Z
LAST-MODIFIED:20251030T152456Z
UID:10132091-1873011600-1873051200@waverlychurch.org
SUMMARY:Guitar Lessons
DESCRIPTION:ian@cainsmusiclessons.com
URL:https://waverlychurch.org/event/guitar-lessons/2029-05-09/
LOCATION:Frog Room
END:VEVENT
BEGIN:VEVENT
DTSTART;TZID=America/New_York:20290514T090000
DTEND;TZID=America/New_York:20290514T200000
DTSTAMP:20260422T193734
CREATED:20251030T152456Z
LAST-MODIFIED:20251030T152456Z
UID:10132092-1873443600-1873483200@waverlychurch.org
SUMMARY:Guitar Lessons
DESCRIPTION:ian@cainsmusiclessons.com
URL:https://waverlychurch.org/event/guitar-lessons/2029-05-14/
LOCATION:Frog Room
END:VEVENT
BEGIN:VEVENT
DTSTART;TZID=America/New_York:20290516T090000
DTEND;TZID=America/New_York:20290516T200000
DTSTAMP:20260422T193734
CREATED:20251030T152456Z
LAST-MODIFIED:20251030T152456Z
UID:10132093-1873616400-1873656000@waverlychurch.org
SUMMARY:Guitar Lessons
DESCRIPTION:ian@cainsmusiclessons.com
URL:https://waverlychurch.org/event/guitar-lessons/2029-05-16/
LOCATION:Frog Room
END:VEVENT
BEGIN:VEVENT
DTSTART;TZID=America/New_York:20290521T090000
DTEND;TZID=America/New_York:20290521T200000
DTSTAMP:20260422T193734
CREATED:20251030T152456Z
LAST-MODIFIED:20251030T152456Z
UID:10132094-1874048400-1874088000@waverlychurch.org
SUMMARY:Guitar Lessons
DESCRIPTION:ian@cainsmusiclessons.com
URL:https://waverlychurch.org/event/guitar-lessons/2029-05-21/
LOCATION:Frog Room
END:VEVENT
BEGIN:VEVENT
DTSTART;TZID=America/New_York:20290523T090000
DTEND;TZID=America/New_York:20290523T200000
DTSTAMP:20260422T193734
CREATED:20251030T152456Z
LAST-MODIFIED:20251030T152456Z
UID:10132095-1874221200-1874260800@waverlychurch.org
SUMMARY:Guitar Lessons
DESCRIPTION:ian@cainsmusiclessons.com
URL:https://waverlychurch.org/event/guitar-lessons/2029-05-23/
LOCATION:Frog Room
END:VEVENT
BEGIN:VEVENT
DTSTART;TZID=America/New_York:20290528T090000
DTEND;TZID=America/New_York:20290528T200000
DTSTAMP:20260422T193734
CREATED:20251030T152456Z
LAST-MODIFIED:20251030T152456Z
UID:10132096-1874653200-1874692800@waverlychurch.org
SUMMARY:Guitar Lessons
DESCRIPTION:ian@cainsmusiclessons.com
URL:https://waverlychurch.org/event/guitar-lessons/2029-05-28/
LOCATION:Frog Room
END:VEVENT
BEGIN:VEVENT
DTSTART;TZID=America/New_York:20290530T090000
DTEND;TZID=America/New_York:20290530T200000
DTSTAMP:20260422T193734
CREATED:20251030T152456Z
LAST-MODIFIED:20251030T152456Z
UID:10132097-1874826000-1874865600@waverlychurch.org
SUMMARY:Guitar Lessons
DESCRIPTION:ian@cainsmusiclessons.com
URL:https://waverlychurch.org/event/guitar-lessons/2029-05-30/
LOCATION:Frog Room
END:VEVENT
BEGIN:VEVENT
DTSTART;TZID=America/New_York:20290604T090000
DTEND;TZID=America/New_York:20290604T200000
DTSTAMP:20260422T193735
CREATED:20251030T152456Z
LAST-MODIFIED:20251030T152456Z
UID:10132098-1875258000-1875297600@waverlychurch.org
SUMMARY:Guitar Lessons
DESCRIPTION:ian@cainsmusiclessons.com
URL:https://waverlychurch.org/event/guitar-lessons/2029-06-04/
LOCATION:Frog Room
END:VEVENT
BEGIN:VEVENT
DTSTART;TZID=America/New_York:20290606T090000
DTEND;TZID=America/New_York:20290606T200000
DTSTAMP:20260422T193735
CREATED:20251030T152456Z
LAST-MODIFIED:20251030T152456Z
UID:10132099-1875430800-1875470400@waverlychurch.org
SUMMARY:Guitar Lessons
DESCRIPTION:ian@cainsmusiclessons.com
URL:https://waverlychurch.org/event/guitar-lessons/2029-06-06/
LOCATION:Frog Room
END:VEVENT
BEGIN:VEVENT
DTSTART;TZID=America/New_York:20290611T090000
DTEND;TZID=America/New_York:20290611T200000
DTSTAMP:20260422T193735
CREATED:20251030T152456Z
LAST-MODIFIED:20251030T152456Z
UID:10132100-1875862800-1875902400@waverlychurch.org
SUMMARY:Guitar Lessons
DESCRIPTION:ian@cainsmusiclessons.com
URL:https://waverlychurch.org/event/guitar-lessons/2029-06-11/
LOCATION:Frog Room
END:VEVENT
BEGIN:VEVENT
DTSTART;TZID=America/New_York:20290613T090000
DTEND;TZID=America/New_York:20290613T200000
DTSTAMP:20260422T193735
CREATED:20251030T152456Z
LAST-MODIFIED:20251030T152456Z
UID:10132101-1876035600-1876075200@waverlychurch.org
SUMMARY:Guitar Lessons
DESCRIPTION:ian@cainsmusiclessons.com
URL:https://waverlychurch.org/event/guitar-lessons/2029-06-13/
LOCATION:Frog Room
END:VEVENT
BEGIN:VEVENT
DTSTART;TZID=America/New_York:20290618T090000
DTEND;TZID=America/New_York:20290618T200000
DTSTAMP:20260422T193735
CREATED:20251030T152456Z
LAST-MODIFIED:20251030T152456Z
UID:10132102-1876467600-1876507200@waverlychurch.org
SUMMARY:Guitar Lessons
DESCRIPTION:ian@cainsmusiclessons.com
URL:https://waverlychurch.org/event/guitar-lessons/2029-06-18/
LOCATION:Frog Room
END:VEVENT
BEGIN:VEVENT
DTSTART;TZID=America/New_York:20290620T090000
DTEND;TZID=America/New_York:20290620T200000
DTSTAMP:20260422T193735
CREATED:20251030T152456Z
LAST-MODIFIED:20251030T152456Z
UID:10132103-1876640400-1876680000@waverlychurch.org
SUMMARY:Guitar Lessons
DESCRIPTION:ian@cainsmusiclessons.com
URL:https://waverlychurch.org/event/guitar-lessons/2029-06-20/
LOCATION:Frog Room
END:VEVENT
BEGIN:VEVENT
DTSTART;TZID=America/New_York:20290625T090000
DTEND;TZID=America/New_York:20290625T200000
DTSTAMP:20260422T193735
CREATED:20251030T152456Z
LAST-MODIFIED:20251030T152456Z
UID:10132104-1877072400-1877112000@waverlychurch.org
SUMMARY:Guitar Lessons
DESCRIPTION:ian@cainsmusiclessons.com
URL:https://waverlychurch.org/event/guitar-lessons/2029-06-25/
LOCATION:Frog Room
END:VEVENT
BEGIN:VEVENT
DTSTART;TZID=America/New_York:20290627T090000
DTEND;TZID=America/New_York:20290627T200000
DTSTAMP:20260422T193735
CREATED:20251030T152456Z
LAST-MODIFIED:20251030T152456Z
UID:10132105-1877245200-1877284800@waverlychurch.org
SUMMARY:Guitar Lessons
DESCRIPTION:ian@cainsmusiclessons.com
URL:https://waverlychurch.org/event/guitar-lessons/2029-06-27/
LOCATION:Frog Room
END:VEVENT
BEGIN:VEVENT
DTSTART;TZID=America/New_York:20290702T090000
DTEND;TZID=America/New_York:20290702T200000
DTSTAMP:20260422T193735
CREATED:20251030T152456Z
LAST-MODIFIED:20251030T152456Z
UID:10132106-1877677200-1877716800@waverlychurch.org
SUMMARY:Guitar Lessons
DESCRIPTION:ian@cainsmusiclessons.com
URL:https://waverlychurch.org/event/guitar-lessons/2029-07-02/
LOCATION:Frog Room
END:VEVENT
BEGIN:VEVENT
DTSTART;TZID=America/New_York:20290704T090000
DTEND;TZID=America/New_York:20290704T200000
DTSTAMP:20260422T193735
CREATED:20251030T152456Z
LAST-MODIFIED:20251030T152456Z
UID:10132107-1877850000-1877889600@waverlychurch.org
SUMMARY:Guitar Lessons
DESCRIPTION:ian@cainsmusiclessons.com
URL:https://waverlychurch.org/event/guitar-lessons/2029-07-04/
LOCATION:Frog Room
END:VEVENT
BEGIN:VEVENT
DTSTART;TZID=America/New_York:20290709T090000
DTEND;TZID=America/New_York:20290709T200000
DTSTAMP:20260422T193735
CREATED:20251030T152456Z
LAST-MODIFIED:20251030T152456Z
UID:10132108-1878282000-1878321600@waverlychurch.org
SUMMARY:Guitar Lessons
DESCRIPTION:ian@cainsmusiclessons.com
URL:https://waverlychurch.org/event/guitar-lessons/2029-07-09/
LOCATION:Frog Room
END:VEVENT
BEGIN:VEVENT
DTSTART;TZID=America/New_York:20290711T090000
DTEND;TZID=America/New_York:20290711T200000
DTSTAMP:20260422T193735
CREATED:20251030T152456Z
LAST-MODIFIED:20251030T152456Z
UID:10132109-1878454800-1878494400@waverlychurch.org
SUMMARY:Guitar Lessons
DESCRIPTION:ian@cainsmusiclessons.com
URL:https://waverlychurch.org/event/guitar-lessons/2029-07-11/
LOCATION:Frog Room
END:VEVENT
BEGIN:VEVENT
DTSTART;TZID=America/New_York:20290716T090000
DTEND;TZID=America/New_York:20290716T200000
DTSTAMP:20260422T193735
CREATED:20251030T152456Z
LAST-MODIFIED:20251030T152456Z
UID:10132110-1878886800-1878926400@waverlychurch.org
SUMMARY:Guitar Lessons
DESCRIPTION:ian@cainsmusiclessons.com
URL:https://waverlychurch.org/event/guitar-lessons/2029-07-16/
LOCATION:Frog Room
END:VEVENT
BEGIN:VEVENT
DTSTART;TZID=America/New_York:20290718T090000
DTEND;TZID=America/New_York:20290718T200000
DTSTAMP:20260422T193735
CREATED:20251030T152456Z
LAST-MODIFIED:20251030T152456Z
UID:10132111-1879059600-1879099200@waverlychurch.org
SUMMARY:Guitar Lessons
DESCRIPTION:ian@cainsmusiclessons.com
URL:https://waverlychurch.org/event/guitar-lessons/2029-07-18/
LOCATION:Frog Room
END:VEVENT
BEGIN:VEVENT
DTSTART;TZID=America/New_York:20290723T090000
DTEND;TZID=America/New_York:20290723T200000
DTSTAMP:20260422T193735
CREATED:20251030T152456Z
LAST-MODIFIED:20251030T152456Z
UID:10132112-1879491600-1879531200@waverlychurch.org
SUMMARY:Guitar Lessons
DESCRIPTION:ian@cainsmusiclessons.com
URL:https://waverlychurch.org/event/guitar-lessons/2029-07-23/
LOCATION:Frog Room
END:VEVENT
BEGIN:VEVENT
DTSTART;TZID=America/New_York:20290725T090000
DTEND;TZID=America/New_York:20290725T200000
DTSTAMP:20260422T193735
CREATED:20251030T152456Z
LAST-MODIFIED:20251030T152456Z
UID:10132113-1879664400-1879704000@waverlychurch.org
SUMMARY:Guitar Lessons
DESCRIPTION:ian@cainsmusiclessons.com
URL:https://waverlychurch.org/event/guitar-lessons/2029-07-25/
LOCATION:Frog Room
END:VEVENT
BEGIN:VEVENT
DTSTART;TZID=America/New_York:20290730T090000
DTEND;TZID=America/New_York:20290730T200000
DTSTAMP:20260422T193735
CREATED:20251030T152456Z
LAST-MODIFIED:20251030T152456Z
UID:10132114-1880096400-1880136000@waverlychurch.org
SUMMARY:Guitar Lessons
DESCRIPTION:ian@cainsmusiclessons.com
URL:https://waverlychurch.org/event/guitar-lessons/2029-07-30/
LOCATION:Frog Room
END:VEVENT
END:VCALENDAR