BEGIN:VCALENDAR
VERSION:2.0
PRODID:-//Waverly Presbyterian Church - ECPv6.15.20//NONSGML v1.0//EN
CALSCALE:GREGORIAN
METHOD:PUBLISH
X-ORIGINAL-URL:https://waverlychurch.org
X-WR-CALDESC:Events for Waverly Presbyterian Church
REFRESH-INTERVAL;VALUE=DURATION:PT1H
X-Robots-Tag:noindex
X-PUBLISHED-TTL:PT1H
BEGIN:VTIMEZONE
TZID:UTC
BEGIN:STANDARD
TZOFFSETFROM:+0000
TZOFFSETTO:+0000
TZNAME:UTC
DTSTART:20190101T000000
END:STANDARD
END:VTIMEZONE
BEGIN:VEVENT
DTSTART;TZID=UTC:20210828T090000
DTEND;TZID=UTC:20210828T110000
DTSTAMP:20260421T111126
CREATED:20210805T183800Z
LAST-MODIFIED:20210805T183802Z
UID:10003528-1630141200-1630148400@waverlychurch.org
SUMMARY:Cheering on front lawn for Run Around the Square
DESCRIPTION:Help us encourage our neighbors by cheering them on!
URL:https://waverlychurch.org/event/cheering-on-front-lawn-for-run-around-the-square/
LOCATION:Front Lawn
END:VEVENT
BEGIN:VEVENT
DTSTART;TZID=UTC:20200920T130000
DTEND;TZID=UTC:20200920T150000
DTSTAMP:20260421T111126
CREATED:20200905T213422Z
LAST-MODIFIED:20200905T213423Z
UID:10000120-1600606800-1600614000@waverlychurch.org
SUMMARY:Blessing of the Animals
DESCRIPTION:Sunday Sept. 20\, 2020 \nJoin us any time between 1 and 3 pm \n  \nFront steps of \nWaverly Presbyterian Church \n590 S. Braddock Ave. (across from Frick Park) \n  \nQuestions? 412-242-0643; admin@waverlychurch.org \nFollow weather updates on https://www.facebook.com/WaverlyChurch \n  \nStay safe: Mask wearing and social distancing will be followed \nPlease be sure your pet is on a leash or in an enclosure
URL:https://waverlychurch.org/event/blessing-of-the-animals-2/
LOCATION:Front Lawn
END:VEVENT
BEGIN:VEVENT
DTSTART;VALUE=DATE:20200530
DTEND;VALUE=DATE:20200531
DTSTAMP:20260421T111126
CREATED:20200403T003557Z
LAST-MODIFIED:20200403T003938Z
UID:10000079-1590796800-1590883199@waverlychurch.org
SUMMARY:Church Workday
DESCRIPTION:Rescheduled from April 18 due to COVID-19 precautions.
URL:https://waverlychurch.org/event/church-workday/
LOCATION:Front Lawn
END:VEVENT
END:VCALENDAR