BEGIN:VCALENDAR
VERSION:2.0
PRODID:-//Waverly Presbyterian Church - ECPv6.15.20//NONSGML v1.0//EN
CALSCALE:GREGORIAN
METHOD:PUBLISH
X-ORIGINAL-URL:https://waverlychurch.org
X-WR-CALDESC:Events for Waverly Presbyterian Church
REFRESH-INTERVAL;VALUE=DURATION:PT1H
X-Robots-Tag:noindex
X-PUBLISHED-TTL:PT1H
BEGIN:VTIMEZONE
TZID:America/New_York
BEGIN:DAYLIGHT
TZOFFSETFROM:-0500
TZOFFSETTO:-0400
TZNAME:EDT
DTSTART:20260308T070000
END:DAYLIGHT
BEGIN:STANDARD
TZOFFSETFROM:-0400
TZOFFSETTO:-0500
TZNAME:EST
DTSTART:20261101T060000
END:STANDARD
BEGIN:DAYLIGHT
TZOFFSETFROM:-0500
TZOFFSETTO:-0400
TZNAME:EDT
DTSTART:20270314T070000
END:DAYLIGHT
BEGIN:STANDARD
TZOFFSETFROM:-0400
TZOFFSETTO:-0500
TZNAME:EST
DTSTART:20271107T060000
END:STANDARD
BEGIN:DAYLIGHT
TZOFFSETFROM:-0500
TZOFFSETTO:-0400
TZNAME:EDT
DTSTART:20280312T070000
END:DAYLIGHT
BEGIN:STANDARD
TZOFFSETFROM:-0400
TZOFFSETTO:-0500
TZNAME:EST
DTSTART:20281105T060000
END:STANDARD
END:VTIMEZONE
BEGIN:VEVENT
DTSTART;TZID=America/New_York:20270502T121500
DTEND;TZID=America/New_York:20270502T133000
DTSTAMP:20260422T013354
CREATED:20260305T165302Z
LAST-MODIFIED:20260305T170242Z
UID:10006715-1809260100-1809264600@waverlychurch.org
SUMMARY:Coffee Hour
DESCRIPTION:Join us after service weekly for a chance to share fellowship over coffee and snacks
URL:https://waverlychurch.org/event/coffee-hour-3-2-2-2-2-2/2027-05-02/
LOCATION:Lounge
END:VEVENT
BEGIN:VEVENT
DTSTART;TZID=America/New_York:20270506T190000
DTEND;TZID=America/New_York:20270506T203000
DTSTAMP:20260422T013354
CREATED:20251125T183555Z
LAST-MODIFIED:20251125T183747Z
UID:10132408-1809630000-1809635400@waverlychurch.org
SUMMARY:Choir Rehearsal in Lounge
DESCRIPTION:
URL:https://waverlychurch.org/event/choir-rehearsal-in-lounge/2027-05-06/
LOCATION:Lounge
END:VEVENT
BEGIN:VEVENT
DTSTART;TZID=America/New_York:20270509T121500
DTEND;TZID=America/New_York:20270509T133000
DTSTAMP:20260422T013354
CREATED:20260305T165302Z
LAST-MODIFIED:20260305T170242Z
UID:10006716-1809864900-1809869400@waverlychurch.org
SUMMARY:Coffee Hour
DESCRIPTION:Join us after service weekly for a chance to share fellowship over coffee and snacks
URL:https://waverlychurch.org/event/coffee-hour-3-2-2-2-2-2/2027-05-09/
LOCATION:Lounge
END:VEVENT
BEGIN:VEVENT
DTSTART;TZID=America/New_York:20270513T190000
DTEND;TZID=America/New_York:20270513T203000
DTSTAMP:20260422T013354
CREATED:20251125T183555Z
LAST-MODIFIED:20251125T183747Z
UID:10132409-1810234800-1810240200@waverlychurch.org
SUMMARY:Choir Rehearsal in Lounge
DESCRIPTION:
URL:https://waverlychurch.org/event/choir-rehearsal-in-lounge/2027-05-13/
LOCATION:Lounge
END:VEVENT
BEGIN:VEVENT
DTSTART;TZID=America/New_York:20270516T121500
DTEND;TZID=America/New_York:20270516T133000
DTSTAMP:20260422T013354
CREATED:20260305T165302Z
LAST-MODIFIED:20260305T170242Z
UID:10006717-1810469700-1810474200@waverlychurch.org
SUMMARY:Coffee Hour
DESCRIPTION:Join us after service weekly for a chance to share fellowship over coffee and snacks
URL:https://waverlychurch.org/event/coffee-hour-3-2-2-2-2-2/2027-05-16/
LOCATION:Lounge
END:VEVENT
BEGIN:VEVENT
DTSTART;TZID=America/New_York:20270520T190000
DTEND;TZID=America/New_York:20270520T203000
DTSTAMP:20260422T013354
CREATED:20251125T183555Z
LAST-MODIFIED:20251125T183747Z
UID:10132410-1810839600-1810845000@waverlychurch.org
SUMMARY:Choir Rehearsal in Lounge
DESCRIPTION:
URL:https://waverlychurch.org/event/choir-rehearsal-in-lounge/2027-05-20/
LOCATION:Lounge
END:VEVENT
BEGIN:VEVENT
DTSTART;TZID=America/New_York:20270523T121500
DTEND;TZID=America/New_York:20270523T133000
DTSTAMP:20260422T013354
CREATED:20260305T165302Z
LAST-MODIFIED:20260305T170242Z
UID:10006718-1811074500-1811079000@waverlychurch.org
SUMMARY:Coffee Hour
DESCRIPTION:Join us after service weekly for a chance to share fellowship over coffee and snacks
URL:https://waverlychurch.org/event/coffee-hour-3-2-2-2-2-2/2027-05-23/
LOCATION:Lounge
END:VEVENT
BEGIN:VEVENT
DTSTART;TZID=America/New_York:20270527T190000
DTEND;TZID=America/New_York:20270527T203000
DTSTAMP:20260422T013354
CREATED:20251125T183555Z
LAST-MODIFIED:20251125T183747Z
UID:10132411-1811444400-1811449800@waverlychurch.org
SUMMARY:Choir Rehearsal in Lounge
DESCRIPTION:
URL:https://waverlychurch.org/event/choir-rehearsal-in-lounge/2027-05-27/
LOCATION:Lounge
END:VEVENT
BEGIN:VEVENT
DTSTART;TZID=America/New_York:20270530T121500
DTEND;TZID=America/New_York:20270530T133000
DTSTAMP:20260422T013354
CREATED:20260305T165302Z
LAST-MODIFIED:20260305T170242Z
UID:10006719-1811679300-1811683800@waverlychurch.org
SUMMARY:Coffee Hour
DESCRIPTION:Join us after service weekly for a chance to share fellowship over coffee and snacks
URL:https://waverlychurch.org/event/coffee-hour-3-2-2-2-2-2/2027-05-30/
LOCATION:Lounge
END:VEVENT
BEGIN:VEVENT
DTSTART;TZID=America/New_York:20270603T190000
DTEND;TZID=America/New_York:20270603T203000
DTSTAMP:20260422T013354
CREATED:20251125T183555Z
LAST-MODIFIED:20251125T183747Z
UID:10132412-1812049200-1812054600@waverlychurch.org
SUMMARY:Choir Rehearsal in Lounge
DESCRIPTION:
URL:https://waverlychurch.org/event/choir-rehearsal-in-lounge/2027-06-03/
LOCATION:Lounge
END:VEVENT
BEGIN:VEVENT
DTSTART;TZID=America/New_York:20270606T121500
DTEND;TZID=America/New_York:20270606T133000
DTSTAMP:20260422T013354
CREATED:20260305T165302Z
LAST-MODIFIED:20260305T170242Z
UID:10006720-1812284100-1812288600@waverlychurch.org
SUMMARY:Coffee Hour
DESCRIPTION:Join us after service weekly for a chance to share fellowship over coffee and snacks
URL:https://waverlychurch.org/event/coffee-hour-3-2-2-2-2-2/2027-06-06/
LOCATION:Lounge
END:VEVENT
BEGIN:VEVENT
DTSTART;TZID=America/New_York:20270610T190000
DTEND;TZID=America/New_York:20270610T203000
DTSTAMP:20260422T013354
CREATED:20251125T183555Z
LAST-MODIFIED:20251125T183747Z
UID:10132413-1812654000-1812659400@waverlychurch.org
SUMMARY:Choir Rehearsal in Lounge
DESCRIPTION:
URL:https://waverlychurch.org/event/choir-rehearsal-in-lounge/2027-06-10/
LOCATION:Lounge
END:VEVENT
BEGIN:VEVENT
DTSTART;TZID=America/New_York:20270613T121500
DTEND;TZID=America/New_York:20270613T133000
DTSTAMP:20260422T013354
CREATED:20260305T165302Z
LAST-MODIFIED:20260305T170242Z
UID:10006721-1812888900-1812893400@waverlychurch.org
SUMMARY:Coffee Hour
DESCRIPTION:Join us after service weekly for a chance to share fellowship over coffee and snacks
URL:https://waverlychurch.org/event/coffee-hour-3-2-2-2-2-2/2027-06-13/
LOCATION:Lounge
END:VEVENT
BEGIN:VEVENT
DTSTART;TZID=America/New_York:20270617T190000
DTEND;TZID=America/New_York:20270617T203000
DTSTAMP:20260422T013354
CREATED:20251125T183555Z
LAST-MODIFIED:20251125T183747Z
UID:10132414-1813258800-1813264200@waverlychurch.org
SUMMARY:Choir Rehearsal in Lounge
DESCRIPTION:
URL:https://waverlychurch.org/event/choir-rehearsal-in-lounge/2027-06-17/
LOCATION:Lounge
END:VEVENT
BEGIN:VEVENT
DTSTART;TZID=America/New_York:20270620T121500
DTEND;TZID=America/New_York:20270620T133000
DTSTAMP:20260422T013354
CREATED:20260305T165302Z
LAST-MODIFIED:20260305T170242Z
UID:10006722-1813493700-1813498200@waverlychurch.org
SUMMARY:Coffee Hour
DESCRIPTION:Join us after service weekly for a chance to share fellowship over coffee and snacks
URL:https://waverlychurch.org/event/coffee-hour-3-2-2-2-2-2/2027-06-20/
LOCATION:Lounge
END:VEVENT
BEGIN:VEVENT
DTSTART;TZID=America/New_York:20270624T190000
DTEND;TZID=America/New_York:20270624T203000
DTSTAMP:20260422T013354
CREATED:20251125T183555Z
LAST-MODIFIED:20251125T183747Z
UID:10132415-1813863600-1813869000@waverlychurch.org
SUMMARY:Choir Rehearsal in Lounge
DESCRIPTION:
URL:https://waverlychurch.org/event/choir-rehearsal-in-lounge/2027-06-24/
LOCATION:Lounge
END:VEVENT
BEGIN:VEVENT
DTSTART;TZID=America/New_York:20270627T121500
DTEND;TZID=America/New_York:20270627T133000
DTSTAMP:20260422T013354
CREATED:20260305T165302Z
LAST-MODIFIED:20260305T170242Z
UID:10006723-1814098500-1814103000@waverlychurch.org
SUMMARY:Coffee Hour
DESCRIPTION:Join us after service weekly for a chance to share fellowship over coffee and snacks
URL:https://waverlychurch.org/event/coffee-hour-3-2-2-2-2-2/2027-06-27/
LOCATION:Lounge
END:VEVENT
BEGIN:VEVENT
DTSTART;TZID=America/New_York:20270701T190000
DTEND;TZID=America/New_York:20270701T203000
DTSTAMP:20260422T013354
CREATED:20251125T183555Z
LAST-MODIFIED:20251125T183747Z
UID:10132416-1814468400-1814473800@waverlychurch.org
SUMMARY:Choir Rehearsal in Lounge
DESCRIPTION:
URL:https://waverlychurch.org/event/choir-rehearsal-in-lounge/2027-07-01/
LOCATION:Lounge
END:VEVENT
BEGIN:VEVENT
DTSTART;TZID=America/New_York:20270704T121500
DTEND;TZID=America/New_York:20270704T133000
DTSTAMP:20260422T013354
CREATED:20260305T165302Z
LAST-MODIFIED:20260305T170242Z
UID:10006724-1814703300-1814707800@waverlychurch.org
SUMMARY:Coffee Hour
DESCRIPTION:Join us after service weekly for a chance to share fellowship over coffee and snacks
URL:https://waverlychurch.org/event/coffee-hour-3-2-2-2-2-2/2027-07-04/
LOCATION:Lounge
END:VEVENT
BEGIN:VEVENT
DTSTART;TZID=America/New_York:20270708T190000
DTEND;TZID=America/New_York:20270708T203000
DTSTAMP:20260422T013354
CREATED:20251125T183555Z
LAST-MODIFIED:20251125T183747Z
UID:10132417-1815073200-1815078600@waverlychurch.org
SUMMARY:Choir Rehearsal in Lounge
DESCRIPTION:
URL:https://waverlychurch.org/event/choir-rehearsal-in-lounge/2027-07-08/
LOCATION:Lounge
END:VEVENT
BEGIN:VEVENT
DTSTART;TZID=America/New_York:20270711T121500
DTEND;TZID=America/New_York:20270711T133000
DTSTAMP:20260422T013354
CREATED:20260305T165302Z
LAST-MODIFIED:20260305T170242Z
UID:10006725-1815308100-1815312600@waverlychurch.org
SUMMARY:Coffee Hour
DESCRIPTION:Join us after service weekly for a chance to share fellowship over coffee and snacks
URL:https://waverlychurch.org/event/coffee-hour-3-2-2-2-2-2/2027-07-11/
LOCATION:Lounge
END:VEVENT
BEGIN:VEVENT
DTSTART;TZID=America/New_York:20270715T190000
DTEND;TZID=America/New_York:20270715T203000
DTSTAMP:20260422T013354
CREATED:20251125T183555Z
LAST-MODIFIED:20251125T183747Z
UID:10132418-1815678000-1815683400@waverlychurch.org
SUMMARY:Choir Rehearsal in Lounge
DESCRIPTION:
URL:https://waverlychurch.org/event/choir-rehearsal-in-lounge/2027-07-15/
LOCATION:Lounge
END:VEVENT
BEGIN:VEVENT
DTSTART;TZID=America/New_York:20270718T121500
DTEND;TZID=America/New_York:20270718T133000
DTSTAMP:20260422T013354
CREATED:20260305T165302Z
LAST-MODIFIED:20260305T170242Z
UID:10006726-1815912900-1815917400@waverlychurch.org
SUMMARY:Coffee Hour
DESCRIPTION:Join us after service weekly for a chance to share fellowship over coffee and snacks
URL:https://waverlychurch.org/event/coffee-hour-3-2-2-2-2-2/2027-07-18/
LOCATION:Lounge
END:VEVENT
BEGIN:VEVENT
DTSTART;TZID=America/New_York:20270722T190000
DTEND;TZID=America/New_York:20270722T203000
DTSTAMP:20260422T013354
CREATED:20251125T183555Z
LAST-MODIFIED:20251125T183747Z
UID:10132419-1816282800-1816288200@waverlychurch.org
SUMMARY:Choir Rehearsal in Lounge
DESCRIPTION:
URL:https://waverlychurch.org/event/choir-rehearsal-in-lounge/2027-07-22/
LOCATION:Lounge
END:VEVENT
BEGIN:VEVENT
DTSTART;TZID=America/New_York:20270725T121500
DTEND;TZID=America/New_York:20270725T133000
DTSTAMP:20260422T013354
CREATED:20260305T165302Z
LAST-MODIFIED:20260305T170242Z
UID:10006727-1816517700-1816522200@waverlychurch.org
SUMMARY:Coffee Hour
DESCRIPTION:Join us after service weekly for a chance to share fellowship over coffee and snacks
URL:https://waverlychurch.org/event/coffee-hour-3-2-2-2-2-2/2027-07-25/
LOCATION:Lounge
END:VEVENT
BEGIN:VEVENT
DTSTART;TZID=America/New_York:20270729T190000
DTEND;TZID=America/New_York:20270729T203000
DTSTAMP:20260422T013354
CREATED:20251125T183555Z
LAST-MODIFIED:20251125T183747Z
UID:10132420-1816887600-1816893000@waverlychurch.org
SUMMARY:Choir Rehearsal in Lounge
DESCRIPTION:
URL:https://waverlychurch.org/event/choir-rehearsal-in-lounge/2027-07-29/
LOCATION:Lounge
END:VEVENT
BEGIN:VEVENT
DTSTART;TZID=America/New_York:20270801T121500
DTEND;TZID=America/New_York:20270801T133000
DTSTAMP:20260422T013354
CREATED:20260305T165302Z
LAST-MODIFIED:20260305T170242Z
UID:10006728-1817122500-1817127000@waverlychurch.org
SUMMARY:Coffee Hour
DESCRIPTION:Join us after service weekly for a chance to share fellowship over coffee and snacks
URL:https://waverlychurch.org/event/coffee-hour-3-2-2-2-2-2/2027-08-01/
LOCATION:Lounge
END:VEVENT
BEGIN:VEVENT
DTSTART;TZID=America/New_York:20270805T190000
DTEND;TZID=America/New_York:20270805T203000
DTSTAMP:20260422T013354
CREATED:20251125T183555Z
LAST-MODIFIED:20251125T183747Z
UID:10132421-1817492400-1817497800@waverlychurch.org
SUMMARY:Choir Rehearsal in Lounge
DESCRIPTION:
URL:https://waverlychurch.org/event/choir-rehearsal-in-lounge/2027-08-05/
LOCATION:Lounge
END:VEVENT
BEGIN:VEVENT
DTSTART;TZID=America/New_York:20270808T121500
DTEND;TZID=America/New_York:20270808T133000
DTSTAMP:20260422T013354
CREATED:20260305T165302Z
LAST-MODIFIED:20260305T170242Z
UID:10006729-1817727300-1817731800@waverlychurch.org
SUMMARY:Coffee Hour
DESCRIPTION:Join us after service weekly for a chance to share fellowship over coffee and snacks
URL:https://waverlychurch.org/event/coffee-hour-3-2-2-2-2-2/2027-08-08/
LOCATION:Lounge
END:VEVENT
BEGIN:VEVENT
DTSTART;TZID=America/New_York:20270812T190000
DTEND;TZID=America/New_York:20270812T203000
DTSTAMP:20260422T013354
CREATED:20251125T183555Z
LAST-MODIFIED:20251125T183747Z
UID:10132422-1818097200-1818102600@waverlychurch.org
SUMMARY:Choir Rehearsal in Lounge
DESCRIPTION:
URL:https://waverlychurch.org/event/choir-rehearsal-in-lounge/2027-08-12/
LOCATION:Lounge
END:VEVENT
END:VCALENDAR