BEGIN:VCALENDAR
VERSION:2.0
PRODID:-//Waverly Presbyterian Church - ECPv6.15.20//NONSGML v1.0//EN
CALSCALE:GREGORIAN
METHOD:PUBLISH
X-ORIGINAL-URL:https://waverlychurch.org
X-WR-CALDESC:Events for Waverly Presbyterian Church
REFRESH-INTERVAL;VALUE=DURATION:PT1H
X-Robots-Tag:noindex
X-PUBLISHED-TTL:PT1H
BEGIN:VTIMEZONE
TZID:America/New_York
BEGIN:DAYLIGHT
TZOFFSETFROM:-0500
TZOFFSETTO:-0400
TZNAME:EDT
DTSTART:20260308T070000
END:DAYLIGHT
BEGIN:STANDARD
TZOFFSETFROM:-0400
TZOFFSETTO:-0500
TZNAME:EST
DTSTART:20261101T060000
END:STANDARD
BEGIN:DAYLIGHT
TZOFFSETFROM:-0500
TZOFFSETTO:-0400
TZNAME:EDT
DTSTART:20270314T070000
END:DAYLIGHT
BEGIN:STANDARD
TZOFFSETFROM:-0400
TZOFFSETTO:-0500
TZNAME:EST
DTSTART:20271107T060000
END:STANDARD
BEGIN:DAYLIGHT
TZOFFSETFROM:-0500
TZOFFSETTO:-0400
TZNAME:EDT
DTSTART:20280312T070000
END:DAYLIGHT
BEGIN:STANDARD
TZOFFSETFROM:-0400
TZOFFSETTO:-0500
TZNAME:EST
DTSTART:20281105T060000
END:STANDARD
END:VTIMEZONE
BEGIN:VEVENT
DTSTART;TZID=America/New_York:20270725T121500
DTEND;TZID=America/New_York:20270725T133000
DTSTAMP:20260422T063801
CREATED:20260305T165302Z
LAST-MODIFIED:20260305T170242Z
UID:10006727-1816517700-1816522200@waverlychurch.org
SUMMARY:Coffee Hour
DESCRIPTION:Join us after service weekly for a chance to share fellowship over coffee and snacks
URL:https://waverlychurch.org/event/coffee-hour-3-2-2-2-2-2/2027-07-25/
LOCATION:Lounge
END:VEVENT
BEGIN:VEVENT
DTSTART;TZID=America/New_York:20270729T190000
DTEND;TZID=America/New_York:20270729T203000
DTSTAMP:20260422T063801
CREATED:20251125T183555Z
LAST-MODIFIED:20251125T183747Z
UID:10132420-1816887600-1816893000@waverlychurch.org
SUMMARY:Choir Rehearsal in Lounge
DESCRIPTION:
URL:https://waverlychurch.org/event/choir-rehearsal-in-lounge/2027-07-29/
LOCATION:Lounge
END:VEVENT
BEGIN:VEVENT
DTSTART;TZID=America/New_York:20270801T121500
DTEND;TZID=America/New_York:20270801T133000
DTSTAMP:20260422T063801
CREATED:20260305T165302Z
LAST-MODIFIED:20260305T170242Z
UID:10006728-1817122500-1817127000@waverlychurch.org
SUMMARY:Coffee Hour
DESCRIPTION:Join us after service weekly for a chance to share fellowship over coffee and snacks
URL:https://waverlychurch.org/event/coffee-hour-3-2-2-2-2-2/2027-08-01/
LOCATION:Lounge
END:VEVENT
BEGIN:VEVENT
DTSTART;TZID=America/New_York:20270805T190000
DTEND;TZID=America/New_York:20270805T203000
DTSTAMP:20260422T063801
CREATED:20251125T183555Z
LAST-MODIFIED:20251125T183747Z
UID:10132421-1817492400-1817497800@waverlychurch.org
SUMMARY:Choir Rehearsal in Lounge
DESCRIPTION:
URL:https://waverlychurch.org/event/choir-rehearsal-in-lounge/2027-08-05/
LOCATION:Lounge
END:VEVENT
BEGIN:VEVENT
DTSTART;TZID=America/New_York:20270808T121500
DTEND;TZID=America/New_York:20270808T133000
DTSTAMP:20260422T063801
CREATED:20260305T165302Z
LAST-MODIFIED:20260305T170242Z
UID:10006729-1817727300-1817731800@waverlychurch.org
SUMMARY:Coffee Hour
DESCRIPTION:Join us after service weekly for a chance to share fellowship over coffee and snacks
URL:https://waverlychurch.org/event/coffee-hour-3-2-2-2-2-2/2027-08-08/
LOCATION:Lounge
END:VEVENT
BEGIN:VEVENT
DTSTART;TZID=America/New_York:20270812T190000
DTEND;TZID=America/New_York:20270812T203000
DTSTAMP:20260422T063801
CREATED:20251125T183555Z
LAST-MODIFIED:20251125T183747Z
UID:10132422-1818097200-1818102600@waverlychurch.org
SUMMARY:Choir Rehearsal in Lounge
DESCRIPTION:
URL:https://waverlychurch.org/event/choir-rehearsal-in-lounge/2027-08-12/
LOCATION:Lounge
END:VEVENT
BEGIN:VEVENT
DTSTART;TZID=America/New_York:20270815T121500
DTEND;TZID=America/New_York:20270815T133000
DTSTAMP:20260422T063801
CREATED:20260305T165302Z
LAST-MODIFIED:20260305T170242Z
UID:10006730-1818332100-1818336600@waverlychurch.org
SUMMARY:Coffee Hour
DESCRIPTION:Join us after service weekly for a chance to share fellowship over coffee and snacks
URL:https://waverlychurch.org/event/coffee-hour-3-2-2-2-2-2/2027-08-15/
LOCATION:Lounge
END:VEVENT
BEGIN:VEVENT
DTSTART;TZID=America/New_York:20270819T190000
DTEND;TZID=America/New_York:20270819T203000
DTSTAMP:20260422T063801
CREATED:20251125T183555Z
LAST-MODIFIED:20251125T183747Z
UID:10132423-1818702000-1818707400@waverlychurch.org
SUMMARY:Choir Rehearsal in Lounge
DESCRIPTION:
URL:https://waverlychurch.org/event/choir-rehearsal-in-lounge/2027-08-19/
LOCATION:Lounge
END:VEVENT
BEGIN:VEVENT
DTSTART;TZID=America/New_York:20270822T121500
DTEND;TZID=America/New_York:20270822T133000
DTSTAMP:20260422T063801
CREATED:20260305T165302Z
LAST-MODIFIED:20260305T170242Z
UID:10006731-1818936900-1818941400@waverlychurch.org
SUMMARY:Coffee Hour
DESCRIPTION:Join us after service weekly for a chance to share fellowship over coffee and snacks
URL:https://waverlychurch.org/event/coffee-hour-3-2-2-2-2-2/2027-08-22/
LOCATION:Lounge
END:VEVENT
BEGIN:VEVENT
DTSTART;TZID=America/New_York:20270826T190000
DTEND;TZID=America/New_York:20270826T203000
DTSTAMP:20260422T063801
CREATED:20251125T183555Z
LAST-MODIFIED:20251125T183747Z
UID:10132424-1819306800-1819312200@waverlychurch.org
SUMMARY:Choir Rehearsal in Lounge
DESCRIPTION:
URL:https://waverlychurch.org/event/choir-rehearsal-in-lounge/2027-08-26/
LOCATION:Lounge
END:VEVENT
BEGIN:VEVENT
DTSTART;TZID=America/New_York:20270829T121500
DTEND;TZID=America/New_York:20270829T133000
DTSTAMP:20260422T063801
CREATED:20260305T165302Z
LAST-MODIFIED:20260305T170242Z
UID:10006732-1819541700-1819546200@waverlychurch.org
SUMMARY:Coffee Hour
DESCRIPTION:Join us after service weekly for a chance to share fellowship over coffee and snacks
URL:https://waverlychurch.org/event/coffee-hour-3-2-2-2-2-2/2027-08-29/
LOCATION:Lounge
END:VEVENT
BEGIN:VEVENT
DTSTART;TZID=America/New_York:20270902T190000
DTEND;TZID=America/New_York:20270902T203000
DTSTAMP:20260422T063801
CREATED:20251125T183555Z
LAST-MODIFIED:20251125T183747Z
UID:10132425-1819911600-1819917000@waverlychurch.org
SUMMARY:Choir Rehearsal in Lounge
DESCRIPTION:
URL:https://waverlychurch.org/event/choir-rehearsal-in-lounge/2027-09-02/
LOCATION:Lounge
END:VEVENT
BEGIN:VEVENT
DTSTART;TZID=America/New_York:20270905T121500
DTEND;TZID=America/New_York:20270905T133000
DTSTAMP:20260422T063801
CREATED:20260305T165302Z
LAST-MODIFIED:20260305T170242Z
UID:10006733-1820146500-1820151000@waverlychurch.org
SUMMARY:Coffee Hour
DESCRIPTION:Join us after service weekly for a chance to share fellowship over coffee and snacks
URL:https://waverlychurch.org/event/coffee-hour-3-2-2-2-2-2/2027-09-05/
LOCATION:Lounge
END:VEVENT
BEGIN:VEVENT
DTSTART;TZID=America/New_York:20270909T190000
DTEND;TZID=America/New_York:20270909T203000
DTSTAMP:20260422T063801
CREATED:20251125T183555Z
LAST-MODIFIED:20251125T183747Z
UID:10132426-1820516400-1820521800@waverlychurch.org
SUMMARY:Choir Rehearsal in Lounge
DESCRIPTION:
URL:https://waverlychurch.org/event/choir-rehearsal-in-lounge/2027-09-09/
LOCATION:Lounge
END:VEVENT
BEGIN:VEVENT
DTSTART;TZID=America/New_York:20270912T121500
DTEND;TZID=America/New_York:20270912T133000
DTSTAMP:20260422T063801
CREATED:20260305T165302Z
LAST-MODIFIED:20260305T170242Z
UID:10006734-1820751300-1820755800@waverlychurch.org
SUMMARY:Coffee Hour
DESCRIPTION:Join us after service weekly for a chance to share fellowship over coffee and snacks
URL:https://waverlychurch.org/event/coffee-hour-3-2-2-2-2-2/2027-09-12/
LOCATION:Lounge
END:VEVENT
BEGIN:VEVENT
DTSTART;TZID=America/New_York:20270916T190000
DTEND;TZID=America/New_York:20270916T203000
DTSTAMP:20260422T063801
CREATED:20251125T183555Z
LAST-MODIFIED:20251125T183747Z
UID:10132427-1821121200-1821126600@waverlychurch.org
SUMMARY:Choir Rehearsal in Lounge
DESCRIPTION:
URL:https://waverlychurch.org/event/choir-rehearsal-in-lounge/2027-09-16/
LOCATION:Lounge
END:VEVENT
BEGIN:VEVENT
DTSTART;TZID=America/New_York:20270919T121500
DTEND;TZID=America/New_York:20270919T133000
DTSTAMP:20260422T063801
CREATED:20260305T165302Z
LAST-MODIFIED:20260305T170242Z
UID:10006735-1821356100-1821360600@waverlychurch.org
SUMMARY:Coffee Hour
DESCRIPTION:Join us after service weekly for a chance to share fellowship over coffee and snacks
URL:https://waverlychurch.org/event/coffee-hour-3-2-2-2-2-2/2027-09-19/
LOCATION:Lounge
END:VEVENT
BEGIN:VEVENT
DTSTART;TZID=America/New_York:20270923T190000
DTEND;TZID=America/New_York:20270923T203000
DTSTAMP:20260422T063801
CREATED:20251125T183555Z
LAST-MODIFIED:20251125T183747Z
UID:10132428-1821726000-1821731400@waverlychurch.org
SUMMARY:Choir Rehearsal in Lounge
DESCRIPTION:
URL:https://waverlychurch.org/event/choir-rehearsal-in-lounge/2027-09-23/
LOCATION:Lounge
END:VEVENT
BEGIN:VEVENT
DTSTART;TZID=America/New_York:20270926T121500
DTEND;TZID=America/New_York:20270926T133000
DTSTAMP:20260422T063801
CREATED:20260305T165302Z
LAST-MODIFIED:20260305T170242Z
UID:10006736-1821960900-1821965400@waverlychurch.org
SUMMARY:Coffee Hour
DESCRIPTION:Join us after service weekly for a chance to share fellowship over coffee and snacks
URL:https://waverlychurch.org/event/coffee-hour-3-2-2-2-2-2/2027-09-26/
LOCATION:Lounge
END:VEVENT
BEGIN:VEVENT
DTSTART;TZID=America/New_York:20270930T190000
DTEND;TZID=America/New_York:20270930T203000
DTSTAMP:20260422T063801
CREATED:20251125T183555Z
LAST-MODIFIED:20251125T183747Z
UID:10132429-1822330800-1822336200@waverlychurch.org
SUMMARY:Choir Rehearsal in Lounge
DESCRIPTION:
URL:https://waverlychurch.org/event/choir-rehearsal-in-lounge/2027-09-30/
LOCATION:Lounge
END:VEVENT
BEGIN:VEVENT
DTSTART;TZID=America/New_York:20271003T121500
DTEND;TZID=America/New_York:20271003T133000
DTSTAMP:20260422T063802
CREATED:20260305T165302Z
LAST-MODIFIED:20260305T170242Z
UID:10006737-1822565700-1822570200@waverlychurch.org
SUMMARY:Coffee Hour
DESCRIPTION:Join us after service weekly for a chance to share fellowship over coffee and snacks
URL:https://waverlychurch.org/event/coffee-hour-3-2-2-2-2-2/2027-10-03/
LOCATION:Lounge
END:VEVENT
BEGIN:VEVENT
DTSTART;TZID=America/New_York:20271007T190000
DTEND;TZID=America/New_York:20271007T203000
DTSTAMP:20260422T063802
CREATED:20251125T183555Z
LAST-MODIFIED:20251125T183747Z
UID:10132430-1822935600-1822941000@waverlychurch.org
SUMMARY:Choir Rehearsal in Lounge
DESCRIPTION:
URL:https://waverlychurch.org/event/choir-rehearsal-in-lounge/2027-10-07/
LOCATION:Lounge
END:VEVENT
BEGIN:VEVENT
DTSTART;TZID=America/New_York:20271010T121500
DTEND;TZID=America/New_York:20271010T133000
DTSTAMP:20260422T063802
CREATED:20260305T165302Z
LAST-MODIFIED:20260305T170242Z
UID:10006738-1823170500-1823175000@waverlychurch.org
SUMMARY:Coffee Hour
DESCRIPTION:Join us after service weekly for a chance to share fellowship over coffee and snacks
URL:https://waverlychurch.org/event/coffee-hour-3-2-2-2-2-2/2027-10-10/
LOCATION:Lounge
END:VEVENT
BEGIN:VEVENT
DTSTART;TZID=America/New_York:20271014T190000
DTEND;TZID=America/New_York:20271014T203000
DTSTAMP:20260422T063802
CREATED:20251125T183555Z
LAST-MODIFIED:20251125T183747Z
UID:10132431-1823540400-1823545800@waverlychurch.org
SUMMARY:Choir Rehearsal in Lounge
DESCRIPTION:
URL:https://waverlychurch.org/event/choir-rehearsal-in-lounge/2027-10-14/
LOCATION:Lounge
END:VEVENT
BEGIN:VEVENT
DTSTART;TZID=America/New_York:20271017T121500
DTEND;TZID=America/New_York:20271017T133000
DTSTAMP:20260422T063802
CREATED:20260305T165302Z
LAST-MODIFIED:20260305T170242Z
UID:10006739-1823775300-1823779800@waverlychurch.org
SUMMARY:Coffee Hour
DESCRIPTION:Join us after service weekly for a chance to share fellowship over coffee and snacks
URL:https://waverlychurch.org/event/coffee-hour-3-2-2-2-2-2/2027-10-17/
LOCATION:Lounge
END:VEVENT
BEGIN:VEVENT
DTSTART;TZID=America/New_York:20271021T190000
DTEND;TZID=America/New_York:20271021T203000
DTSTAMP:20260422T063802
CREATED:20251125T183555Z
LAST-MODIFIED:20251125T183747Z
UID:10132432-1824145200-1824150600@waverlychurch.org
SUMMARY:Choir Rehearsal in Lounge
DESCRIPTION:
URL:https://waverlychurch.org/event/choir-rehearsal-in-lounge/2027-10-21/
LOCATION:Lounge
END:VEVENT
BEGIN:VEVENT
DTSTART;TZID=America/New_York:20271024T121500
DTEND;TZID=America/New_York:20271024T133000
DTSTAMP:20260422T063802
CREATED:20260305T165302Z
LAST-MODIFIED:20260305T170242Z
UID:10006740-1824380100-1824384600@waverlychurch.org
SUMMARY:Coffee Hour
DESCRIPTION:Join us after service weekly for a chance to share fellowship over coffee and snacks
URL:https://waverlychurch.org/event/coffee-hour-3-2-2-2-2-2/2027-10-24/
LOCATION:Lounge
END:VEVENT
BEGIN:VEVENT
DTSTART;TZID=America/New_York:20271028T190000
DTEND;TZID=America/New_York:20271028T203000
DTSTAMP:20260422T063802
CREATED:20251125T183555Z
LAST-MODIFIED:20251125T183747Z
UID:10132433-1824750000-1824755400@waverlychurch.org
SUMMARY:Choir Rehearsal in Lounge
DESCRIPTION:
URL:https://waverlychurch.org/event/choir-rehearsal-in-lounge/2027-10-28/
LOCATION:Lounge
END:VEVENT
BEGIN:VEVENT
DTSTART;TZID=America/New_York:20271031T121500
DTEND;TZID=America/New_York:20271031T133000
DTSTAMP:20260422T063802
CREATED:20260305T165302Z
LAST-MODIFIED:20260305T170242Z
UID:10006741-1824984900-1824989400@waverlychurch.org
SUMMARY:Coffee Hour
DESCRIPTION:Join us after service weekly for a chance to share fellowship over coffee and snacks
URL:https://waverlychurch.org/event/coffee-hour-3-2-2-2-2-2/2027-10-31/
LOCATION:Lounge
END:VEVENT
BEGIN:VEVENT
DTSTART;TZID=America/New_York:20271104T190000
DTEND;TZID=America/New_York:20271104T203000
DTSTAMP:20260422T063802
CREATED:20251125T183555Z
LAST-MODIFIED:20251125T183747Z
UID:10132434-1825354800-1825360200@waverlychurch.org
SUMMARY:Choir Rehearsal in Lounge
DESCRIPTION:
URL:https://waverlychurch.org/event/choir-rehearsal-in-lounge/2027-11-04/
LOCATION:Lounge
END:VEVENT
END:VCALENDAR