BEGIN:VCALENDAR
VERSION:2.0
PRODID:-//Waverly Presbyterian Church - ECPv6.15.20//NONSGML v1.0//EN
CALSCALE:GREGORIAN
METHOD:PUBLISH
X-ORIGINAL-URL:https://waverlychurch.org
X-WR-CALDESC:Events for Waverly Presbyterian Church
REFRESH-INTERVAL;VALUE=DURATION:PT1H
X-Robots-Tag:noindex
X-PUBLISHED-TTL:PT1H
BEGIN:VTIMEZONE
TZID:America/New_York
BEGIN:DAYLIGHT
TZOFFSETFROM:-0500
TZOFFSETTO:-0400
TZNAME:EDT
DTSTART:20250309T070000
END:DAYLIGHT
BEGIN:STANDARD
TZOFFSETFROM:-0400
TZOFFSETTO:-0500
TZNAME:EST
DTSTART:20251102T060000
END:STANDARD
BEGIN:DAYLIGHT
TZOFFSETFROM:-0500
TZOFFSETTO:-0400
TZNAME:EDT
DTSTART:20260308T070000
END:DAYLIGHT
BEGIN:STANDARD
TZOFFSETFROM:-0400
TZOFFSETTO:-0500
TZNAME:EST
DTSTART:20261101T060000
END:STANDARD
BEGIN:DAYLIGHT
TZOFFSETFROM:-0500
TZOFFSETTO:-0400
TZNAME:EDT
DTSTART:20270314T070000
END:DAYLIGHT
BEGIN:STANDARD
TZOFFSETFROM:-0400
TZOFFSETTO:-0500
TZNAME:EST
DTSTART:20271107T060000
END:STANDARD
BEGIN:DAYLIGHT
TZOFFSETFROM:-0500
TZOFFSETTO:-0400
TZNAME:EDT
DTSTART:20280312T070000
END:DAYLIGHT
BEGIN:STANDARD
TZOFFSETFROM:-0400
TZOFFSETTO:-0500
TZNAME:EST
DTSTART:20281105T060000
END:STANDARD
END:VTIMEZONE
BEGIN:VEVENT
DTSTART;TZID=America/New_York:20261227T121500
DTEND;TZID=America/New_York:20261227T133000
DTSTAMP:20260421T091923
CREATED:20260305T165302Z
LAST-MODIFIED:20260305T170242Z
UID:10006697-1798373700-1798378200@waverlychurch.org
SUMMARY:Coffee Hour
DESCRIPTION:Join us after service weekly for a chance to share fellowship over coffee and snacks
URL:https://waverlychurch.org/event/coffee-hour-3-2-2-2-2-2/2026-12-27/
LOCATION:Lounge
END:VEVENT
BEGIN:VEVENT
DTSTART;TZID=America/New_York:20261231T190000
DTEND;TZID=America/New_York:20261231T203000
DTSTAMP:20260421T091923
CREATED:20251125T183555Z
LAST-MODIFIED:20251125T183747Z
UID:10132390-1798743600-1798749000@waverlychurch.org
SUMMARY:Choir Rehearsal in Lounge
DESCRIPTION:
URL:https://waverlychurch.org/event/choir-rehearsal-in-lounge/2026-12-31/
LOCATION:Lounge
END:VEVENT
BEGIN:VEVENT
DTSTART;TZID=America/New_York:20270103T121500
DTEND;TZID=America/New_York:20270103T133000
DTSTAMP:20260421T091923
CREATED:20260305T165302Z
LAST-MODIFIED:20260305T170242Z
UID:10006698-1798978500-1798983000@waverlychurch.org
SUMMARY:Coffee Hour
DESCRIPTION:Join us after service weekly for a chance to share fellowship over coffee and snacks
URL:https://waverlychurch.org/event/coffee-hour-3-2-2-2-2-2/2027-01-03/
LOCATION:Lounge
END:VEVENT
BEGIN:VEVENT
DTSTART;TZID=America/New_York:20270107T190000
DTEND;TZID=America/New_York:20270107T203000
DTSTAMP:20260421T091923
CREATED:20251125T183555Z
LAST-MODIFIED:20251125T183747Z
UID:10132391-1799348400-1799353800@waverlychurch.org
SUMMARY:Choir Rehearsal in Lounge
DESCRIPTION:
URL:https://waverlychurch.org/event/choir-rehearsal-in-lounge/2027-01-07/
LOCATION:Lounge
END:VEVENT
BEGIN:VEVENT
DTSTART;TZID=America/New_York:20270110T121500
DTEND;TZID=America/New_York:20270110T133000
DTSTAMP:20260421T091923
CREATED:20260305T165302Z
LAST-MODIFIED:20260305T170242Z
UID:10006699-1799583300-1799587800@waverlychurch.org
SUMMARY:Coffee Hour
DESCRIPTION:Join us after service weekly for a chance to share fellowship over coffee and snacks
URL:https://waverlychurch.org/event/coffee-hour-3-2-2-2-2-2/2027-01-10/
LOCATION:Lounge
END:VEVENT
BEGIN:VEVENT
DTSTART;TZID=America/New_York:20270114T190000
DTEND;TZID=America/New_York:20270114T203000
DTSTAMP:20260421T091923
CREATED:20251125T183555Z
LAST-MODIFIED:20251125T183747Z
UID:10132392-1799953200-1799958600@waverlychurch.org
SUMMARY:Choir Rehearsal in Lounge
DESCRIPTION:
URL:https://waverlychurch.org/event/choir-rehearsal-in-lounge/2027-01-14/
LOCATION:Lounge
END:VEVENT
BEGIN:VEVENT
DTSTART;TZID=America/New_York:20270117T121500
DTEND;TZID=America/New_York:20270117T133000
DTSTAMP:20260421T091923
CREATED:20260305T165302Z
LAST-MODIFIED:20260305T170242Z
UID:10006700-1800188100-1800192600@waverlychurch.org
SUMMARY:Coffee Hour
DESCRIPTION:Join us after service weekly for a chance to share fellowship over coffee and snacks
URL:https://waverlychurch.org/event/coffee-hour-3-2-2-2-2-2/2027-01-17/
LOCATION:Lounge
END:VEVENT
BEGIN:VEVENT
DTSTART;TZID=America/New_York:20270121T190000
DTEND;TZID=America/New_York:20270121T203000
DTSTAMP:20260421T091923
CREATED:20251125T183555Z
LAST-MODIFIED:20251125T183747Z
UID:10132393-1800558000-1800563400@waverlychurch.org
SUMMARY:Choir Rehearsal in Lounge
DESCRIPTION:
URL:https://waverlychurch.org/event/choir-rehearsal-in-lounge/2027-01-21/
LOCATION:Lounge
END:VEVENT
BEGIN:VEVENT
DTSTART;TZID=America/New_York:20270124T121500
DTEND;TZID=America/New_York:20270124T133000
DTSTAMP:20260421T091923
CREATED:20260305T165302Z
LAST-MODIFIED:20260305T170242Z
UID:10006701-1800792900-1800797400@waverlychurch.org
SUMMARY:Coffee Hour
DESCRIPTION:Join us after service weekly for a chance to share fellowship over coffee and snacks
URL:https://waverlychurch.org/event/coffee-hour-3-2-2-2-2-2/2027-01-24/
LOCATION:Lounge
END:VEVENT
BEGIN:VEVENT
DTSTART;TZID=America/New_York:20270128T190000
DTEND;TZID=America/New_York:20270128T203000
DTSTAMP:20260421T091923
CREATED:20251125T183555Z
LAST-MODIFIED:20251125T183747Z
UID:10132394-1801162800-1801168200@waverlychurch.org
SUMMARY:Choir Rehearsal in Lounge
DESCRIPTION:
URL:https://waverlychurch.org/event/choir-rehearsal-in-lounge/2027-01-28/
LOCATION:Lounge
END:VEVENT
BEGIN:VEVENT
DTSTART;TZID=America/New_York:20270131T121500
DTEND;TZID=America/New_York:20270131T133000
DTSTAMP:20260421T091923
CREATED:20260305T165302Z
LAST-MODIFIED:20260305T170242Z
UID:10006702-1801397700-1801402200@waverlychurch.org
SUMMARY:Coffee Hour
DESCRIPTION:Join us after service weekly for a chance to share fellowship over coffee and snacks
URL:https://waverlychurch.org/event/coffee-hour-3-2-2-2-2-2/2027-01-31/
LOCATION:Lounge
END:VEVENT
BEGIN:VEVENT
DTSTART;TZID=America/New_York:20270204T190000
DTEND;TZID=America/New_York:20270204T203000
DTSTAMP:20260421T091923
CREATED:20251125T183555Z
LAST-MODIFIED:20251125T183747Z
UID:10132395-1801767600-1801773000@waverlychurch.org
SUMMARY:Choir Rehearsal in Lounge
DESCRIPTION:
URL:https://waverlychurch.org/event/choir-rehearsal-in-lounge/2027-02-04/
LOCATION:Lounge
END:VEVENT
BEGIN:VEVENT
DTSTART;TZID=America/New_York:20270207T121500
DTEND;TZID=America/New_York:20270207T133000
DTSTAMP:20260421T091923
CREATED:20260305T165302Z
LAST-MODIFIED:20260305T170242Z
UID:10006703-1802002500-1802007000@waverlychurch.org
SUMMARY:Coffee Hour
DESCRIPTION:Join us after service weekly for a chance to share fellowship over coffee and snacks
URL:https://waverlychurch.org/event/coffee-hour-3-2-2-2-2-2/2027-02-07/
LOCATION:Lounge
END:VEVENT
BEGIN:VEVENT
DTSTART;TZID=America/New_York:20270211T190000
DTEND;TZID=America/New_York:20270211T203000
DTSTAMP:20260421T091923
CREATED:20251125T183555Z
LAST-MODIFIED:20251125T183747Z
UID:10132396-1802372400-1802377800@waverlychurch.org
SUMMARY:Choir Rehearsal in Lounge
DESCRIPTION:
URL:https://waverlychurch.org/event/choir-rehearsal-in-lounge/2027-02-11/
LOCATION:Lounge
END:VEVENT
BEGIN:VEVENT
DTSTART;TZID=America/New_York:20270214T121500
DTEND;TZID=America/New_York:20270214T133000
DTSTAMP:20260421T091923
CREATED:20260305T165302Z
LAST-MODIFIED:20260305T170242Z
UID:10006704-1802607300-1802611800@waverlychurch.org
SUMMARY:Coffee Hour
DESCRIPTION:Join us after service weekly for a chance to share fellowship over coffee and snacks
URL:https://waverlychurch.org/event/coffee-hour-3-2-2-2-2-2/2027-02-14/
LOCATION:Lounge
END:VEVENT
BEGIN:VEVENT
DTSTART;TZID=America/New_York:20270218T190000
DTEND;TZID=America/New_York:20270218T203000
DTSTAMP:20260421T091923
CREATED:20251125T183555Z
LAST-MODIFIED:20251125T183747Z
UID:10132397-1802977200-1802982600@waverlychurch.org
SUMMARY:Choir Rehearsal in Lounge
DESCRIPTION:
URL:https://waverlychurch.org/event/choir-rehearsal-in-lounge/2027-02-18/
LOCATION:Lounge
END:VEVENT
BEGIN:VEVENT
DTSTART;TZID=America/New_York:20270221T121500
DTEND;TZID=America/New_York:20270221T133000
DTSTAMP:20260421T091923
CREATED:20260305T165302Z
LAST-MODIFIED:20260305T170242Z
UID:10006705-1803212100-1803216600@waverlychurch.org
SUMMARY:Coffee Hour
DESCRIPTION:Join us after service weekly for a chance to share fellowship over coffee and snacks
URL:https://waverlychurch.org/event/coffee-hour-3-2-2-2-2-2/2027-02-21/
LOCATION:Lounge
END:VEVENT
BEGIN:VEVENT
DTSTART;TZID=America/New_York:20270225T190000
DTEND;TZID=America/New_York:20270225T203000
DTSTAMP:20260421T091923
CREATED:20251125T183555Z
LAST-MODIFIED:20251125T183747Z
UID:10132398-1803582000-1803587400@waverlychurch.org
SUMMARY:Choir Rehearsal in Lounge
DESCRIPTION:
URL:https://waverlychurch.org/event/choir-rehearsal-in-lounge/2027-02-25/
LOCATION:Lounge
END:VEVENT
BEGIN:VEVENT
DTSTART;TZID=America/New_York:20270228T121500
DTEND;TZID=America/New_York:20270228T133000
DTSTAMP:20260421T091923
CREATED:20260305T165302Z
LAST-MODIFIED:20260305T170242Z
UID:10006706-1803816900-1803821400@waverlychurch.org
SUMMARY:Coffee Hour
DESCRIPTION:Join us after service weekly for a chance to share fellowship over coffee and snacks
URL:https://waverlychurch.org/event/coffee-hour-3-2-2-2-2-2/2027-02-28/
LOCATION:Lounge
END:VEVENT
BEGIN:VEVENT
DTSTART;TZID=America/New_York:20270304T190000
DTEND;TZID=America/New_York:20270304T203000
DTSTAMP:20260421T091923
CREATED:20251125T183555Z
LAST-MODIFIED:20251125T183747Z
UID:10132399-1804186800-1804192200@waverlychurch.org
SUMMARY:Choir Rehearsal in Lounge
DESCRIPTION:
URL:https://waverlychurch.org/event/choir-rehearsal-in-lounge/2027-03-04/
LOCATION:Lounge
END:VEVENT
BEGIN:VEVENT
DTSTART;TZID=America/New_York:20270307T121500
DTEND;TZID=America/New_York:20270307T133000
DTSTAMP:20260421T091923
CREATED:20260305T165302Z
LAST-MODIFIED:20260305T170242Z
UID:10006707-1804421700-1804426200@waverlychurch.org
SUMMARY:Coffee Hour
DESCRIPTION:Join us after service weekly for a chance to share fellowship over coffee and snacks
URL:https://waverlychurch.org/event/coffee-hour-3-2-2-2-2-2/2027-03-07/
LOCATION:Lounge
END:VEVENT
BEGIN:VEVENT
DTSTART;TZID=America/New_York:20270311T190000
DTEND;TZID=America/New_York:20270311T203000
DTSTAMP:20260421T091923
CREATED:20251125T183555Z
LAST-MODIFIED:20251125T183747Z
UID:10132400-1804791600-1804797000@waverlychurch.org
SUMMARY:Choir Rehearsal in Lounge
DESCRIPTION:
URL:https://waverlychurch.org/event/choir-rehearsal-in-lounge/2027-03-11/
LOCATION:Lounge
END:VEVENT
BEGIN:VEVENT
DTSTART;TZID=America/New_York:20270314T121500
DTEND;TZID=America/New_York:20270314T133000
DTSTAMP:20260421T091923
CREATED:20260305T165302Z
LAST-MODIFIED:20260305T170242Z
UID:10006708-1805026500-1805031000@waverlychurch.org
SUMMARY:Coffee Hour
DESCRIPTION:Join us after service weekly for a chance to share fellowship over coffee and snacks
URL:https://waverlychurch.org/event/coffee-hour-3-2-2-2-2-2/2027-03-14/
LOCATION:Lounge
END:VEVENT
BEGIN:VEVENT
DTSTART;TZID=America/New_York:20270318T190000
DTEND;TZID=America/New_York:20270318T203000
DTSTAMP:20260421T091923
CREATED:20251125T183555Z
LAST-MODIFIED:20251125T183747Z
UID:10132401-1805396400-1805401800@waverlychurch.org
SUMMARY:Choir Rehearsal in Lounge
DESCRIPTION:
URL:https://waverlychurch.org/event/choir-rehearsal-in-lounge/2027-03-18/
LOCATION:Lounge
END:VEVENT
BEGIN:VEVENT
DTSTART;TZID=America/New_York:20270321T121500
DTEND;TZID=America/New_York:20270321T133000
DTSTAMP:20260421T091923
CREATED:20260305T165302Z
LAST-MODIFIED:20260305T170242Z
UID:10006709-1805631300-1805635800@waverlychurch.org
SUMMARY:Coffee Hour
DESCRIPTION:Join us after service weekly for a chance to share fellowship over coffee and snacks
URL:https://waverlychurch.org/event/coffee-hour-3-2-2-2-2-2/2027-03-21/
LOCATION:Lounge
END:VEVENT
BEGIN:VEVENT
DTSTART;TZID=America/New_York:20270325T190000
DTEND;TZID=America/New_York:20270325T203000
DTSTAMP:20260421T091923
CREATED:20251125T183555Z
LAST-MODIFIED:20251125T183747Z
UID:10132402-1806001200-1806006600@waverlychurch.org
SUMMARY:Choir Rehearsal in Lounge
DESCRIPTION:
URL:https://waverlychurch.org/event/choir-rehearsal-in-lounge/2027-03-25/
LOCATION:Lounge
END:VEVENT
BEGIN:VEVENT
DTSTART;TZID=America/New_York:20270328T121500
DTEND;TZID=America/New_York:20270328T133000
DTSTAMP:20260421T091923
CREATED:20260305T165302Z
LAST-MODIFIED:20260305T170242Z
UID:10006710-1806236100-1806240600@waverlychurch.org
SUMMARY:Coffee Hour
DESCRIPTION:Join us after service weekly for a chance to share fellowship over coffee and snacks
URL:https://waverlychurch.org/event/coffee-hour-3-2-2-2-2-2/2027-03-28/
LOCATION:Lounge
END:VEVENT
BEGIN:VEVENT
DTSTART;TZID=America/New_York:20270401T190000
DTEND;TZID=America/New_York:20270401T203000
DTSTAMP:20260421T091923
CREATED:20251125T183555Z
LAST-MODIFIED:20251125T183747Z
UID:10132403-1806606000-1806611400@waverlychurch.org
SUMMARY:Choir Rehearsal in Lounge
DESCRIPTION:
URL:https://waverlychurch.org/event/choir-rehearsal-in-lounge/2027-04-01/
LOCATION:Lounge
END:VEVENT
BEGIN:VEVENT
DTSTART;TZID=America/New_York:20270404T121500
DTEND;TZID=America/New_York:20270404T133000
DTSTAMP:20260421T091923
CREATED:20260305T165302Z
LAST-MODIFIED:20260305T170242Z
UID:10006711-1806840900-1806845400@waverlychurch.org
SUMMARY:Coffee Hour
DESCRIPTION:Join us after service weekly for a chance to share fellowship over coffee and snacks
URL:https://waverlychurch.org/event/coffee-hour-3-2-2-2-2-2/2027-04-04/
LOCATION:Lounge
END:VEVENT
BEGIN:VEVENT
DTSTART;TZID=America/New_York:20270408T190000
DTEND;TZID=America/New_York:20270408T203000
DTSTAMP:20260421T091923
CREATED:20251125T183555Z
LAST-MODIFIED:20251125T183747Z
UID:10132404-1807210800-1807216200@waverlychurch.org
SUMMARY:Choir Rehearsal in Lounge
DESCRIPTION:
URL:https://waverlychurch.org/event/choir-rehearsal-in-lounge/2027-04-08/
LOCATION:Lounge
END:VEVENT
END:VCALENDAR