BEGIN:VCALENDAR
VERSION:2.0
PRODID:-//Waverly Presbyterian Church - ECPv6.15.20//NONSGML v1.0//EN
CALSCALE:GREGORIAN
METHOD:PUBLISH
X-WR-CALNAME:Waverly Presbyterian Church
X-ORIGINAL-URL:https://waverlychurch.org
X-WR-CALDESC:Events for Waverly Presbyterian Church
REFRESH-INTERVAL;VALUE=DURATION:PT1H
X-Robots-Tag:noindex
X-PUBLISHED-TTL:PT1H
BEGIN:VTIMEZONE
TZID:America/New_York
BEGIN:DAYLIGHT
TZOFFSETFROM:-0500
TZOFFSETTO:-0400
TZNAME:EDT
DTSTART:20250309T070000
END:DAYLIGHT
BEGIN:STANDARD
TZOFFSETFROM:-0400
TZOFFSETTO:-0500
TZNAME:EST
DTSTART:20251102T060000
END:STANDARD
BEGIN:DAYLIGHT
TZOFFSETFROM:-0500
TZOFFSETTO:-0400
TZNAME:EDT
DTSTART:20260308T070000
END:DAYLIGHT
BEGIN:STANDARD
TZOFFSETFROM:-0400
TZOFFSETTO:-0500
TZNAME:EST
DTSTART:20261101T060000
END:STANDARD
BEGIN:DAYLIGHT
TZOFFSETFROM:-0500
TZOFFSETTO:-0400
TZNAME:EDT
DTSTART:20270314T070000
END:DAYLIGHT
BEGIN:STANDARD
TZOFFSETFROM:-0400
TZOFFSETTO:-0500
TZNAME:EST
DTSTART:20271107T060000
END:STANDARD
END:VTIMEZONE
BEGIN:VEVENT
DTSTART;TZID=America/New_York:20260419T193000
DTEND;TZID=America/New_York:20260419T210000
DTSTAMP:20260420T045635
CREATED:20190310T184702Z
LAST-MODIFIED:20220704T145322Z
UID:10000683-1776627000-1776632400@waverlychurch.org
SUMMARY:Alcoholics Anonymous
DESCRIPTION:The Frick Park Group of Alcoholics Anonymous is holding in-person meetings in the Social Hall. \nAdditional links for AA groups are posted online at the AA Central Office.\nhttps://www.pghaa.org/
URL:https://waverlychurch.org/event/aa-2020-03-22-2021-07-04/2026-04-19/
LOCATION:Social Hall
END:VEVENT
BEGIN:VEVENT
DTSTART;TZID=America/New_York:20260414T190000
DTEND;TZID=America/New_York:20260414T193000
DTSTAMP:20260420T045635
CREATED:20210711T201005Z
LAST-MODIFIED:20220704T150145Z
UID:10000331-1776193200-1776195000@waverlychurch.org
SUMMARY:Al-Anon [Beginners' Meeting]
DESCRIPTION:The Frick Park Al-Anon group may still be virtual. \nContact frickparkafg85[at]gmail.com with any questions.
URL:https://waverlychurch.org/event/al-anon-beginners-meeting-2022-01-04-2022-04-05/2026-04-14/
LOCATION:Social Hall
END:VEVENT
BEGIN:VEVENT
DTSTART;TZID=America/New_York:20260412T193000
DTEND;TZID=America/New_York:20260412T210000
DTSTAMP:20260420T045635
CREATED:20190310T184702Z
LAST-MODIFIED:20220704T145322Z
UID:10000682-1776022200-1776027600@waverlychurch.org
SUMMARY:Alcoholics Anonymous
DESCRIPTION:The Frick Park Group of Alcoholics Anonymous is holding in-person meetings in the Social Hall. \nAdditional links for AA groups are posted online at the AA Central Office.\nhttps://www.pghaa.org/
URL:https://waverlychurch.org/event/aa-2020-03-22-2021-07-04/2026-04-12/
LOCATION:Social Hall
END:VEVENT
BEGIN:VEVENT
DTSTART;TZID=America/New_York:20260407T190000
DTEND;TZID=America/New_York:20260407T193000
DTSTAMP:20260420T045635
CREATED:20210711T201005Z
LAST-MODIFIED:20220704T150145Z
UID:10000330-1775588400-1775590200@waverlychurch.org
SUMMARY:Al-Anon [Beginners' Meeting]
DESCRIPTION:The Frick Park Al-Anon group may still be virtual. \nContact frickparkafg85[at]gmail.com with any questions.
URL:https://waverlychurch.org/event/al-anon-beginners-meeting-2022-01-04-2022-04-05/2026-04-07/
LOCATION:Social Hall
END:VEVENT
BEGIN:VEVENT
DTSTART;TZID=America/New_York:20260405T193000
DTEND;TZID=America/New_York:20260405T210000
DTSTAMP:20260420T045635
CREATED:20190310T184702Z
LAST-MODIFIED:20220704T145322Z
UID:10000681-1775417400-1775422800@waverlychurch.org
SUMMARY:Alcoholics Anonymous
DESCRIPTION:The Frick Park Group of Alcoholics Anonymous is holding in-person meetings in the Social Hall. \nAdditional links for AA groups are posted online at the AA Central Office.\nhttps://www.pghaa.org/
URL:https://waverlychurch.org/event/aa-2020-03-22-2021-07-04/2026-04-05/
LOCATION:Social Hall
END:VEVENT
BEGIN:VEVENT
DTSTART;TZID=America/New_York:20260402T180000
DTEND;TZID=America/New_York:20260402T200000
DTSTAMP:20260420T045635
CREATED:20260210T172818Z
LAST-MODIFIED:20260210T172818Z
UID:10133013-1775152800-1775160000@waverlychurch.org
SUMMARY:Maundy Thursday - Pot Luck Dinner
DESCRIPTION:
URL:https://waverlychurch.org/event/maundy-thursday-pot-luck-dinner/
LOCATION:Social Hall
END:VEVENT
BEGIN:VEVENT
DTSTART;TZID=America/New_York:20260331T190000
DTEND;TZID=America/New_York:20260331T193000
DTSTAMP:20260420T045635
CREATED:20210711T201005Z
LAST-MODIFIED:20220704T150145Z
UID:10000329-1774983600-1774985400@waverlychurch.org
SUMMARY:Al-Anon [Beginners' Meeting]
DESCRIPTION:The Frick Park Al-Anon group may still be virtual. \nContact frickparkafg85[at]gmail.com with any questions.
URL:https://waverlychurch.org/event/al-anon-beginners-meeting-2022-01-04-2022-04-05/2026-03-31/
LOCATION:Social Hall
END:VEVENT
BEGIN:VEVENT
DTSTART;TZID=America/New_York:20260329T193000
DTEND;TZID=America/New_York:20260329T210000
DTSTAMP:20260420T045635
CREATED:20190310T184702Z
LAST-MODIFIED:20220704T145322Z
UID:10000680-1774812600-1774818000@waverlychurch.org
SUMMARY:Alcoholics Anonymous
DESCRIPTION:The Frick Park Group of Alcoholics Anonymous is holding in-person meetings in the Social Hall. \nAdditional links for AA groups are posted online at the AA Central Office.\nhttps://www.pghaa.org/
URL:https://waverlychurch.org/event/aa-2020-03-22-2021-07-04/2026-03-29/
LOCATION:Social Hall
END:VEVENT
BEGIN:VEVENT
DTSTART;TZID=America/New_York:20260329T120000
DTEND;TZID=America/New_York:20260329T140000
DTSTAMP:20260420T045635
CREATED:20260305T165438Z
LAST-MODIFIED:20260305T165457Z
UID:10133040-1774785600-1774792800@waverlychurch.org
SUMMARY:Palm Sunday Brunch-Social Hall
DESCRIPTION:
URL:https://waverlychurch.org/event/palm-sunday-brunch/
LOCATION:Social Hall
END:VEVENT
BEGIN:VEVENT
DTSTART;TZID=America/New_York:20260324T190000
DTEND;TZID=America/New_York:20260324T193000
DTSTAMP:20260420T045635
CREATED:20210711T201005Z
LAST-MODIFIED:20220704T150145Z
UID:10000328-1774378800-1774380600@waverlychurch.org
SUMMARY:Al-Anon [Beginners' Meeting]
DESCRIPTION:The Frick Park Al-Anon group may still be virtual. \nContact frickparkafg85[at]gmail.com with any questions.
URL:https://waverlychurch.org/event/al-anon-beginners-meeting-2022-01-04-2022-04-05/2026-03-24/
LOCATION:Social Hall
END:VEVENT
BEGIN:VEVENT
DTSTART;TZID=America/New_York:20260322T193000
DTEND;TZID=America/New_York:20260322T210000
DTSTAMP:20260420T045635
CREATED:20190310T184702Z
LAST-MODIFIED:20220704T145322Z
UID:10000679-1774207800-1774213200@waverlychurch.org
SUMMARY:Alcoholics Anonymous
DESCRIPTION:The Frick Park Group of Alcoholics Anonymous is holding in-person meetings in the Social Hall. \nAdditional links for AA groups are posted online at the AA Central Office.\nhttps://www.pghaa.org/
URL:https://waverlychurch.org/event/aa-2020-03-22-2021-07-04/2026-03-22/
LOCATION:Social Hall
END:VEVENT
BEGIN:VEVENT
DTSTART;TZID=America/New_York:20260319T103000
DTEND;TZID=America/New_York:20260319T140000
DTSTAMP:20260420T045635
CREATED:20241211T164945Z
LAST-MODIFIED:20241211T164945Z
UID:10008605-1773916200-1773928800@waverlychurch.org
SUMMARY:Reiki with Bob Dove and Ross Marshall
DESCRIPTION:
URL:https://waverlychurch.org/event/reiki-with-bob-dove-and-ross-marshall-2/2026-03-19/
LOCATION:Social Hall
END:VEVENT
BEGIN:VEVENT
DTSTART;TZID=America/New_York:20260317T190000
DTEND;TZID=America/New_York:20260317T193000
DTSTAMP:20260420T045635
CREATED:20210711T201005Z
LAST-MODIFIED:20220704T150145Z
UID:10000327-1773774000-1773775800@waverlychurch.org
SUMMARY:Al-Anon [Beginners' Meeting]
DESCRIPTION:The Frick Park Al-Anon group may still be virtual. \nContact frickparkafg85[at]gmail.com with any questions.
URL:https://waverlychurch.org/event/al-anon-beginners-meeting-2022-01-04-2022-04-05/2026-03-17/
LOCATION:Social Hall
END:VEVENT
BEGIN:VEVENT
DTSTART;TZID=America/New_York:20260316T190000
DTEND;TZID=America/New_York:20260316T210000
DTSTAMP:20260420T045635
CREATED:20260224T162212Z
LAST-MODIFIED:20260224T162212Z
UID:10133016-1773687600-1773694800@waverlychurch.org
SUMMARY:Death Cafe - Social Hall
DESCRIPTION: Death Cafe is a group discussion about death\, with no agenda\, objectives or themes. It is not a grief support or counseling session. You’ll be seated in small informal groups with random strangers to discuss what you all think about death. While not a religious event\, this opportunity is ripe for personal spiritual exploration. Space is limited so please reserve your spot here ASAP.
URL:https://waverlychurch.org/event/death-cafe-social-hall/
LOCATION:Social Hall
END:VEVENT
BEGIN:VEVENT
DTSTART;TZID=America/New_York:20260315T193000
DTEND;TZID=America/New_York:20260315T210000
DTSTAMP:20260420T045635
CREATED:20190310T184702Z
LAST-MODIFIED:20220704T145322Z
UID:10000678-1773603000-1773608400@waverlychurch.org
SUMMARY:Alcoholics Anonymous
DESCRIPTION:The Frick Park Group of Alcoholics Anonymous is holding in-person meetings in the Social Hall. \nAdditional links for AA groups are posted online at the AA Central Office.\nhttps://www.pghaa.org/
URL:https://waverlychurch.org/event/aa-2020-03-22-2021-07-04/2026-03-15/
LOCATION:Social Hall
END:VEVENT
BEGIN:VEVENT
DTSTART;TZID=America/New_York:20260310T190000
DTEND;TZID=America/New_York:20260310T193000
DTSTAMP:20260420T045635
CREATED:20210711T201005Z
LAST-MODIFIED:20220704T150145Z
UID:10000326-1773169200-1773171000@waverlychurch.org
SUMMARY:Al-Anon [Beginners' Meeting]
DESCRIPTION:The Frick Park Al-Anon group may still be virtual. \nContact frickparkafg85[at]gmail.com with any questions.
URL:https://waverlychurch.org/event/al-anon-beginners-meeting-2022-01-04-2022-04-05/2026-03-10/
LOCATION:Social Hall
END:VEVENT
BEGIN:VEVENT
DTSTART;TZID=America/New_York:20260308T193000
DTEND;TZID=America/New_York:20260308T210000
DTSTAMP:20260420T045635
CREATED:20190310T184702Z
LAST-MODIFIED:20220704T145322Z
UID:10000677-1772998200-1773003600@waverlychurch.org
SUMMARY:Alcoholics Anonymous
DESCRIPTION:The Frick Park Group of Alcoholics Anonymous is holding in-person meetings in the Social Hall. \nAdditional links for AA groups are posted online at the AA Central Office.\nhttps://www.pghaa.org/
URL:https://waverlychurch.org/event/aa-2020-03-22-2021-07-04/2026-03-08/
LOCATION:Social Hall
END:VEVENT
BEGIN:VEVENT
DTSTART;TZID=America/New_York:20260306T180000
DTEND;TZID=America/New_York:20260306T200000
DTSTAMP:20260420T045635
CREATED:20260212T153746Z
LAST-MODIFIED:20260212T153747Z
UID:10129195-1772820000-1772827200@waverlychurch.org
SUMMARY:First Friday Fellowship
DESCRIPTION:
URL:https://waverlychurch.org/event/first-friday-fellowship-2-2/2026-03-06/
LOCATION:Social Hall
END:VEVENT
BEGIN:VEVENT
DTSTART;TZID=America/New_York:20260303T190000
DTEND;TZID=America/New_York:20260303T193000
DTSTAMP:20260420T045635
CREATED:20210711T201005Z
LAST-MODIFIED:20220704T150145Z
UID:10000325-1772564400-1772566200@waverlychurch.org
SUMMARY:Al-Anon [Beginners' Meeting]
DESCRIPTION:The Frick Park Al-Anon group may still be virtual. \nContact frickparkafg85[at]gmail.com with any questions.
URL:https://waverlychurch.org/event/al-anon-beginners-meeting-2022-01-04-2022-04-05/2026-03-03/
LOCATION:Social Hall
END:VEVENT
BEGIN:VEVENT
DTSTART;TZID=America/New_York:20260302T173000
DTEND;TZID=America/New_York:20260302T193000
DTSTAMP:20260420T045635
CREATED:20260127T183609Z
LAST-MODIFIED:20260210T195554Z
UID:10132992-1772472600-1772479800@waverlychurch.org
SUMMARY:Inter-Faith Potluck Iftar Dinner - Social Hall
DESCRIPTION:
URL:https://waverlychurch.org/event/iftar-dinner-social-hall/
LOCATION:Social Hall
END:VEVENT
BEGIN:VEVENT
DTSTART;TZID=America/New_York:20260301T193000
DTEND;TZID=America/New_York:20260301T210000
DTSTAMP:20260420T045635
CREATED:20190310T184702Z
LAST-MODIFIED:20220704T145322Z
UID:10000676-1772393400-1772398800@waverlychurch.org
SUMMARY:Alcoholics Anonymous
DESCRIPTION:The Frick Park Group of Alcoholics Anonymous is holding in-person meetings in the Social Hall. \nAdditional links for AA groups are posted online at the AA Central Office.\nhttps://www.pghaa.org/
URL:https://waverlychurch.org/event/aa-2020-03-22-2021-07-04/2026-03-01/
LOCATION:Social Hall
END:VEVENT
BEGIN:VEVENT
DTSTART;TZID=America/New_York:20260224T190000
DTEND;TZID=America/New_York:20260224T193000
DTSTAMP:20260420T045635
CREATED:20210711T201005Z
LAST-MODIFIED:20220704T150145Z
UID:10000324-1771959600-1771961400@waverlychurch.org
SUMMARY:Al-Anon [Beginners' Meeting]
DESCRIPTION:The Frick Park Al-Anon group may still be virtual. \nContact frickparkafg85[at]gmail.com with any questions.
URL:https://waverlychurch.org/event/al-anon-beginners-meeting-2022-01-04-2022-04-05/2026-02-24/
LOCATION:Social Hall
END:VEVENT
BEGIN:VEVENT
DTSTART;TZID=America/New_York:20260222T193000
DTEND;TZID=America/New_York:20260222T210000
DTSTAMP:20260420T045635
CREATED:20190310T184702Z
LAST-MODIFIED:20220704T145322Z
UID:10000675-1771788600-1771794000@waverlychurch.org
SUMMARY:Alcoholics Anonymous
DESCRIPTION:The Frick Park Group of Alcoholics Anonymous is holding in-person meetings in the Social Hall. \nAdditional links for AA groups are posted online at the AA Central Office.\nhttps://www.pghaa.org/
URL:https://waverlychurch.org/event/aa-2020-03-22-2021-07-04/2026-02-22/
LOCATION:Social Hall
END:VEVENT
BEGIN:VEVENT
DTSTART;TZID=America/New_York:20260219T103000
DTEND;TZID=America/New_York:20260219T140000
DTSTAMP:20260420T045635
CREATED:20241211T164945Z
LAST-MODIFIED:20241211T164945Z
UID:10008604-1771497000-1771509600@waverlychurch.org
SUMMARY:Reiki with Bob Dove and Ross Marshall
DESCRIPTION:
URL:https://waverlychurch.org/event/reiki-with-bob-dove-and-ross-marshall-2/2026-02-19/
LOCATION:Social Hall
END:VEVENT
BEGIN:VEVENT
DTSTART;TZID=America/New_York:20260217T190000
DTEND;TZID=America/New_York:20260217T193000
DTSTAMP:20260420T045635
CREATED:20210711T201005Z
LAST-MODIFIED:20220704T150145Z
UID:10000323-1771354800-1771356600@waverlychurch.org
SUMMARY:Al-Anon [Beginners' Meeting]
DESCRIPTION:The Frick Park Al-Anon group may still be virtual. \nContact frickparkafg85[at]gmail.com with any questions.
URL:https://waverlychurch.org/event/al-anon-beginners-meeting-2022-01-04-2022-04-05/2026-02-17/
LOCATION:Social Hall
END:VEVENT
BEGIN:VEVENT
DTSTART;TZID=America/New_York:20260215T193000
DTEND;TZID=America/New_York:20260215T210000
DTSTAMP:20260420T045635
CREATED:20190310T184702Z
LAST-MODIFIED:20220704T145322Z
UID:10000674-1771183800-1771189200@waverlychurch.org
SUMMARY:Alcoholics Anonymous
DESCRIPTION:The Frick Park Group of Alcoholics Anonymous is holding in-person meetings in the Social Hall. \nAdditional links for AA groups are posted online at the AA Central Office.\nhttps://www.pghaa.org/
URL:https://waverlychurch.org/event/aa-2020-03-22-2021-07-04/2026-02-15/
LOCATION:Social Hall
END:VEVENT
BEGIN:VEVENT
DTSTART;TZID=America/New_York:20260213T110000
DTEND;TZID=America/New_York:20260213T120000
DTSTAMP:20260420T045635
CREATED:20260129T174714Z
LAST-MODIFIED:20260129T174716Z
UID:10132312-1770980400-1770984000@waverlychurch.org
SUMMARY:Tai Chi - Winter Session 2026
DESCRIPTION:Contact Laura at laurakbudde@gmail.com or 618-210-3672.
URL:https://waverlychurch.org/event/tai-chi-winter-session-2026-2/2026-02-13/
LOCATION:Social Hall
END:VEVENT
BEGIN:VEVENT
DTSTART;TZID=America/New_York:20260210T190000
DTEND;TZID=America/New_York:20260210T193000
DTSTAMP:20260420T045635
CREATED:20210711T201005Z
LAST-MODIFIED:20220704T150145Z
UID:10000322-1770750000-1770751800@waverlychurch.org
SUMMARY:Al-Anon [Beginners' Meeting]
DESCRIPTION:The Frick Park Al-Anon group may still be virtual. \nContact frickparkafg85[at]gmail.com with any questions.
URL:https://waverlychurch.org/event/al-anon-beginners-meeting-2022-01-04-2022-04-05/2026-02-10/
LOCATION:Social Hall
END:VEVENT
BEGIN:VEVENT
DTSTART;TZID=America/New_York:20260208T193000
DTEND;TZID=America/New_York:20260208T210000
DTSTAMP:20260420T045635
CREATED:20190310T184702Z
LAST-MODIFIED:20220704T145322Z
UID:10000673-1770579000-1770584400@waverlychurch.org
SUMMARY:Alcoholics Anonymous
DESCRIPTION:The Frick Park Group of Alcoholics Anonymous is holding in-person meetings in the Social Hall. \nAdditional links for AA groups are posted online at the AA Central Office.\nhttps://www.pghaa.org/
URL:https://waverlychurch.org/event/aa-2020-03-22-2021-07-04/2026-02-08/
LOCATION:Social Hall
END:VEVENT
BEGIN:VEVENT
DTSTART;TZID=America/New_York:20260206T180000
DTEND;TZID=America/New_York:20260206T200000
DTSTAMP:20260420T045635
CREATED:20251211T163555Z
LAST-MODIFIED:20251211T164158Z
UID:10129194-1770400800-1770408000@waverlychurch.org
SUMMARY:First Friday Fellowship
DESCRIPTION:
URL:https://waverlychurch.org/event/first-friday-fellowship-2/
LOCATION:Social Hall
END:VEVENT
END:VCALENDAR